BEGIN:VCALENDAR
VERSION:2.0
PRODID:-//jEvents 2.0 for Joomla//EN
CALSCALE:GREGORIAN
METHOD:PUBLISH
BEGIN:VTIMEZONE
TZID:Europe/Paris
BEGIN:STANDARD
DTSTART:20160108T000000
RDATE:20160327T030000
TZOFFSETFROM:+0200
TZOFFSETTO:+0100
TZNAME:Europe/Paris CET
END:STANDARD
BEGIN:STANDARD
DTSTART:20161030T020000
RDATE:20170326T030000
TZOFFSETFROM:+0200
TZOFFSETTO:+0100
TZNAME:Europe/Paris CET
END:STANDARD
BEGIN:STANDARD
DTSTART:20171029T020000
RDATE:20180325T030000
TZOFFSETFROM:+0200
TZOFFSETTO:+0100
TZNAME:Europe/Paris CET
END:STANDARD
BEGIN:STANDARD
DTSTART:20181028T020000
RDATE:20190331T030000
TZOFFSETFROM:+0200
TZOFFSETTO:+0100
TZNAME:Europe/Paris CET
END:STANDARD
BEGIN:STANDARD
DTSTART:20191027T020000
RDATE:20200329T030000
TZOFFSETFROM:+0200
TZOFFSETTO:+0100
TZNAME:Europe/Paris CET
END:STANDARD
BEGIN:STANDARD
DTSTART:20201025T020000
RDATE:20210328T030000
TZOFFSETFROM:+0200
TZOFFSETTO:+0100
TZNAME:Europe/Paris CET
END:STANDARD
BEGIN:STANDARD
DTSTART:20211031T020000
RDATE:20220327T030000
TZOFFSETFROM:+0200
TZOFFSETTO:+0100
TZNAME:Europe/Paris CET
END:STANDARD
BEGIN:STANDARD
DTSTART:20221030T020000
RDATE:20230326T030000
TZOFFSETFROM:+0200
TZOFFSETTO:+0100
TZNAME:Europe/Paris CET
END:STANDARD
BEGIN:STANDARD
DTSTART:20231029T020000
RDATE:20240331T030000
TZOFFSETFROM:+0200
TZOFFSETTO:+0100
TZNAME:Europe/Paris CET
END:STANDARD
BEGIN:STANDARD
DTSTART:20241027T020000
RDATE:20250330T030000
TZOFFSETFROM:+0200
TZOFFSETTO:+0100
TZNAME:Europe/Paris CET
END:STANDARD
BEGIN:STANDARD
DTSTART:20251026T020000
RDATE:20260329T030000
TZOFFSETFROM:+0200
TZOFFSETTO:+0100
TZNAME:Europe/Paris CET
END:STANDARD
BEGIN:STANDARD
DTSTART:20261025T020000
RDATE:20270328T030000
TZOFFSETFROM:+0200
TZOFFSETTO:+0100
TZNAME:Europe/Paris CET
END:STANDARD
BEGIN:DAYLIGHT
DTSTART:20160327T030000
RDATE:20161030T020000
TZOFFSETFROM:+0100
TZOFFSETTO:+0200
TZNAME:Europe/Paris CEST
END:DAYLIGHT
BEGIN:DAYLIGHT
DTSTART:20170326T030000
RDATE:20171029T020000
TZOFFSETFROM:+0100
TZOFFSETTO:+0200
TZNAME:Europe/Paris CEST
END:DAYLIGHT
BEGIN:DAYLIGHT
DTSTART:20180325T030000
RDATE:20181028T020000
TZOFFSETFROM:+0100
TZOFFSETTO:+0200
TZNAME:Europe/Paris CEST
END:DAYLIGHT
BEGIN:DAYLIGHT
DTSTART:20190331T030000
RDATE:20191027T020000
TZOFFSETFROM:+0100
TZOFFSETTO:+0200
TZNAME:Europe/Paris CEST
END:DAYLIGHT
BEGIN:DAYLIGHT
DTSTART:20200329T030000
RDATE:20201025T020000
TZOFFSETFROM:+0100
TZOFFSETTO:+0200
TZNAME:Europe/Paris CEST
END:DAYLIGHT
BEGIN:DAYLIGHT
DTSTART:20210328T030000
RDATE:20211031T020000
TZOFFSETFROM:+0100
TZOFFSETTO:+0200
TZNAME:Europe/Paris CEST
END:DAYLIGHT
BEGIN:DAYLIGHT
DTSTART:20220327T030000
RDATE:20221030T020000
TZOFFSETFROM:+0100
TZOFFSETTO:+0200
TZNAME:Europe/Paris CEST
END:DAYLIGHT
BEGIN:DAYLIGHT
DTSTART:20230326T030000
RDATE:20231029T020000
TZOFFSETFROM:+0100
TZOFFSETTO:+0200
TZNAME:Europe/Paris CEST
END:DAYLIGHT
BEGIN:DAYLIGHT
DTSTART:20240331T030000
RDATE:20241027T020000
TZOFFSETFROM:+0100
TZOFFSETTO:+0200
TZNAME:Europe/Paris CEST
END:DAYLIGHT
BEGIN:DAYLIGHT
DTSTART:20250330T030000
RDATE:20251026T020000
TZOFFSETFROM:+0100
TZOFFSETTO:+0200
TZNAME:Europe/Paris CEST
END:DAYLIGHT
BEGIN:DAYLIGHT
DTSTART:20260329T030000
RDATE:20261025T020000
TZOFFSETFROM:+0100
TZOFFSETTO:+0200
TZNAME:Europe/Paris CEST
END:DAYLIGHT
END:VTIMEZONE
BEGIN:VEVENT
UID:fe23f2393a8bfd8a9f33dc194c506016
CATEGORIES:Circuit Alsace Jeunes (alpin)
CREATED:20161202T134851
SUMMARY:CAJ Coupe de bronze et micro Prix Clinique du Ski et Crédit Agricole **REPORTE**
URL;VALUE=URI:https://skivosges.net/agenda/export-synchronisation/detailevenement/663/-/c
 aj-coupe-de-bronze-et-micro-prix-clinique-du-ski-et-credit-agricole-reporte
 ?tmpl=component
DESCRIPTION:<!-- #gskiepreuve code généré par le plugin jevents pour GskiEpreuves. Ne p
 as modifier cette ligne, ni tout le contenu suivant  #gskiepreuve --><div c
 lass="gski-evenement_infos"><div class="gski-evenement-nom">CAJ Coupe de br
 onze et micro Prix Clinique du Ski et Crédit Agricole</div><div class="gski
 -evenement-report"> <font class="gskiattention">(Epreuve reportée)</font></
 div><ul class="gski-evenement-liste-infos"><li>Codex évenement AMVT0110</li
 ><li>Circuit : Coupe d'Alsace Jeunes</li><li>Lieu : MARKSTEIN</li><li>Stati
 on : MARKSTEIN</li><li>Organisateur : 14231 SKI CLUB SAUSHEIM</li><li>Courr
 iel : <!-- Cette adresse électronique est protégée contre les robots spamme
 urs. --><span class="cloaked_email ep_bf2eb9d5"><span data-ep-b="" data-ep-
 a="&#98;&#46;&#104;&#97;"><span data-ep-b="&#111;.&#102;&#114;" data-ep-a="
 &#98;e&#114;e"><span data-ep-a="&#114;&#64;&#119;a" data-ep-b="&#110;&#97;&
 #100;o"></span></span></span></span><script>RegularLabs.EmailProtector.unCl
 oak("ep_bf2eb9d5");</script></li><li>Téléphone : 06.76.97.40.91</li></ul><d
 iv class="gski-evenement-infos-2"><div class="gski-evenement-info-inscripti
 ons"><div class="gski-evenement-inscriptions-periodes">Période d'inscriptio
 n à l'evènement du dimanche 01 janvier 2017 à 01:00 au vendredi 06 janvier 
 2017 à 13:00 <span class="gski-evenement-inscriptions-impossibles">(Inscrip
 tions impossibles).</span><div class="gski-evenement-inscriptions-types-tit
 res">Le type de titres Fédéraux autorisé n'est pas défini. Veuillez contact
 er l'organisateur et lui signaler le problème.</div></div></div><div class=
 "gski-evenement-epreuves"><div class="gski-evenement-epreuves-titres">Epreu
 ves :</div><ul class="gski-evenement-epreuves-list"><li><div class="gski-ep
 reuve-date">Le dimanche 08 janvier 2017</div><ul class="gski-epreuve-liste-
 infos"><li>Codex épreuve AMVM0111</li><li>Slalom</li><li>Circuit : Coupe d'
 Alsace Jeunes</li></ul></li><li><div class="gski-epreuve-date">Le dimanche 
 08 janvier 2017</div><ul class="gski-epreuve-liste-infos"><li>Codex épreuve
  AMVF0111</li><li>Slalom</li><li>Circuit : Coupe d'Alsace Jeunes</li></ul><
 /li><li><div class="gski-epreuve-date">Le dimanche 08 janvier 2017</div><ul
  class="gski-epreuve-liste-infos"><li>Codex épreuve AMVM0112</li><li>Slalom
 </li><li>Circuit : Coupe d'Alsace Jeunes</li></ul></li><li><div class="gski
 -epreuve-date">Le dimanche 08 janvier 2017</div><ul class="gski-epreuve-lis
 te-infos"><li>Codex épreuve AMVF0112</li><li>Slalom</li><li>Circuit : Coupe
  d'Alsace Jeunes</li></ul></li><li><div class="gski-epreuve-date">Le dimanc
 he 08 janvier 2017</div><ul class="gski-epreuve-liste-infos"><li>Codex épre
 uve AMVM0113</li><li>Slalom</li><li>Circuit : Coupe d'Alsace Jeunes</li></u
 l></li><li><div class="gski-epreuve-date">Le dimanche 08 janvier 2017</div>
 <ul class="gski-epreuve-liste-infos"><li>Codex épreuve AMVF0113</li><li>Sla
 lom</li><li>Circuit : Coupe d'Alsace Jeunes</li></ul></li></ul></div><div c
 lass="gskiepreuves-links"><ul><li><a href="/index.php?option=com_jevents&ta
 sk=icalevent.detail&evid=658&Itemid=6283">Voir les informations dans l'agen
 da...</a></li><li><a href="/index.php?option=com_gskiepreuves&view=afficher
 esultats&format_option=tous&filter[search]=AMVT0110&filter[date_debut]=12-0
 2-2017&filter[date_fin]=12-02-2017&code_activite=ALP&Itemid=6283">Vers les 
 résultats...</a></li></ul></div></div"><!-- #/gskiepreuve fin du dode génér
 é par le plugin jevents pour GskiEpreuves. . Ne pas modifier cette ligne, n
 i tout le contenu précedant.  #/gskiepreuve --> <a href="https://skivosges.
 net/agenda/export-synchronisation/detailevenement/663/-/caj-coupe-de-bronze
 -et-micro-prix-clinique-du-ski-et-credit-agricole-reporte?tmpl=component">C
 et évènement a été importé depuis :https://skivosges.net/agenda/export-sync
 hronisation/detailevenement/663/-/caj-coupe-de-bronze-et-micro-prix-cliniqu
 e-du-ski-et-credit-agricole-reporte?tmpl=component</a>
X-ALT-DESC;FMTTYPE=text/html:<!-- #gskiepreuve code généré par le plugin jevents pour GskiEpreuves. Ne p
 as modifier cette ligne, ni tout le contenu suivant  #gskiepreuve --><div c
 lass="gski-evenement_infos"><div class="gski-evenement-nom">CAJ Coupe de br
 onze et micro Prix Clinique du Ski et Crédit Agricole</div><div class="gski
 -evenement-report"> <font class="gskiattention">(Epreuve reportée)</font></
 div><ul class="gski-evenement-liste-infos"><li>Codex évenement AMVT0110</li
 ><li>Circuit : Coupe d'Alsace Jeunes</li><li>Lieu : MARKSTEIN</li><li>Stati
 on : MARKSTEIN</li><li>Organisateur : 14231 SKI CLUB SAUSHEIM</li><li>Courr
 iel : <!-- Cette adresse électronique est protégée contre les robots spamme
 urs. --><span class="cloaked_email ep_bf2eb9d5"><span data-ep-b="" data-ep-
 a="&#98;&#46;&#104;&#97;"><span data-ep-b="&#111;.&#102;&#114;" data-ep-a="
 &#98;e&#114;e"><span data-ep-a="&#114;&#64;&#119;a" data-ep-b="&#110;&#97;&
 #100;o"></span></span></span></span><script>RegularLabs.EmailProtector.unCl
 oak("ep_bf2eb9d5");</script></li><li>Téléphone : 06.76.97.40.91</li></ul><d
 iv class="gski-evenement-infos-2"><div class="gski-evenement-info-inscripti
 ons"><div class="gski-evenement-inscriptions-periodes">Période d'inscriptio
 n à l'evènement du dimanche 01 janvier 2017 à 01:00 au vendredi 06 janvier 
 2017 à 13:00 <span class="gski-evenement-inscriptions-impossibles">(Inscrip
 tions impossibles).</span><div class="gski-evenement-inscriptions-types-tit
 res">Le type de titres Fédéraux autorisé n'est pas défini. Veuillez contact
 er l'organisateur et lui signaler le problème.</div></div></div><div class=
 "gski-evenement-epreuves"><div class="gski-evenement-epreuves-titres">Epreu
 ves :</div><ul class="gski-evenement-epreuves-list"><li><div class="gski-ep
 reuve-date">Le dimanche 08 janvier 2017</div><ul class="gski-epreuve-liste-
 infos"><li>Codex épreuve AMVM0111</li><li>Slalom</li><li>Circuit : Coupe d'
 Alsace Jeunes</li></ul></li><li><div class="gski-epreuve-date">Le dimanche 
 08 janvier 2017</div><ul class="gski-epreuve-liste-infos"><li>Codex épreuve
  AMVF0111</li><li>Slalom</li><li>Circuit : Coupe d'Alsace Jeunes</li></ul><
 /li><li><div class="gski-epreuve-date">Le dimanche 08 janvier 2017</div><ul
  class="gski-epreuve-liste-infos"><li>Codex épreuve AMVM0112</li><li>Slalom
 </li><li>Circuit : Coupe d'Alsace Jeunes</li></ul></li><li><div class="gski
 -epreuve-date">Le dimanche 08 janvier 2017</div><ul class="gski-epreuve-lis
 te-infos"><li>Codex épreuve AMVF0112</li><li>Slalom</li><li>Circuit : Coupe
  d'Alsace Jeunes</li></ul></li><li><div class="gski-epreuve-date">Le dimanc
 he 08 janvier 2017</div><ul class="gski-epreuve-liste-infos"><li>Codex épre
 uve AMVM0113</li><li>Slalom</li><li>Circuit : Coupe d'Alsace Jeunes</li></u
 l></li><li><div class="gski-epreuve-date">Le dimanche 08 janvier 2017</div>
 <ul class="gski-epreuve-liste-infos"><li>Codex épreuve AMVF0113</li><li>Sla
 lom</li><li>Circuit : Coupe d'Alsace Jeunes</li></ul></li></ul></div><div c
 lass="gskiepreuves-links"><ul><li><a href="https://skivosges.net/index.php?
 option=com_jevents&task=icalevent.detail&evid=658&Itemid=6283">Voir les inf
 ormations dans l'agenda...</a></li><li><a href="https://skivosges.net/index
 .php?option=com_gskiepreuves&view=afficheresultats&format_option=tous&filte
 r[search]=AMVT0110&filter[date_debut]=12-02-2017&filter[date_fin]=12-02-201
 7&code_activite=ALP&Itemid=6283">Vers les résultats...</a></li></ul></div><
 /div"><!-- #/gskiepreuve fin du dode généré par le plugin jevents pour Gski
 Epreuves. . Ne pas modifier cette ligne, ni tout le contenu précedant.  #/g
 skiepreuve --> <a href="https://skivosges.net/agenda/export-synchronisation
 /detailevenement/663/-/caj-coupe-de-bronze-et-micro-prix-clinique-du-ski-et
 -credit-agricole-reporte?tmpl=component">Cet évènement a été importé depuis
  :https://skivosges.net/agenda/export-synchronisation/detailevenement/663/-
 /caj-coupe-de-bronze-et-micro-prix-clinique-du-ski-et-credit-agricole-repor
 te?tmpl=component</a>DTSTAMP:20260420T184114
DTSTART;TZID=Europe/Paris;VALUE=DATE:20170108
DTEND;TZID=Europe/Paris;VALUE=DATE:20170109
SEQUENCE:0
TRANSP:OPAQUE
END:VEVENT
END:VCALENDAR