BEGIN:VCALENDAR
VERSION:2.0
PRODID:-//jEvents 2.0 for Joomla//EN
CALSCALE:GREGORIAN
METHOD:PUBLISH
BEGIN:VTIMEZONE
TZID:Europe/Paris
BEGIN:STANDARD
DTSTART:20160108T000000
RDATE:20160327T030000
TZOFFSETFROM:+0200
TZOFFSETTO:+0100
TZNAME:Europe/Paris CET
END:STANDARD
BEGIN:STANDARD
DTSTART:20161030T020000
RDATE:20170326T030000
TZOFFSETFROM:+0200
TZOFFSETTO:+0100
TZNAME:Europe/Paris CET
END:STANDARD
BEGIN:STANDARD
DTSTART:20171029T020000
RDATE:20180325T030000
TZOFFSETFROM:+0200
TZOFFSETTO:+0100
TZNAME:Europe/Paris CET
END:STANDARD
BEGIN:STANDARD
DTSTART:20181028T020000
RDATE:20190331T030000
TZOFFSETFROM:+0200
TZOFFSETTO:+0100
TZNAME:Europe/Paris CET
END:STANDARD
BEGIN:STANDARD
DTSTART:20191027T020000
RDATE:20200329T030000
TZOFFSETFROM:+0200
TZOFFSETTO:+0100
TZNAME:Europe/Paris CET
END:STANDARD
BEGIN:STANDARD
DTSTART:20201025T020000
RDATE:20210328T030000
TZOFFSETFROM:+0200
TZOFFSETTO:+0100
TZNAME:Europe/Paris CET
END:STANDARD
BEGIN:STANDARD
DTSTART:20211031T020000
RDATE:20220327T030000
TZOFFSETFROM:+0200
TZOFFSETTO:+0100
TZNAME:Europe/Paris CET
END:STANDARD
BEGIN:STANDARD
DTSTART:20221030T020000
RDATE:20230326T030000
TZOFFSETFROM:+0200
TZOFFSETTO:+0100
TZNAME:Europe/Paris CET
END:STANDARD
BEGIN:STANDARD
DTSTART:20231029T020000
RDATE:20240331T030000
TZOFFSETFROM:+0200
TZOFFSETTO:+0100
TZNAME:Europe/Paris CET
END:STANDARD
BEGIN:STANDARD
DTSTART:20241027T020000
RDATE:20250330T030000
TZOFFSETFROM:+0200
TZOFFSETTO:+0100
TZNAME:Europe/Paris CET
END:STANDARD
BEGIN:STANDARD
DTSTART:20251026T020000
RDATE:20260329T030000
TZOFFSETFROM:+0200
TZOFFSETTO:+0100
TZNAME:Europe/Paris CET
END:STANDARD
BEGIN:STANDARD
DTSTART:20261025T020000
RDATE:20270328T030000
TZOFFSETFROM:+0200
TZOFFSETTO:+0100
TZNAME:Europe/Paris CET
END:STANDARD
BEGIN:DAYLIGHT
DTSTART:20160327T030000
RDATE:20161030T020000
TZOFFSETFROM:+0100
TZOFFSETTO:+0200
TZNAME:Europe/Paris CEST
END:DAYLIGHT
BEGIN:DAYLIGHT
DTSTART:20170326T030000
RDATE:20171029T020000
TZOFFSETFROM:+0100
TZOFFSETTO:+0200
TZNAME:Europe/Paris CEST
END:DAYLIGHT
BEGIN:DAYLIGHT
DTSTART:20180325T030000
RDATE:20181028T020000
TZOFFSETFROM:+0100
TZOFFSETTO:+0200
TZNAME:Europe/Paris CEST
END:DAYLIGHT
BEGIN:DAYLIGHT
DTSTART:20190331T030000
RDATE:20191027T020000
TZOFFSETFROM:+0100
TZOFFSETTO:+0200
TZNAME:Europe/Paris CEST
END:DAYLIGHT
BEGIN:DAYLIGHT
DTSTART:20200329T030000
RDATE:20201025T020000
TZOFFSETFROM:+0100
TZOFFSETTO:+0200
TZNAME:Europe/Paris CEST
END:DAYLIGHT
BEGIN:DAYLIGHT
DTSTART:20210328T030000
RDATE:20211031T020000
TZOFFSETFROM:+0100
TZOFFSETTO:+0200
TZNAME:Europe/Paris CEST
END:DAYLIGHT
BEGIN:DAYLIGHT
DTSTART:20220327T030000
RDATE:20221030T020000
TZOFFSETFROM:+0100
TZOFFSETTO:+0200
TZNAME:Europe/Paris CEST
END:DAYLIGHT
BEGIN:DAYLIGHT
DTSTART:20230326T030000
RDATE:20231029T020000
TZOFFSETFROM:+0100
TZOFFSETTO:+0200
TZNAME:Europe/Paris CEST
END:DAYLIGHT
BEGIN:DAYLIGHT
DTSTART:20240331T030000
RDATE:20241027T020000
TZOFFSETFROM:+0100
TZOFFSETTO:+0200
TZNAME:Europe/Paris CEST
END:DAYLIGHT
BEGIN:DAYLIGHT
DTSTART:20250330T030000
RDATE:20251026T020000
TZOFFSETFROM:+0100
TZOFFSETTO:+0200
TZNAME:Europe/Paris CEST
END:DAYLIGHT
BEGIN:DAYLIGHT
DTSTART:20260329T030000
RDATE:20261025T020000
TZOFFSETFROM:+0100
TZOFFSETTO:+0200
TZNAME:Europe/Paris CEST
END:DAYLIGHT
END:VTIMEZONE
BEGIN:VEVENT
UID:c543e89904a9dbf4791381e9dee8f30c
CATEGORIES:Opens et Promos (alpin)
CREATED:20161202T134851
SUMMARY:CD2 Prix US Bussang **REPORTE**
URL;VALUE=URI:https://skivosges.net/agenda/export-synchronisation/detailevenement/664/-/c
 d2-prix-us-bussang-reporte?tmpl=component
DESCRIPTION:<!-- #gskiepreuve code généré par le plugin jevents pour GskiEpreuves. Ne p
 as modifier cette ligne, ni tout le contenu suivant  #gskiepreuve --><div c
 lass="gski-evenement_infos"><div class="gski-evenement-nom">CD2 Prix US Bus
 sang</div><div class="gski-evenement-report"> <font class="gskiattention">(
 Epreuve reportée, date à determiner)</font></div><ul class="gski-evenement-
 liste-infos"><li>Codex évenement AMVT0120</li><li>Lieu : BUSSANG LARCENAIRE
 </li><li>Station : BUSSANG LARCENAIRE</li><li>Organisateur : 14007 UNION SP
 ORTIVE BUSSANG</li><li>Courriel : <!-- Cette adresse électronique est proté
 gée contre les robots spammeurs. --><span class="cloaked_email ep_9213e938"
 ><span data-ep-b="" data-ep-a="&#100;an&#105;&#101;"><span data-ep-b="&#111
 ;&#111;&#46;&#102;r" data-ep-a="l&#46;mo&#114;"><span data-ep-b="&#119;a&#1
 10;ad" data-ep-a="&#101;&#108;&#50;&#53;&#64;"></span></span></span></span>
 <script>RegularLabs.EmailProtector.unCloak("ep_9213e938");</script></li></u
 l><div class="gski-evenement-infos-2"><div class="gski-evenement-info-inscr
 iptions"><div class="gski-evenement-inscriptions-periodes">Période d'inscri
 ption à l'evènement du dimanche 01 janvier 2017 à 01:00 au vendredi 06 janv
 ier 2017 à 13:00 <span class="gski-evenement-inscriptions-impossibles">(Ins
 criptions impossibles).</span><div class="gski-evenement-inscriptions-types
 -titres">Le type de titres Fédéraux autorisé n'est pas défini. Veuillez con
 tacter l'organisateur et lui signaler le problème.</div></div></div><div cl
 ass="gski-evenement-epreuves"><div class="gski-evenement-epreuves-titres">E
 preuves :</div><ul class="gski-evenement-epreuves-list"><li><div class="gsk
 i-epreuve-date">Le dimanche 08 janvier 2017</div><ul class="gski-epreuve-li
 ste-infos"><li>Codex épreuve AMVM0121</li><li>Slalom</li></ul></li><li><div
  class="gski-epreuve-date">Le dimanche 08 janvier 2017</div><ul class="gski
 -epreuve-liste-infos"><li>Codex épreuve AMVF0121</li><li>Slalom</li></ul></
 li></ul></div><div class="gskiepreuves-links"><ul><li><a href="/index.php?o
 ption=com_jevents&task=icalevent.detail&evid=659&Itemid=6283">Voir les info
 rmations dans l'agenda...</a></li></ul></div></div"><!-- #/gskiepreuve fin 
 du dode généré par le plugin jevents pour GskiEpreuves. . Ne pas modifier c
 ette ligne, ni tout le contenu précedant.  #/gskiepreuve --> <a href="https
 ://skivosges.net/agenda/export-synchronisation/detailevenement/664/-/cd2-pr
 ix-us-bussang-reporte?tmpl=component">Cet évènement a été importé depuis :h
 ttps://skivosges.net/agenda/export-synchronisation/detailevenement/664/-/cd
 2-prix-us-bussang-reporte?tmpl=component</a>
X-ALT-DESC;FMTTYPE=text/html:<!-- #gskiepreuve code généré par le plugin jevents pour GskiEpreuves. Ne p
 as modifier cette ligne, ni tout le contenu suivant  #gskiepreuve --><div c
 lass="gski-evenement_infos"><div class="gski-evenement-nom">CD2 Prix US Bus
 sang</div><div class="gski-evenement-report"> <font class="gskiattention">(
 Epreuve reportée, date à determiner)</font></div><ul class="gski-evenement-
 liste-infos"><li>Codex évenement AMVT0120</li><li>Lieu : BUSSANG LARCENAIRE
 </li><li>Station : BUSSANG LARCENAIRE</li><li>Organisateur : 14007 UNION SP
 ORTIVE BUSSANG</li><li>Courriel : <!-- Cette adresse électronique est proté
 gée contre les robots spammeurs. --><span class="cloaked_email ep_9213e938"
 ><span data-ep-b="" data-ep-a="&#100;an&#105;&#101;"><span data-ep-b="&#111
 ;&#111;&#46;&#102;r" data-ep-a="l&#46;mo&#114;"><span data-ep-b="&#119;a&#1
 10;ad" data-ep-a="&#101;&#108;&#50;&#53;&#64;"></span></span></span></span>
 <script>RegularLabs.EmailProtector.unCloak("ep_9213e938");</script></li></u
 l><div class="gski-evenement-infos-2"><div class="gski-evenement-info-inscr
 iptions"><div class="gski-evenement-inscriptions-periodes">Période d'inscri
 ption à l'evènement du dimanche 01 janvier 2017 à 01:00 au vendredi 06 janv
 ier 2017 à 13:00 <span class="gski-evenement-inscriptions-impossibles">(Ins
 criptions impossibles).</span><div class="gski-evenement-inscriptions-types
 -titres">Le type de titres Fédéraux autorisé n'est pas défini. Veuillez con
 tacter l'organisateur et lui signaler le problème.</div></div></div><div cl
 ass="gski-evenement-epreuves"><div class="gski-evenement-epreuves-titres">E
 preuves :</div><ul class="gski-evenement-epreuves-list"><li><div class="gsk
 i-epreuve-date">Le dimanche 08 janvier 2017</div><ul class="gski-epreuve-li
 ste-infos"><li>Codex épreuve AMVM0121</li><li>Slalom</li></ul></li><li><div
  class="gski-epreuve-date">Le dimanche 08 janvier 2017</div><ul class="gski
 -epreuve-liste-infos"><li>Codex épreuve AMVF0121</li><li>Slalom</li></ul></
 li></ul></div><div class="gskiepreuves-links"><ul><li><a href="https://skiv
 osges.net/index.php?option=com_jevents&task=icalevent.detail&evid=659&Itemi
 d=6283">Voir les informations dans l'agenda...</a></li></ul></div></div"><!
 -- #/gskiepreuve fin du dode généré par le plugin jevents pour GskiEpreuves
 . . Ne pas modifier cette ligne, ni tout le contenu précedant.  #/gskiepreu
 ve --> <a href="https://skivosges.net/agenda/export-synchronisation/detaile
 venement/664/-/cd2-prix-us-bussang-reporte?tmpl=component">Cet évènement a 
 été importé depuis :https://skivosges.net/agenda/export-synchronisation/det
 ailevenement/664/-/cd2-prix-us-bussang-reporte?tmpl=component</a>DTSTAMP:20260420T221353
DTSTART;TZID=Europe/Paris;VALUE=DATE:20170108
DTEND;TZID=Europe/Paris;VALUE=DATE:20170109
SEQUENCE:0
TRANSP:OPAQUE
END:VEVENT
END:VCALENDAR