BEGIN:VCALENDAR
VERSION:2.0
PRODID:-//jEvents 2.0 for Joomla//EN
CALSCALE:GREGORIAN
METHOD:PUBLISH
BEGIN:VTIMEZONE
TZID:Europe/Paris
BEGIN:STANDARD
DTSTART:20160108T000000
RDATE:20160327T030000
TZOFFSETFROM:+0200
TZOFFSETTO:+0100
TZNAME:Europe/Paris CET
END:STANDARD
BEGIN:STANDARD
DTSTART:20161030T020000
RDATE:20170326T030000
TZOFFSETFROM:+0200
TZOFFSETTO:+0100
TZNAME:Europe/Paris CET
END:STANDARD
BEGIN:STANDARD
DTSTART:20171029T020000
RDATE:20180325T030000
TZOFFSETFROM:+0200
TZOFFSETTO:+0100
TZNAME:Europe/Paris CET
END:STANDARD
BEGIN:STANDARD
DTSTART:20181028T020000
RDATE:20190331T030000
TZOFFSETFROM:+0200
TZOFFSETTO:+0100
TZNAME:Europe/Paris CET
END:STANDARD
BEGIN:STANDARD
DTSTART:20191027T020000
RDATE:20200329T030000
TZOFFSETFROM:+0200
TZOFFSETTO:+0100
TZNAME:Europe/Paris CET
END:STANDARD
BEGIN:STANDARD
DTSTART:20201025T020000
RDATE:20210328T030000
TZOFFSETFROM:+0200
TZOFFSETTO:+0100
TZNAME:Europe/Paris CET
END:STANDARD
BEGIN:STANDARD
DTSTART:20211031T020000
RDATE:20220327T030000
TZOFFSETFROM:+0200
TZOFFSETTO:+0100
TZNAME:Europe/Paris CET
END:STANDARD
BEGIN:STANDARD
DTSTART:20221030T020000
RDATE:20230326T030000
TZOFFSETFROM:+0200
TZOFFSETTO:+0100
TZNAME:Europe/Paris CET
END:STANDARD
BEGIN:STANDARD
DTSTART:20231029T020000
RDATE:20240331T030000
TZOFFSETFROM:+0200
TZOFFSETTO:+0100
TZNAME:Europe/Paris CET
END:STANDARD
BEGIN:STANDARD
DTSTART:20241027T020000
RDATE:20250330T030000
TZOFFSETFROM:+0200
TZOFFSETTO:+0100
TZNAME:Europe/Paris CET
END:STANDARD
BEGIN:STANDARD
DTSTART:20251026T020000
RDATE:20260329T030000
TZOFFSETFROM:+0200
TZOFFSETTO:+0100
TZNAME:Europe/Paris CET
END:STANDARD
BEGIN:STANDARD
DTSTART:20261025T020000
RDATE:20270328T030000
TZOFFSETFROM:+0200
TZOFFSETTO:+0100
TZNAME:Europe/Paris CET
END:STANDARD
BEGIN:DAYLIGHT
DTSTART:20160327T030000
RDATE:20161030T020000
TZOFFSETFROM:+0100
TZOFFSETTO:+0200
TZNAME:Europe/Paris CEST
END:DAYLIGHT
BEGIN:DAYLIGHT
DTSTART:20170326T030000
RDATE:20171029T020000
TZOFFSETFROM:+0100
TZOFFSETTO:+0200
TZNAME:Europe/Paris CEST
END:DAYLIGHT
BEGIN:DAYLIGHT
DTSTART:20180325T030000
RDATE:20181028T020000
TZOFFSETFROM:+0100
TZOFFSETTO:+0200
TZNAME:Europe/Paris CEST
END:DAYLIGHT
BEGIN:DAYLIGHT
DTSTART:20190331T030000
RDATE:20191027T020000
TZOFFSETFROM:+0100
TZOFFSETTO:+0200
TZNAME:Europe/Paris CEST
END:DAYLIGHT
BEGIN:DAYLIGHT
DTSTART:20200329T030000
RDATE:20201025T020000
TZOFFSETFROM:+0100
TZOFFSETTO:+0200
TZNAME:Europe/Paris CEST
END:DAYLIGHT
BEGIN:DAYLIGHT
DTSTART:20210328T030000
RDATE:20211031T020000
TZOFFSETFROM:+0100
TZOFFSETTO:+0200
TZNAME:Europe/Paris CEST
END:DAYLIGHT
BEGIN:DAYLIGHT
DTSTART:20220327T030000
RDATE:20221030T020000
TZOFFSETFROM:+0100
TZOFFSETTO:+0200
TZNAME:Europe/Paris CEST
END:DAYLIGHT
BEGIN:DAYLIGHT
DTSTART:20230326T030000
RDATE:20231029T020000
TZOFFSETFROM:+0100
TZOFFSETTO:+0200
TZNAME:Europe/Paris CEST
END:DAYLIGHT
BEGIN:DAYLIGHT
DTSTART:20240331T030000
RDATE:20241027T020000
TZOFFSETFROM:+0100
TZOFFSETTO:+0200
TZNAME:Europe/Paris CEST
END:DAYLIGHT
BEGIN:DAYLIGHT
DTSTART:20250330T030000
RDATE:20251026T020000
TZOFFSETFROM:+0100
TZOFFSETTO:+0200
TZNAME:Europe/Paris CEST
END:DAYLIGHT
BEGIN:DAYLIGHT
DTSTART:20260329T030000
RDATE:20261025T020000
TZOFFSETFROM:+0100
TZOFFSETTO:+0200
TZNAME:Europe/Paris CEST
END:DAYLIGHT
END:VTIMEZONE
BEGIN:VEVENT
UID:e03ea1b9c14fd7ba1ee433bc03e73990
CATEGORIES:Opens et Promos (alpin)
CREATED:20161202T134851
SUMMARY:PROMO Les dimanches de la glisse  Trophée Electricité Strasbourg **REPORTE**
URL;VALUE=URI:https://skivosges.net/agenda/export-synchronisation/detailevenement/665/-/p
 romo-les-dimanches-de-la-glisse-trophee-electricite-strasbourg-reporte?tmpl
 =component
DESCRIPTION:PROMO Les dimanches de la glisse  Trophée Electricité Strasbourg (Epreuve r
 eportée, date à determiner)\n - Codex évenement AMVT0140\n - Lieu : CHAMP D
 U FEU\n - Station : CHAMP DU FEU\n - Organisateur : 14128 A.S ELECTRICITE S
 TRASBOURG\n - Courriel : RegularLabs.EmailProtector.unCloak("ep_fc6f7a77");
 Période d'inscription à l'evènement du dimanche 01 janvier 2017 à 01:00 au 
 vendredi 06 janvier 2017 à 13:00 (Inscriptions impossibles).Le type de titr
 es Fédéraux autorisé n'est pas défini. Veuillez contacter l'organisateur et
  lui signaler le problème.Epreuves :\n - Le dimanche 08 janvier 2017\n - Co
 dex épreuve AMVM0141\n - Slalom Geant\n - Le dimanche 08 janvier 2017\n - C
 odex épreuve AMVF0141\n - Slalom Geant\n - Le dimanche 08 janvier 2017\n - 
 Codex épreuve AMVM0142\n - Slalom Geant\n - Le dimanche 08 janvier 2017\n -
  Codex épreuve AMVF0142\n - Slalom Geant\n - Voir les informations dans l'a
 genda... (/index.php?option=com_jevents&amp;task=icalevent.detail&amp;evid=
 660&amp;Itemid=6283) Cet évènement a été importé depuis :https://skivosges.
 net/agenda/export-synchronisation/detailevenement/665/-/promo-les-dimanches
 -de-la-glisse-trophee-electricite-strasbourg-reporte?tmpl=component (https:
 //skivosges.net/agenda/export-synchronisation/detailevenement/665/-/promo-l
 es-dimanches-de-la-glisse-trophee-electricite-strasbourg-reporte?tmpl=compo
 nent)
X-ALT-DESC;FMTTYPE=text/html:<!-- #gskiepreuve code généré par le plugin jevents pour GskiEpreuves. Ne p
 as modifier cette ligne, ni tout le contenu suivant  #gskiepreuve --><div c
 lass="gski-evenement_infos"><div class="gski-evenement-nom">PROMO Les diman
 ches de la glisse  Trophée Electricité Strasbourg</div><div class="gski-eve
 nement-report"> <font class="gskiattention">(Epreuve reportée, date à deter
 miner)</font></div><ul class="gski-evenement-liste-infos"><li>Codex éveneme
 nt AMVT0140</li><li>Lieu : CHAMP DU FEU</li><li>Station : CHAMP DU FEU</li>
 <li>Organisateur : 14128 A.S ELECTRICITE STRASBOURG</li><li>Courriel : <!--
  Cette adresse électronique est protégée contre les robots spammeurs. --><s
 pan class="cloaked_email ep_fc6f7a77"><span data-ep-b="&#102;&#114;" data-e
 p-a="&#102;b"><span data-ep-a="&#46;&#64;" data-ep-b="&#55;&#46;"><span dat
 a-ep-a="&#109;&#103;" data-ep-b="&#109;6"></span></span></span></span><scri
 pt>RegularLabs.EmailProtector.unCloak("ep_fc6f7a77");</script></li></ul><di
 v class="gski-evenement-infos-2"><div class="gski-evenement-info-inscriptio
 ns"><div class="gski-evenement-inscriptions-periodes">Période d'inscription
  à l'evènement du dimanche 01 janvier 2017 à 01:00 au vendredi 06 janvier 2
 017 à 13:00 <span class="gski-evenement-inscriptions-impossibles">(Inscript
 ions impossibles).</span><div class="gski-evenement-inscriptions-types-titr
 es">Le type de titres Fédéraux autorisé n'est pas défini. Veuillez contacte
 r l'organisateur et lui signaler le problème.</div></div></div><div class="
 gski-evenement-epreuves"><div class="gski-evenement-epreuves-titres">Epreuv
 es :</div><ul class="gski-evenement-epreuves-list"><li><div class="gski-epr
 euve-date">Le dimanche 08 janvier 2017</div><ul class="gski-epreuve-liste-i
 nfos"><li>Codex épreuve AMVM0141</li><li>Slalom Geant</li></ul></li><li><di
 v class="gski-epreuve-date">Le dimanche 08 janvier 2017</div><ul class="gsk
 i-epreuve-liste-infos"><li>Codex épreuve AMVF0141</li><li>Slalom Geant</li>
 </ul></li><li><div class="gski-epreuve-date">Le dimanche 08 janvier 2017</d
 iv><ul class="gski-epreuve-liste-infos"><li>Codex épreuve AMVM0142</li><li>
 Slalom Geant</li></ul></li><li><div class="gski-epreuve-date">Le dimanche 0
 8 janvier 2017</div><ul class="gski-epreuve-liste-infos"><li>Codex épreuve 
 AMVF0142</li><li>Slalom Geant</li></ul></li></ul></div><div class="gskiepre
 uves-links"><ul><li><a href="https://skivosges.net/index.php?option=com_jev
 ents&task=icalevent.detail&evid=660&Itemid=6283">Voir les informations dans
  l'agenda...</a></li></ul></div></div"><!-- #/gskiepreuve fin du dode génér
 é par le plugin jevents pour GskiEpreuves. . Ne pas modifier cette ligne, n
 i tout le contenu précedant.  #/gskiepreuve --> <a href="https://skivosges.
 net/agenda/export-synchronisation/detailevenement/665/-/promo-les-dimanches
 -de-la-glisse-trophee-electricite-strasbourg-reporte?tmpl=component">Cet év
 ènement a été importé depuis :https://skivosges.net/agenda/export-synchroni
 sation/detailevenement/665/-/promo-les-dimanches-de-la-glisse-trophee-elect
 ricite-strasbourg-reporte?tmpl=component</a>DTSTAMP:20260420T183850
DTSTART;TZID=Europe/Paris;VALUE=DATE:20170108
DTEND;TZID=Europe/Paris;VALUE=DATE:20170109
SEQUENCE:0
TRANSP:OPAQUE
END:VEVENT
END:VCALENDAR