BEGIN:VCALENDAR
VERSION:2.0
PRODID:-//jEvents 2.0 for Joomla//EN
CALSCALE:GREGORIAN
METHOD:PUBLISH
BEGIN:VTIMEZONE
TZID:Europe/Paris
BEGIN:STANDARD
DTSTART:20160114T000000
RDATE:20160327T030000
TZOFFSETFROM:+0200
TZOFFSETTO:+0100
TZNAME:Europe/Paris CET
END:STANDARD
BEGIN:STANDARD
DTSTART:20161030T020000
RDATE:20170326T030000
TZOFFSETFROM:+0200
TZOFFSETTO:+0100
TZNAME:Europe/Paris CET
END:STANDARD
BEGIN:STANDARD
DTSTART:20171029T020000
RDATE:20180325T030000
TZOFFSETFROM:+0200
TZOFFSETTO:+0100
TZNAME:Europe/Paris CET
END:STANDARD
BEGIN:STANDARD
DTSTART:20181028T020000
RDATE:20190331T030000
TZOFFSETFROM:+0200
TZOFFSETTO:+0100
TZNAME:Europe/Paris CET
END:STANDARD
BEGIN:STANDARD
DTSTART:20191027T020000
RDATE:20200329T030000
TZOFFSETFROM:+0200
TZOFFSETTO:+0100
TZNAME:Europe/Paris CET
END:STANDARD
BEGIN:STANDARD
DTSTART:20201025T020000
RDATE:20210328T030000
TZOFFSETFROM:+0200
TZOFFSETTO:+0100
TZNAME:Europe/Paris CET
END:STANDARD
BEGIN:STANDARD
DTSTART:20211031T020000
RDATE:20220327T030000
TZOFFSETFROM:+0200
TZOFFSETTO:+0100
TZNAME:Europe/Paris CET
END:STANDARD
BEGIN:STANDARD
DTSTART:20221030T020000
RDATE:20230326T030000
TZOFFSETFROM:+0200
TZOFFSETTO:+0100
TZNAME:Europe/Paris CET
END:STANDARD
BEGIN:STANDARD
DTSTART:20231029T020000
RDATE:20240331T030000
TZOFFSETFROM:+0200
TZOFFSETTO:+0100
TZNAME:Europe/Paris CET
END:STANDARD
BEGIN:STANDARD
DTSTART:20241027T020000
RDATE:20250330T030000
TZOFFSETFROM:+0200
TZOFFSETTO:+0100
TZNAME:Europe/Paris CET
END:STANDARD
BEGIN:STANDARD
DTSTART:20251026T020000
RDATE:20260329T030000
TZOFFSETFROM:+0200
TZOFFSETTO:+0100
TZNAME:Europe/Paris CET
END:STANDARD
BEGIN:STANDARD
DTSTART:20261025T020000
RDATE:20270328T030000
TZOFFSETFROM:+0200
TZOFFSETTO:+0100
TZNAME:Europe/Paris CET
END:STANDARD
BEGIN:DAYLIGHT
DTSTART:20160327T030000
RDATE:20161030T020000
TZOFFSETFROM:+0100
TZOFFSETTO:+0200
TZNAME:Europe/Paris CEST
END:DAYLIGHT
BEGIN:DAYLIGHT
DTSTART:20170326T030000
RDATE:20171029T020000
TZOFFSETFROM:+0100
TZOFFSETTO:+0200
TZNAME:Europe/Paris CEST
END:DAYLIGHT
BEGIN:DAYLIGHT
DTSTART:20180325T030000
RDATE:20181028T020000
TZOFFSETFROM:+0100
TZOFFSETTO:+0200
TZNAME:Europe/Paris CEST
END:DAYLIGHT
BEGIN:DAYLIGHT
DTSTART:20190331T030000
RDATE:20191027T020000
TZOFFSETFROM:+0100
TZOFFSETTO:+0200
TZNAME:Europe/Paris CEST
END:DAYLIGHT
BEGIN:DAYLIGHT
DTSTART:20200329T030000
RDATE:20201025T020000
TZOFFSETFROM:+0100
TZOFFSETTO:+0200
TZNAME:Europe/Paris CEST
END:DAYLIGHT
BEGIN:DAYLIGHT
DTSTART:20210328T030000
RDATE:20211031T020000
TZOFFSETFROM:+0100
TZOFFSETTO:+0200
TZNAME:Europe/Paris CEST
END:DAYLIGHT
BEGIN:DAYLIGHT
DTSTART:20220327T030000
RDATE:20221030T020000
TZOFFSETFROM:+0100
TZOFFSETTO:+0200
TZNAME:Europe/Paris CEST
END:DAYLIGHT
BEGIN:DAYLIGHT
DTSTART:20230326T030000
RDATE:20231029T020000
TZOFFSETFROM:+0100
TZOFFSETTO:+0200
TZNAME:Europe/Paris CEST
END:DAYLIGHT
BEGIN:DAYLIGHT
DTSTART:20240331T030000
RDATE:20241027T020000
TZOFFSETFROM:+0100
TZOFFSETTO:+0200
TZNAME:Europe/Paris CEST
END:DAYLIGHT
BEGIN:DAYLIGHT
DTSTART:20250330T030000
RDATE:20251026T020000
TZOFFSETFROM:+0100
TZOFFSETTO:+0200
TZNAME:Europe/Paris CEST
END:DAYLIGHT
BEGIN:DAYLIGHT
DTSTART:20260329T030000
RDATE:20261025T020000
TZOFFSETFROM:+0100
TZOFFSETTO:+0200
TZNAME:Europe/Paris CEST
END:DAYLIGHT
END:VTIMEZONE
BEGIN:VEVENT
UID:c163cd1e135d577ab6f4ccba7ee8a875
CATEGORIES:Compétition Biathlon
CREATED:20161202T134851
SUMMARY:Promo Biathlon Foyers
URL;VALUE=URI:https://skivosges.net/agenda/export-synchronisation/detailevenement/668/-/p
 romo-biathlon-foyers?tmpl=component
DESCRIPTION:<!-- #gskiepreuve code généré par le plugin jevents pour GskiEpreuves. Ne p
 as modifier cette ligne, ni tout le contenu suivant  #gskiepreuve --><div c
 lass="gski-evenement_infos"><div class="gski-evenement-nom">Promo Biathlon 
 Foyers</div><div class="gski-evenement-report"></div><ul class="gski-evenem
 ent-liste-infos"><li>Codex évenement BMVT0060</li><li>Organisateur : 14102 
 SKI CLUB XONRUPT</li></ul><div class="gski-evenement-infos-2"><div class="g
 ski-evenement-info-inscriptions"><div class="gski-evenement-inscriptions-pe
 riodes">Période d'inscription à l'evènement du samedi 07 janvier 2017 à 01:
 00 au jeudi 12 janvier 2017 à 13:00 <span class="gski-evenement-inscription
 s-impossibles">(Inscriptions impossibles).</span><div class="gski-evenement
 -inscriptions-types-titres">Le type de titres Fédéraux autorisé n'est pas d
 éfini. Veuillez contacter l'organisateur et lui signaler le problème.</div>
 </div></div><div class="gski-evenement-epreuves"><div class="gski-evenement
 -epreuves-titres">Epreuves :</div><ul class="gski-evenement-epreuves-list">
 <li><div class="gski-epreuve-date">Le samedi 14 janvier 2017</div><ul class
 ="gski-epreuve-liste-infos"><li>Codex épreuve BMVF0061</li><li>Individuel</
 li></ul></li><li><div class="gski-epreuve-date">Le samedi 14 janvier 2017</
 div><ul class="gski-epreuve-liste-infos"><li>Codex épreuve BMVF0062</li><li
 >Individuel</li></ul></li><li><div class="gski-epreuve-date">Le samedi 14 j
 anvier 2017</div><ul class="gski-epreuve-liste-infos"><li>Codex épreuve BMV
 M0061</li><li>Individuel</li></ul></li><li><div class="gski-epreuve-date">L
 e samedi 14 janvier 2017</div><ul class="gski-epreuve-liste-infos"><li>Code
 x épreuve BMVM0062</li><li>Individuel</li></ul></li></ul></div><div class="
 gskiepreuves-links"><ul><li><a href="/index.php?option=com_jevents&task=ica
 levent.detail&evid=663&Itemid=6283">Voir les informations dans l'agenda...<
 /a></li><li><a href="/index.php?option=com_gskiepreuves&view=afficheresulta
 ts&format_option=tous&filter[search]=BMVT0060&filter[date_debut]=14-01-2017
 &filter[date_fin]=14-01-2017&code_activite=BIATH&Itemid=6283">Vers les résu
 ltats...</a></li></ul></div></div"><!-- #/gskiepreuve fin du dode généré pa
 r le plugin jevents pour GskiEpreuves. . Ne pas modifier cette ligne, ni to
 ut le contenu précedant.  #/gskiepreuve --> <a href="https://skivosges.net/
 agenda/export-synchronisation/detailevenement/668/-/promo-biathlon-foyers?t
 mpl=component">Cet évènement a été importé depuis :https://skivosges.net/ag
 enda/export-synchronisation/detailevenement/668/-/promo-biathlon-foyers?tmp
 l=component</a>
X-ALT-DESC;FMTTYPE=text/html:<!-- #gskiepreuve code généré par le plugin jevents pour GskiEpreuves. Ne p
 as modifier cette ligne, ni tout le contenu suivant  #gskiepreuve --><div c
 lass="gski-evenement_infos"><div class="gski-evenement-nom">Promo Biathlon 
 Foyers</div><div class="gski-evenement-report"></div><ul class="gski-evenem
 ent-liste-infos"><li>Codex évenement BMVT0060</li><li>Organisateur : 14102 
 SKI CLUB XONRUPT</li></ul><div class="gski-evenement-infos-2"><div class="g
 ski-evenement-info-inscriptions"><div class="gski-evenement-inscriptions-pe
 riodes">Période d'inscription à l'evènement du samedi 07 janvier 2017 à 01:
 00 au jeudi 12 janvier 2017 à 13:00 <span class="gski-evenement-inscription
 s-impossibles">(Inscriptions impossibles).</span><div class="gski-evenement
 -inscriptions-types-titres">Le type de titres Fédéraux autorisé n'est pas d
 éfini. Veuillez contacter l'organisateur et lui signaler le problème.</div>
 </div></div><div class="gski-evenement-epreuves"><div class="gski-evenement
 -epreuves-titres">Epreuves :</div><ul class="gski-evenement-epreuves-list">
 <li><div class="gski-epreuve-date">Le samedi 14 janvier 2017</div><ul class
 ="gski-epreuve-liste-infos"><li>Codex épreuve BMVF0061</li><li>Individuel</
 li></ul></li><li><div class="gski-epreuve-date">Le samedi 14 janvier 2017</
 div><ul class="gski-epreuve-liste-infos"><li>Codex épreuve BMVF0062</li><li
 >Individuel</li></ul></li><li><div class="gski-epreuve-date">Le samedi 14 j
 anvier 2017</div><ul class="gski-epreuve-liste-infos"><li>Codex épreuve BMV
 M0061</li><li>Individuel</li></ul></li><li><div class="gski-epreuve-date">L
 e samedi 14 janvier 2017</div><ul class="gski-epreuve-liste-infos"><li>Code
 x épreuve BMVM0062</li><li>Individuel</li></ul></li></ul></div><div class="
 gskiepreuves-links"><ul><li><a href="https://skivosges.net/index.php?option
 =com_jevents&task=icalevent.detail&evid=663&Itemid=6283">Voir les informati
 ons dans l'agenda...</a></li><li><a href="https://skivosges.net/index.php?o
 ption=com_gskiepreuves&view=afficheresultats&format_option=tous&filter[sear
 ch]=BMVT0060&filter[date_debut]=14-01-2017&filter[date_fin]=14-01-2017&code
 _activite=BIATH&Itemid=6283">Vers les résultats...</a></li></ul></div></div
 "><!-- #/gskiepreuve fin du dode généré par le plugin jevents pour GskiEpre
 uves. . Ne pas modifier cette ligne, ni tout le contenu précedant.  #/gskie
 preuve --> <a href="https://skivosges.net/agenda/export-synchronisation/det
 ailevenement/668/-/promo-biathlon-foyers?tmpl=component">Cet évènement a ét
 é importé depuis :https://skivosges.net/agenda/export-synchronisation/detai
 levenement/668/-/promo-biathlon-foyers?tmpl=component</a>DTSTAMP:20260420T221354
DTSTART;TZID=Europe/Paris;VALUE=DATE:20170114
DTEND;TZID=Europe/Paris;VALUE=DATE:20170115
SEQUENCE:0
TRANSP:OPAQUE
END:VEVENT
END:VCALENDAR