BEGIN:VCALENDAR
VERSION:2.0
PRODID:-//jEvents 2.0 for Joomla//EN
CALSCALE:GREGORIAN
METHOD:PUBLISH
BEGIN:VTIMEZONE
TZID:Europe/Paris
BEGIN:STANDARD
DTSTART:20160115T000000
RDATE:20160327T030000
TZOFFSETFROM:+0200
TZOFFSETTO:+0100
TZNAME:Europe/Paris CET
END:STANDARD
BEGIN:STANDARD
DTSTART:20161030T020000
RDATE:20170326T030000
TZOFFSETFROM:+0200
TZOFFSETTO:+0100
TZNAME:Europe/Paris CET
END:STANDARD
BEGIN:STANDARD
DTSTART:20171029T020000
RDATE:20180325T030000
TZOFFSETFROM:+0200
TZOFFSETTO:+0100
TZNAME:Europe/Paris CET
END:STANDARD
BEGIN:STANDARD
DTSTART:20181028T020000
RDATE:20190331T030000
TZOFFSETFROM:+0200
TZOFFSETTO:+0100
TZNAME:Europe/Paris CET
END:STANDARD
BEGIN:STANDARD
DTSTART:20191027T020000
RDATE:20200329T030000
TZOFFSETFROM:+0200
TZOFFSETTO:+0100
TZNAME:Europe/Paris CET
END:STANDARD
BEGIN:STANDARD
DTSTART:20201025T020000
RDATE:20210328T030000
TZOFFSETFROM:+0200
TZOFFSETTO:+0100
TZNAME:Europe/Paris CET
END:STANDARD
BEGIN:STANDARD
DTSTART:20211031T020000
RDATE:20220327T030000
TZOFFSETFROM:+0200
TZOFFSETTO:+0100
TZNAME:Europe/Paris CET
END:STANDARD
BEGIN:STANDARD
DTSTART:20221030T020000
RDATE:20230326T030000
TZOFFSETFROM:+0200
TZOFFSETTO:+0100
TZNAME:Europe/Paris CET
END:STANDARD
BEGIN:STANDARD
DTSTART:20231029T020000
RDATE:20240331T030000
TZOFFSETFROM:+0200
TZOFFSETTO:+0100
TZNAME:Europe/Paris CET
END:STANDARD
BEGIN:STANDARD
DTSTART:20241027T020000
RDATE:20250330T030000
TZOFFSETFROM:+0200
TZOFFSETTO:+0100
TZNAME:Europe/Paris CET
END:STANDARD
BEGIN:STANDARD
DTSTART:20251026T020000
RDATE:20260329T030000
TZOFFSETFROM:+0200
TZOFFSETTO:+0100
TZNAME:Europe/Paris CET
END:STANDARD
BEGIN:STANDARD
DTSTART:20261025T020000
RDATE:20270328T030000
TZOFFSETFROM:+0200
TZOFFSETTO:+0100
TZNAME:Europe/Paris CET
END:STANDARD
BEGIN:DAYLIGHT
DTSTART:20160327T030000
RDATE:20161030T020000
TZOFFSETFROM:+0100
TZOFFSETTO:+0200
TZNAME:Europe/Paris CEST
END:DAYLIGHT
BEGIN:DAYLIGHT
DTSTART:20170326T030000
RDATE:20171029T020000
TZOFFSETFROM:+0100
TZOFFSETTO:+0200
TZNAME:Europe/Paris CEST
END:DAYLIGHT
BEGIN:DAYLIGHT
DTSTART:20180325T030000
RDATE:20181028T020000
TZOFFSETFROM:+0100
TZOFFSETTO:+0200
TZNAME:Europe/Paris CEST
END:DAYLIGHT
BEGIN:DAYLIGHT
DTSTART:20190331T030000
RDATE:20191027T020000
TZOFFSETFROM:+0100
TZOFFSETTO:+0200
TZNAME:Europe/Paris CEST
END:DAYLIGHT
BEGIN:DAYLIGHT
DTSTART:20200329T030000
RDATE:20201025T020000
TZOFFSETFROM:+0100
TZOFFSETTO:+0200
TZNAME:Europe/Paris CEST
END:DAYLIGHT
BEGIN:DAYLIGHT
DTSTART:20210328T030000
RDATE:20211031T020000
TZOFFSETFROM:+0100
TZOFFSETTO:+0200
TZNAME:Europe/Paris CEST
END:DAYLIGHT
BEGIN:DAYLIGHT
DTSTART:20220327T030000
RDATE:20221030T020000
TZOFFSETFROM:+0100
TZOFFSETTO:+0200
TZNAME:Europe/Paris CEST
END:DAYLIGHT
BEGIN:DAYLIGHT
DTSTART:20230326T030000
RDATE:20231029T020000
TZOFFSETFROM:+0100
TZOFFSETTO:+0200
TZNAME:Europe/Paris CEST
END:DAYLIGHT
BEGIN:DAYLIGHT
DTSTART:20240331T030000
RDATE:20241027T020000
TZOFFSETFROM:+0100
TZOFFSETTO:+0200
TZNAME:Europe/Paris CEST
END:DAYLIGHT
BEGIN:DAYLIGHT
DTSTART:20250330T030000
RDATE:20251026T020000
TZOFFSETFROM:+0100
TZOFFSETTO:+0200
TZNAME:Europe/Paris CEST
END:DAYLIGHT
BEGIN:DAYLIGHT
DTSTART:20260329T030000
RDATE:20261025T020000
TZOFFSETFROM:+0100
TZOFFSETTO:+0200
TZNAME:Europe/Paris CEST
END:DAYLIGHT
END:VTIMEZONE
BEGIN:VEVENT
UID:102df7c0905592759bfd2cec1c98010a
CATEGORIES:Circuit Massif Adultes (alpin)
CREATED:20161202T134851
SUMMARY:GPA LE BISTROT DE LA PERLE U16 à Masters
URL;VALUE=URI:https://skivosges.net/agenda/export-synchronisation/detailevenement/669/-/g
 pa-le-bistrot-de-la-perle-u16-a-masters?tmpl=component
DESCRIPTION:GPA LE BISTROT DE LA PERLE U16 à Masters\n - Codex évenement AMVT0200\n - C
 ircuit : Grand Prix Adultes\n - Lieu : GERARDMER\n - Station : GERARDMER\n 
 - Organisateur : 14089 GERARDMER SKI ALPIN\n - Courriel : RegularLabs.Email
 Protector.unCloak("ep_cec10da8");\n - Téléphone : 03 29 60 98 04Période d'i
 nscription à l'evènement du dimanche 08 janvier 2017 à 01:00 au vendredi 13
  janvier 2017 à 18:00 (Inscriptions impossibles).Le type de titres Fédéraux
  autorisé n'est pas défini. Veuillez contacter l'organisateur et lui signal
 er le problème.Epreuves :\n - Le dimanche 15 janvier 2017\n - Codex épreuve
  AMVM0201\n - Slalom\n - Circuit : Grand Prix Adultes\n - Le dimanche 15 ja
 nvier 2017\n - Codex épreuve AMVF0201\n - Slalom\n - Circuit : Grand Prix A
 dultes\n - Le dimanche 15 janvier 2017\n - Codex épreuve AMVM0202\n - Slalo
 m\n - Circuit : Grand Prix Adultes\n - Le dimanche 15 janvier 2017\n - Code
 x épreuve AMVF0202\n - Slalom\n - Circuit : Grand Prix Adultes\n - Le diman
 che 15 janvier 2017\n - Codex épreuve AMVM0203\n - Slalom\n - Circuit : Gra
 nd Prix Adultes\n - Le dimanche 15 janvier 2017\n - Codex épreuve AMVF0203\
 n - Slalom\n - Circuit : Grand Prix Adultes\n - Voir les informations dans 
 l'agenda... (/index.php?option=com_jevents&amp;task=icalevent.detail&amp;ev
 id=664&amp;Itemid=6283)\n - Vers les résultats... (/index.php?option=com_gs
 kiepreuves&amp;view=afficheresultats&amp;format_option=tous&amp;filter[sear
 ch]=AMVT0200&amp;filter[date_debut]=15-01-2017&amp;filter[date_fin]=15-01-2
 017&amp;code_activite=ALP&amp;Itemid=6283) Cet évènement a été importé depu
 is :https://skivosges.net/agenda/export-synchronisation/detailevenement/669
 /-/gpa-le-bistrot-de-la-perle-u16-a-masters?tmpl=component
X-ALT-DESC;FMTTYPE=text/html:<!-- #gskiepreuve code généré par le plugin jevents pour GskiEpreuves. Ne p
 as modifier cette ligne, ni tout le contenu suivant  #gskiepreuve --><div c
 lass="gski-evenement_infos"><div class="gski-evenement-nom">GPA LE BISTROT 
 DE LA PERLE U16 à Masters</div><div class="gski-evenement-report"></div><ul
  class="gski-evenement-liste-infos"><li>Codex évenement AMVT0200</li><li>Ci
 rcuit : Grand Prix Adultes</li><li>Lieu : GERARDMER</li><li>Station : GERAR
 DMER</li><li>Organisateur : 14089 GERARDMER SKI ALPIN</li><li>Courriel : <!
 -- Cette adresse électronique est protégée contre les robots spammeurs. -->
 <span class="cloaked_email ep_cec10da8"><span data-ep-b="&#102;&#114;" data
 -ep-a="&#97;&#115;&#103;s&#107;"><span data-ep-a="&#105;.&#103;&#101;&#114;
 " data-ep-b="&#97;&#100;&#111;o&#46;"><span data-ep-b="r&#64;&#119;&#97;n" 
 data-ep-a="&#97;&#114;dm&#101;"></span></span></span></span><script>Regular
 Labs.EmailProtector.unCloak("ep_cec10da8");</script></li><li>Téléphone : 03
  29 60 98 04</li></ul><div class="gski-evenement-infos-2"><div class="gski-
 evenement-info-inscriptions"><div class="gski-evenement-inscriptions-period
 es">Période d'inscription à l'evènement du dimanche 08 janvier 2017 à 01:00
  au vendredi 13 janvier 2017 à 18:00 <span class="gski-evenement-inscriptio
 ns-impossibles">(Inscriptions impossibles).</span><div class="gski-evenemen
 t-inscriptions-types-titres">Le type de titres Fédéraux autorisé n'est pas 
 défini. Veuillez contacter l'organisateur et lui signaler le problème.</div
 ></div></div><div class="gski-evenement-epreuves"><div class="gski-evenemen
 t-epreuves-titres">Epreuves :</div><ul class="gski-evenement-epreuves-list"
 ><li><div class="gski-epreuve-date">Le dimanche 15 janvier 2017</div><ul cl
 ass="gski-epreuve-liste-infos"><li>Codex épreuve AMVM0201</li><li>Slalom</l
 i><li>Circuit : Grand Prix Adultes</li></ul></li><li><div class="gski-epreu
 ve-date">Le dimanche 15 janvier 2017</div><ul class="gski-epreuve-liste-inf
 os"><li>Codex épreuve AMVF0201</li><li>Slalom</li><li>Circuit : Grand Prix 
 Adultes</li></ul></li><li><div class="gski-epreuve-date">Le dimanche 15 jan
 vier 2017</div><ul class="gski-epreuve-liste-infos"><li>Codex épreuve AMVM0
 202</li><li>Slalom</li><li>Circuit : Grand Prix Adultes</li></ul></li><li><
 div class="gski-epreuve-date">Le dimanche 15 janvier 2017</div><ul class="g
 ski-epreuve-liste-infos"><li>Codex épreuve AMVF0202</li><li>Slalom</li><li>
 Circuit : Grand Prix Adultes</li></ul></li><li><div class="gski-epreuve-dat
 e">Le dimanche 15 janvier 2017</div><ul class="gski-epreuve-liste-infos"><l
 i>Codex épreuve AMVM0203</li><li>Slalom</li><li>Circuit : Grand Prix Adulte
 s</li></ul></li><li><div class="gski-epreuve-date">Le dimanche 15 janvier 2
 017</div><ul class="gski-epreuve-liste-infos"><li>Codex épreuve AMVF0203</l
 i><li>Slalom</li><li>Circuit : Grand Prix Adultes</li></ul></li></ul></div>
 <div class="gskiepreuves-links"><ul><li><a href="https://skivosges.net/inde
 x.php?option=com_jevents&task=icalevent.detail&evid=664&Itemid=6283">Voir l
 es informations dans l'agenda...</a></li><li><a href="https://skivosges.net
 /index.php?option=com_gskiepreuves&view=afficheresultats&format_option=tous
 &filter[search]=AMVT0200&filter[date_debut]=15-01-2017&filter[date_fin]=15-
 01-2017&code_activite=ALP&Itemid=6283">Vers les résultats...</a></li></ul><
 /div></div"><!-- #/gskiepreuve fin du dode généré par le plugin jevents pou
 r GskiEpreuves. . Ne pas modifier cette ligne, ni tout le contenu précedant
 .  #/gskiepreuve --> <a href="https://skivosges.net/agenda/export-synchroni
 sation/detailevenement/669/-/gpa-le-bistrot-de-la-perle-u16-a-masters?tmpl=
 component">Cet évènement a été importé depuis :https://skivosges.net/agenda
 /export-synchronisation/detailevenement/669/-/gpa-le-bistrot-de-la-perle-u1
 6-a-masters?tmpl=component</a>DTSTAMP:20260420T184017
DTSTART;TZID=Europe/Paris;VALUE=DATE:20170115
DTEND;TZID=Europe/Paris;VALUE=DATE:20170116
SEQUENCE:0
TRANSP:OPAQUE
END:VEVENT
END:VCALENDAR