BEGIN:VCALENDAR
VERSION:2.0
PRODID:-//jEvents 2.0 for Joomla//EN
CALSCALE:GREGORIAN
METHOD:PUBLISH
BEGIN:VTIMEZONE
TZID:Europe/Paris
BEGIN:STANDARD
DTSTART:20160115T000000
RDATE:20160327T030000
TZOFFSETFROM:+0200
TZOFFSETTO:+0100
TZNAME:Europe/Paris CET
END:STANDARD
BEGIN:STANDARD
DTSTART:20161030T020000
RDATE:20170326T030000
TZOFFSETFROM:+0200
TZOFFSETTO:+0100
TZNAME:Europe/Paris CET
END:STANDARD
BEGIN:STANDARD
DTSTART:20171029T020000
RDATE:20180325T030000
TZOFFSETFROM:+0200
TZOFFSETTO:+0100
TZNAME:Europe/Paris CET
END:STANDARD
BEGIN:STANDARD
DTSTART:20181028T020000
RDATE:20190331T030000
TZOFFSETFROM:+0200
TZOFFSETTO:+0100
TZNAME:Europe/Paris CET
END:STANDARD
BEGIN:STANDARD
DTSTART:20191027T020000
RDATE:20200329T030000
TZOFFSETFROM:+0200
TZOFFSETTO:+0100
TZNAME:Europe/Paris CET
END:STANDARD
BEGIN:STANDARD
DTSTART:20201025T020000
RDATE:20210328T030000
TZOFFSETFROM:+0200
TZOFFSETTO:+0100
TZNAME:Europe/Paris CET
END:STANDARD
BEGIN:STANDARD
DTSTART:20211031T020000
RDATE:20220327T030000
TZOFFSETFROM:+0200
TZOFFSETTO:+0100
TZNAME:Europe/Paris CET
END:STANDARD
BEGIN:STANDARD
DTSTART:20221030T020000
RDATE:20230326T030000
TZOFFSETFROM:+0200
TZOFFSETTO:+0100
TZNAME:Europe/Paris CET
END:STANDARD
BEGIN:STANDARD
DTSTART:20231029T020000
RDATE:20240331T030000
TZOFFSETFROM:+0200
TZOFFSETTO:+0100
TZNAME:Europe/Paris CET
END:STANDARD
BEGIN:STANDARD
DTSTART:20241027T020000
RDATE:20250330T030000
TZOFFSETFROM:+0200
TZOFFSETTO:+0100
TZNAME:Europe/Paris CET
END:STANDARD
BEGIN:STANDARD
DTSTART:20251026T020000
RDATE:20260329T030000
TZOFFSETFROM:+0200
TZOFFSETTO:+0100
TZNAME:Europe/Paris CET
END:STANDARD
BEGIN:STANDARD
DTSTART:20261025T020000
RDATE:20270328T030000
TZOFFSETFROM:+0200
TZOFFSETTO:+0100
TZNAME:Europe/Paris CET
END:STANDARD
BEGIN:DAYLIGHT
DTSTART:20160327T030000
RDATE:20161030T020000
TZOFFSETFROM:+0100
TZOFFSETTO:+0200
TZNAME:Europe/Paris CEST
END:DAYLIGHT
BEGIN:DAYLIGHT
DTSTART:20170326T030000
RDATE:20171029T020000
TZOFFSETFROM:+0100
TZOFFSETTO:+0200
TZNAME:Europe/Paris CEST
END:DAYLIGHT
BEGIN:DAYLIGHT
DTSTART:20180325T030000
RDATE:20181028T020000
TZOFFSETFROM:+0100
TZOFFSETTO:+0200
TZNAME:Europe/Paris CEST
END:DAYLIGHT
BEGIN:DAYLIGHT
DTSTART:20190331T030000
RDATE:20191027T020000
TZOFFSETFROM:+0100
TZOFFSETTO:+0200
TZNAME:Europe/Paris CEST
END:DAYLIGHT
BEGIN:DAYLIGHT
DTSTART:20200329T030000
RDATE:20201025T020000
TZOFFSETFROM:+0100
TZOFFSETTO:+0200
TZNAME:Europe/Paris CEST
END:DAYLIGHT
BEGIN:DAYLIGHT
DTSTART:20210328T030000
RDATE:20211031T020000
TZOFFSETFROM:+0100
TZOFFSETTO:+0200
TZNAME:Europe/Paris CEST
END:DAYLIGHT
BEGIN:DAYLIGHT
DTSTART:20220327T030000
RDATE:20221030T020000
TZOFFSETFROM:+0100
TZOFFSETTO:+0200
TZNAME:Europe/Paris CEST
END:DAYLIGHT
BEGIN:DAYLIGHT
DTSTART:20230326T030000
RDATE:20231029T020000
TZOFFSETFROM:+0100
TZOFFSETTO:+0200
TZNAME:Europe/Paris CEST
END:DAYLIGHT
BEGIN:DAYLIGHT
DTSTART:20240331T030000
RDATE:20241027T020000
TZOFFSETFROM:+0100
TZOFFSETTO:+0200
TZNAME:Europe/Paris CEST
END:DAYLIGHT
BEGIN:DAYLIGHT
DTSTART:20250330T030000
RDATE:20251026T020000
TZOFFSETFROM:+0100
TZOFFSETTO:+0200
TZNAME:Europe/Paris CEST
END:DAYLIGHT
BEGIN:DAYLIGHT
DTSTART:20260329T030000
RDATE:20261025T020000
TZOFFSETFROM:+0100
TZOFFSETTO:+0200
TZNAME:Europe/Paris CEST
END:DAYLIGHT
END:VTIMEZONE
BEGIN:VEVENT
UID:4a1d4886f016c057988642b4de26a2fd
CATEGORIES:Opens et Promos (alpin)
CREATED:20161202T134851
SUMMARY:CD2 Prix de la Tannerie Degermann **REPORTE**
URL;VALUE=URI:https://skivosges.net/agenda/export-synchronisation/detailevenement/670/-/c
 d2-prix-de-la-tannerie-degermann-reporte?tmpl=component
DESCRIPTION:<!-- #gskiepreuve code généré par le plugin jevents pour GskiEpreuves. Ne p
 as modifier cette ligne, ni tout le contenu suivant  #gskiepreuve --><div c
 lass="gski-evenement_infos"><div class="gski-evenement-nom">CD2 Prix de la 
 Tannerie Degermann</div><div class="gski-evenement-report"> <font class="gs
 kiattention">(Epreuve reportée, date à determiner)</font></div><ul class="g
 ski-evenement-liste-infos"><li>Codex évenement AMVT0210</li><li>Lieu : CHAM
 P DU FEU</li><li>Station : CHAMP DU FEU</li><li>Organisateur : 14003 SKI CL
 UB BARR</li><li>Courriel : <!-- Cette adresse électronique est protégée con
 tre les robots spammeurs. --><span class="cloaked_email ep_66d4d032"><span 
 data-ep-a="wi&#101;&#115;&#46;" data-ep-b=""><span data-ep-a="&#99;h&#114;&
 #105;&#115;" data-ep-b="&#108;.&#99;&#111;m"><span data-ep-b="&#64;g&#109;&
 #97;&#105;" data-ep-a="t&#111;&#112;&#104;&#101;"></span></span></span></sp
 an><script>RegularLabs.EmailProtector.unCloak("ep_66d4d032");</script></li>
 <li><span class="gski-evenement-obs">Autres informations : Achat possible d
 es forfaits lors de la remise des dossards au prix de 10&euro; par coureur 
 si paiement en esp&egrave;ce. Sinon, l&acute;achat sera &agrave; effectuer 
 aux caisses des RM &agrave; l&acute;Auberge Hazemann.</span></li></ul><div 
 class="gski-evenement-infos-2"><div class="gski-evenement-info-inscriptions
 "><div class="gski-evenement-inscriptions-periodes">Période d'inscription à
  l'evènement du dimanche 08 janvier 2017 à 01:00 au vendredi 13 janvier 201
 7 à 19:00 <span class="gski-evenement-inscriptions-impossibles">(Inscriptio
 ns impossibles).</span><div class="gski-evenement-inscriptions-types-titres
 ">Le type de titres Fédéraux autorisé n'est pas défini. Veuillez contacter 
 l'organisateur et lui signaler le problème.</div></div></div><div class="gs
 ki-evenement-epreuves"><div class="gski-evenement-epreuves-titres">Epreuves
  :</div><ul class="gski-evenement-epreuves-list"><li><div class="gski-epreu
 ve-date">Le dimanche 15 janvier 2017</div><ul class="gski-epreuve-liste-inf
 os"><li>Codex épreuve AMVM0211</li><li>Slalom</li></ul></li><li><div class=
 "gski-epreuve-date">Le dimanche 15 janvier 2017</div><ul class="gski-epreuv
 e-liste-infos"><li>Codex épreuve AMVF0211</li><li>Slalom</li></ul></li></ul
 ></div><div class="gskiepreuves-links"><ul><li><a href="/index.php?option=c
 om_jevents&task=icalevent.detail&evid=665&Itemid=6283">Voir les information
 s dans l'agenda...</a></li></ul></div></div"><!-- #/gskiepreuve fin du dode
  généré par le plugin jevents pour GskiEpreuves. . Ne pas modifier cette li
 gne, ni tout le contenu précedant.  #/gskiepreuve --> <a href="https://skiv
 osges.net/agenda/export-synchronisation/detailevenement/670/-/cd2-prix-de-l
 a-tannerie-degermann-reporte?tmpl=component">Cet évènement a été importé de
 puis :https://skivosges.net/agenda/export-synchronisation/detailevenement/6
 70/-/cd2-prix-de-la-tannerie-degermann-reporte?tmpl=component</a>
X-ALT-DESC;FMTTYPE=text/html:<!-- #gskiepreuve code généré par le plugin jevents pour GskiEpreuves. Ne p
 as modifier cette ligne, ni tout le contenu suivant  #gskiepreuve --><div c
 lass="gski-evenement_infos"><div class="gski-evenement-nom">CD2 Prix de la 
 Tannerie Degermann</div><div class="gski-evenement-report"> <font class="gs
 kiattention">(Epreuve reportée, date à determiner)</font></div><ul class="g
 ski-evenement-liste-infos"><li>Codex évenement AMVT0210</li><li>Lieu : CHAM
 P DU FEU</li><li>Station : CHAMP DU FEU</li><li>Organisateur : 14003 SKI CL
 UB BARR</li><li>Courriel : <!-- Cette adresse électronique est protégée con
 tre les robots spammeurs. --><span class="cloaked_email ep_66d4d032"><span 
 data-ep-a="wi&#101;&#115;&#46;" data-ep-b=""><span data-ep-a="&#99;h&#114;&
 #105;&#115;" data-ep-b="&#108;.&#99;&#111;m"><span data-ep-b="&#64;g&#109;&
 #97;&#105;" data-ep-a="t&#111;&#112;&#104;&#101;"></span></span></span></sp
 an><script>RegularLabs.EmailProtector.unCloak("ep_66d4d032");</script></li>
 <li><span class="gski-evenement-obs">Autres informations : Achat possible d
 es forfaits lors de la remise des dossards au prix de 10&euro; par coureur 
 si paiement en esp&egrave;ce. Sinon, l&acute;achat sera &agrave; effectuer 
 aux caisses des RM &agrave; l&acute;Auberge Hazemann.</span></li></ul><div 
 class="gski-evenement-infos-2"><div class="gski-evenement-info-inscriptions
 "><div class="gski-evenement-inscriptions-periodes">Période d'inscription à
  l'evènement du dimanche 08 janvier 2017 à 01:00 au vendredi 13 janvier 201
 7 à 19:00 <span class="gski-evenement-inscriptions-impossibles">(Inscriptio
 ns impossibles).</span><div class="gski-evenement-inscriptions-types-titres
 ">Le type de titres Fédéraux autorisé n'est pas défini. Veuillez contacter 
 l'organisateur et lui signaler le problème.</div></div></div><div class="gs
 ki-evenement-epreuves"><div class="gski-evenement-epreuves-titres">Epreuves
  :</div><ul class="gski-evenement-epreuves-list"><li><div class="gski-epreu
 ve-date">Le dimanche 15 janvier 2017</div><ul class="gski-epreuve-liste-inf
 os"><li>Codex épreuve AMVM0211</li><li>Slalom</li></ul></li><li><div class=
 "gski-epreuve-date">Le dimanche 15 janvier 2017</div><ul class="gski-epreuv
 e-liste-infos"><li>Codex épreuve AMVF0211</li><li>Slalom</li></ul></li></ul
 ></div><div class="gskiepreuves-links"><ul><li><a href="https://skivosges.n
 et/index.php?option=com_jevents&task=icalevent.detail&evid=665&Itemid=6283"
 >Voir les informations dans l'agenda...</a></li></ul></div></div"><!-- #/gs
 kiepreuve fin du dode généré par le plugin jevents pour GskiEpreuves. . Ne 
 pas modifier cette ligne, ni tout le contenu précedant.  #/gskiepreuve --> 
 <a href="https://skivosges.net/agenda/export-synchronisation/detailevenemen
 t/670/-/cd2-prix-de-la-tannerie-degermann-reporte?tmpl=component">Cet évène
 ment a été importé depuis :https://skivosges.net/agenda/export-synchronisat
 ion/detailevenement/670/-/cd2-prix-de-la-tannerie-degermann-reporte?tmpl=co
 mponent</a>DTSTAMP:20260420T221350
DTSTART;TZID=Europe/Paris;VALUE=DATE:20170115
DTEND;TZID=Europe/Paris;VALUE=DATE:20170116
SEQUENCE:0
TRANSP:OPAQUE
END:VEVENT
END:VCALENDAR