BEGIN:VCALENDAR
VERSION:2.0
PRODID:-//jEvents 2.0 for Joomla//EN
CALSCALE:GREGORIAN
METHOD:PUBLISH
BEGIN:VTIMEZONE
TZID:Europe/Paris
BEGIN:STANDARD
DTSTART:20160115T000000
RDATE:20160327T030000
TZOFFSETFROM:+0200
TZOFFSETTO:+0100
TZNAME:Europe/Paris CET
END:STANDARD
BEGIN:STANDARD
DTSTART:20161030T020000
RDATE:20170326T030000
TZOFFSETFROM:+0200
TZOFFSETTO:+0100
TZNAME:Europe/Paris CET
END:STANDARD
BEGIN:STANDARD
DTSTART:20171029T020000
RDATE:20180325T030000
TZOFFSETFROM:+0200
TZOFFSETTO:+0100
TZNAME:Europe/Paris CET
END:STANDARD
BEGIN:STANDARD
DTSTART:20181028T020000
RDATE:20190331T030000
TZOFFSETFROM:+0200
TZOFFSETTO:+0100
TZNAME:Europe/Paris CET
END:STANDARD
BEGIN:STANDARD
DTSTART:20191027T020000
RDATE:20200329T030000
TZOFFSETFROM:+0200
TZOFFSETTO:+0100
TZNAME:Europe/Paris CET
END:STANDARD
BEGIN:STANDARD
DTSTART:20201025T020000
RDATE:20210328T030000
TZOFFSETFROM:+0200
TZOFFSETTO:+0100
TZNAME:Europe/Paris CET
END:STANDARD
BEGIN:STANDARD
DTSTART:20211031T020000
RDATE:20220327T030000
TZOFFSETFROM:+0200
TZOFFSETTO:+0100
TZNAME:Europe/Paris CET
END:STANDARD
BEGIN:STANDARD
DTSTART:20221030T020000
RDATE:20230326T030000
TZOFFSETFROM:+0200
TZOFFSETTO:+0100
TZNAME:Europe/Paris CET
END:STANDARD
BEGIN:STANDARD
DTSTART:20231029T020000
RDATE:20240331T030000
TZOFFSETFROM:+0200
TZOFFSETTO:+0100
TZNAME:Europe/Paris CET
END:STANDARD
BEGIN:STANDARD
DTSTART:20241027T020000
RDATE:20250330T030000
TZOFFSETFROM:+0200
TZOFFSETTO:+0100
TZNAME:Europe/Paris CET
END:STANDARD
BEGIN:STANDARD
DTSTART:20251026T020000
RDATE:20260329T030000
TZOFFSETFROM:+0200
TZOFFSETTO:+0100
TZNAME:Europe/Paris CET
END:STANDARD
BEGIN:STANDARD
DTSTART:20261025T020000
RDATE:20270328T030000
TZOFFSETFROM:+0200
TZOFFSETTO:+0100
TZNAME:Europe/Paris CET
END:STANDARD
BEGIN:DAYLIGHT
DTSTART:20160327T030000
RDATE:20161030T020000
TZOFFSETFROM:+0100
TZOFFSETTO:+0200
TZNAME:Europe/Paris CEST
END:DAYLIGHT
BEGIN:DAYLIGHT
DTSTART:20170326T030000
RDATE:20171029T020000
TZOFFSETFROM:+0100
TZOFFSETTO:+0200
TZNAME:Europe/Paris CEST
END:DAYLIGHT
BEGIN:DAYLIGHT
DTSTART:20180325T030000
RDATE:20181028T020000
TZOFFSETFROM:+0100
TZOFFSETTO:+0200
TZNAME:Europe/Paris CEST
END:DAYLIGHT
BEGIN:DAYLIGHT
DTSTART:20190331T030000
RDATE:20191027T020000
TZOFFSETFROM:+0100
TZOFFSETTO:+0200
TZNAME:Europe/Paris CEST
END:DAYLIGHT
BEGIN:DAYLIGHT
DTSTART:20200329T030000
RDATE:20201025T020000
TZOFFSETFROM:+0100
TZOFFSETTO:+0200
TZNAME:Europe/Paris CEST
END:DAYLIGHT
BEGIN:DAYLIGHT
DTSTART:20210328T030000
RDATE:20211031T020000
TZOFFSETFROM:+0100
TZOFFSETTO:+0200
TZNAME:Europe/Paris CEST
END:DAYLIGHT
BEGIN:DAYLIGHT
DTSTART:20220327T030000
RDATE:20221030T020000
TZOFFSETFROM:+0100
TZOFFSETTO:+0200
TZNAME:Europe/Paris CEST
END:DAYLIGHT
BEGIN:DAYLIGHT
DTSTART:20230326T030000
RDATE:20231029T020000
TZOFFSETFROM:+0100
TZOFFSETTO:+0200
TZNAME:Europe/Paris CEST
END:DAYLIGHT
BEGIN:DAYLIGHT
DTSTART:20240331T030000
RDATE:20241027T020000
TZOFFSETFROM:+0100
TZOFFSETTO:+0200
TZNAME:Europe/Paris CEST
END:DAYLIGHT
BEGIN:DAYLIGHT
DTSTART:20250330T030000
RDATE:20251026T020000
TZOFFSETFROM:+0100
TZOFFSETTO:+0200
TZNAME:Europe/Paris CEST
END:DAYLIGHT
BEGIN:DAYLIGHT
DTSTART:20260329T030000
RDATE:20261025T020000
TZOFFSETFROM:+0100
TZOFFSETTO:+0200
TZNAME:Europe/Paris CEST
END:DAYLIGHT
END:VTIMEZONE
BEGIN:VEVENT
UID:b7ce7d6942e8d5dba42bef7e385c95b7
CATEGORIES:Circuit Lorraine Jeunes (alpin)
CREATED:20161202T134851
SUMMARY:CLJ Coupe de bronze et micro PRIX CEERI
URL;VALUE=URI:https://skivosges.net/agenda/export-synchronisation/detailevenement/671/-/c
 lj-coupe-de-bronze-et-micro-prix-ceeri?tmpl=component
DESCRIPTION:CLJ Coupe de bronze et micro PRIX CEERI\n - Codex évenement AMVT0190\n - Ci
 rcuit : Coupe de Lorraine Jeunes\n - Lieu : FRERE JOSEPH\n - Station : FRER
 E JOSEPH\n - Organisateur : 14083 U.S VENTRON\n - Courriel : RegularLabs.Em
 ailProtector.unCloak("ep_726c4c1e");\n - Autres informations : Il y aura 1 
 tracé spécifique pour la course U8/U10 avec un départ abaissé. L´heure de d
 épart des U8/U10 est fixée à 12h00. L´heure de départ des U12/U14 est fixée
  à 10h00.Période d'inscription à l'evènement du dimanche 08 janvier 2017 à 
 01:00 au vendredi 13 janvier 2017 à 15:00 (Inscriptions impossibles).Le typ
 e de titres Fédéraux autorisé n'est pas défini. Veuillez contacter l'organi
 sateur et lui signaler le problème.Epreuves :\n - Le dimanche 15 janvier 20
 17\n - Codex épreuve AMVM0191\n - Slalom\n - Circuit : Coupe de Lorraine Je
 unes\n - Le dimanche 15 janvier 2017\n - Codex épreuve AMVF0191\n - Slalom\
 n - Circuit : Coupe de Lorraine Jeunes\n - Le dimanche 15 janvier 2017\n - 
 Codex épreuve AMVM0192\n - Slalom\n - Circuit : Coupe de Lorraine Jeunes\n 
 - Le dimanche 15 janvier 2017\n - Codex épreuve AMVF0192\n - Slalom\n - Cir
 cuit : Coupe de Lorraine Jeunes\n - Le dimanche 15 janvier 2017\n - Codex é
 preuve AMVM0193\n - Slalom\n - Circuit : Coupe de Lorraine Jeunes\n - Le di
 manche 15 janvier 2017\n - Codex épreuve AMVF0193\n - Slalom\n - Circuit : 
 Coupe de Lorraine Jeunes\n - Voir les informations dans l'agenda... (/index
 .php?option=com_jevents&amp;task=icalevent.detail&amp;evid=666&amp;Itemid=6
 283)\n - Vers les résultats... (/index.php?option=com_gskiepreuves&amp;view
 =afficheresultats&amp;format_option=tous&amp;filter[search]=AMVT0190&amp;fi
 lter[date_debut]=15-01-2017&amp;filter[date_fin]=15-01-2017&amp;code_activi
 te=ALP&amp;Itemid=6283) Cet évènement a été importé depuis :https://skivosg
 es.net/agenda/export-synchronisation/detailevenement/671/-/clj-coupe-de-bro
 nze-et-micro-prix-ceeri?tmpl=component
X-ALT-DESC;FMTTYPE=text/html:<!-- #gskiepreuve code généré par le plugin jevents pour GskiEpreuves. Ne p
 as modifier cette ligne, ni tout le contenu suivant  #gskiepreuve --><div c
 lass="gski-evenement_infos"><div class="gski-evenement-nom">CLJ Coupe de br
 onze et micro PRIX CEERI</div><div class="gski-evenement-report"></div><ul 
 class="gski-evenement-liste-infos"><li>Codex évenement AMVT0190</li><li>Cir
 cuit : Coupe de Lorraine Jeunes</li><li>Lieu : FRERE JOSEPH</li><li>Station
  : FRERE JOSEPH</li><li>Organisateur : 14083 U.S VENTRON</li><li>Courriel :
  <!-- Cette adresse électronique est protégée contre les robots spammeurs. 
 --><span class="cloaked_email ep_726c4c1e"><span data-ep-b="&#108;&#101;.&#
 102;r" data-ep-a="&#115;teph"><span data-ep-b="&#114;ica&#98;" data-ep-a="&
 #97;n&#101;.&#103;"><span data-ep-b="&#64;&#110;&#117;&#109;e" data-ep-a="&
 #105;&#103;a&#110;t"></span></span></span></span><script>RegularLabs.EmailP
 rotector.unCloak("ep_726c4c1e");</script></li><li><span class="gski-eveneme
 nt-obs">Autres informations : Il y aura 1 trac&eacute; sp&eacute;cifique po
 ur la course U8/U10 avec un d&eacute;part abaiss&eacute;. L&acute;heure de 
 d&eacute;part des U8/U10 est fix&eacute;e &agrave; 12h00. L&acute;heure de 
 d&eacute;part des U12/U14 est fix&eacute;e &agrave; 10h00.</span></li></ul>
 <div class="gski-evenement-infos-2"><div class="gski-evenement-info-inscrip
 tions"><div class="gski-evenement-inscriptions-periodes">Période d'inscript
 ion à l'evènement du dimanche 08 janvier 2017 à 01:00 au vendredi 13 janvie
 r 2017 à 15:00 <span class="gski-evenement-inscriptions-impossibles">(Inscr
 iptions impossibles).</span><div class="gski-evenement-inscriptions-types-t
 itres">Le type de titres Fédéraux autorisé n'est pas défini. Veuillez conta
 cter l'organisateur et lui signaler le problème.</div></div></div><div clas
 s="gski-evenement-epreuves"><div class="gski-evenement-epreuves-titres">Epr
 euves :</div><ul class="gski-evenement-epreuves-list"><li><div class="gski-
 epreuve-date">Le dimanche 15 janvier 2017</div><ul class="gski-epreuve-list
 e-infos"><li>Codex épreuve AMVM0191</li><li>Slalom</li><li>Circuit : Coupe 
 de Lorraine Jeunes</li></ul></li><li><div class="gski-epreuve-date">Le dima
 nche 15 janvier 2017</div><ul class="gski-epreuve-liste-infos"><li>Codex ép
 reuve AMVF0191</li><li>Slalom</li><li>Circuit : Coupe de Lorraine Jeunes</l
 i></ul></li><li><div class="gski-epreuve-date">Le dimanche 15 janvier 2017<
 /div><ul class="gski-epreuve-liste-infos"><li>Codex épreuve AMVM0192</li><l
 i>Slalom</li><li>Circuit : Coupe de Lorraine Jeunes</li></ul></li><li><div 
 class="gski-epreuve-date">Le dimanche 15 janvier 2017</div><ul class="gski-
 epreuve-liste-infos"><li>Codex épreuve AMVF0192</li><li>Slalom</li><li>Circ
 uit : Coupe de Lorraine Jeunes</li></ul></li><li><div class="gski-epreuve-d
 ate">Le dimanche 15 janvier 2017</div><ul class="gski-epreuve-liste-infos">
 <li>Codex épreuve AMVM0193</li><li>Slalom</li><li>Circuit : Coupe de Lorrai
 ne Jeunes</li></ul></li><li><div class="gski-epreuve-date">Le dimanche 15 j
 anvier 2017</div><ul class="gski-epreuve-liste-infos"><li>Codex épreuve AMV
 F0193</li><li>Slalom</li><li>Circuit : Coupe de Lorraine Jeunes</li></ul></
 li></ul></div><div class="gskiepreuves-links"><ul><li><a href="https://skiv
 osges.net/index.php?option=com_jevents&task=icalevent.detail&evid=666&Itemi
 d=6283">Voir les informations dans l'agenda...</a></li><li><a href="https:/
 /skivosges.net/index.php?option=com_gskiepreuves&view=afficheresultats&form
 at_option=tous&filter[search]=AMVT0190&filter[date_debut]=15-01-2017&filter
 [date_fin]=15-01-2017&code_activite=ALP&Itemid=6283">Vers les résultats...<
 /a></li></ul></div></div"><!-- #/gskiepreuve fin du dode généré par le plug
 in jevents pour GskiEpreuves. . Ne pas modifier cette ligne, ni tout le con
 tenu précedant.  #/gskiepreuve --> <a href="https://skivosges.net/agenda/ex
 port-synchronisation/detailevenement/671/-/clj-coupe-de-bronze-et-micro-pri
 x-ceeri?tmpl=component">Cet évènement a été importé depuis :https://skivosg
 es.net/agenda/export-synchronisation/detailevenement/671/-/clj-coupe-de-bro
 nze-et-micro-prix-ceeri?tmpl=component</a>DTSTAMP:20260420T220644
DTSTART;TZID=Europe/Paris;VALUE=DATE:20170115
DTEND;TZID=Europe/Paris;VALUE=DATE:20170116
SEQUENCE:0
TRANSP:OPAQUE
END:VEVENT
END:VCALENDAR