BEGIN:VCALENDAR
VERSION:2.0
PRODID:-//jEvents 2.0 for Joomla//EN
CALSCALE:GREGORIAN
METHOD:PUBLISH
BEGIN:VTIMEZONE
TZID:Europe/Paris
BEGIN:STANDARD
DTSTART:20160115T000000
RDATE:20160327T030000
TZOFFSETFROM:+0200
TZOFFSETTO:+0100
TZNAME:Europe/Paris CET
END:STANDARD
BEGIN:STANDARD
DTSTART:20161030T020000
RDATE:20170326T030000
TZOFFSETFROM:+0200
TZOFFSETTO:+0100
TZNAME:Europe/Paris CET
END:STANDARD
BEGIN:STANDARD
DTSTART:20171029T020000
RDATE:20180325T030000
TZOFFSETFROM:+0200
TZOFFSETTO:+0100
TZNAME:Europe/Paris CET
END:STANDARD
BEGIN:STANDARD
DTSTART:20181028T020000
RDATE:20190331T030000
TZOFFSETFROM:+0200
TZOFFSETTO:+0100
TZNAME:Europe/Paris CET
END:STANDARD
BEGIN:STANDARD
DTSTART:20191027T020000
RDATE:20200329T030000
TZOFFSETFROM:+0200
TZOFFSETTO:+0100
TZNAME:Europe/Paris CET
END:STANDARD
BEGIN:STANDARD
DTSTART:20201025T020000
RDATE:20210328T030000
TZOFFSETFROM:+0200
TZOFFSETTO:+0100
TZNAME:Europe/Paris CET
END:STANDARD
BEGIN:STANDARD
DTSTART:20211031T020000
RDATE:20220327T030000
TZOFFSETFROM:+0200
TZOFFSETTO:+0100
TZNAME:Europe/Paris CET
END:STANDARD
BEGIN:STANDARD
DTSTART:20221030T020000
RDATE:20230326T030000
TZOFFSETFROM:+0200
TZOFFSETTO:+0100
TZNAME:Europe/Paris CET
END:STANDARD
BEGIN:STANDARD
DTSTART:20231029T020000
RDATE:20240331T030000
TZOFFSETFROM:+0200
TZOFFSETTO:+0100
TZNAME:Europe/Paris CET
END:STANDARD
BEGIN:STANDARD
DTSTART:20241027T020000
RDATE:20250330T030000
TZOFFSETFROM:+0200
TZOFFSETTO:+0100
TZNAME:Europe/Paris CET
END:STANDARD
BEGIN:STANDARD
DTSTART:20251026T020000
RDATE:20260329T030000
TZOFFSETFROM:+0200
TZOFFSETTO:+0100
TZNAME:Europe/Paris CET
END:STANDARD
BEGIN:STANDARD
DTSTART:20261025T020000
RDATE:20270328T030000
TZOFFSETFROM:+0200
TZOFFSETTO:+0100
TZNAME:Europe/Paris CET
END:STANDARD
BEGIN:DAYLIGHT
DTSTART:20160327T030000
RDATE:20161030T020000
TZOFFSETFROM:+0100
TZOFFSETTO:+0200
TZNAME:Europe/Paris CEST
END:DAYLIGHT
BEGIN:DAYLIGHT
DTSTART:20170326T030000
RDATE:20171029T020000
TZOFFSETFROM:+0100
TZOFFSETTO:+0200
TZNAME:Europe/Paris CEST
END:DAYLIGHT
BEGIN:DAYLIGHT
DTSTART:20180325T030000
RDATE:20181028T020000
TZOFFSETFROM:+0100
TZOFFSETTO:+0200
TZNAME:Europe/Paris CEST
END:DAYLIGHT
BEGIN:DAYLIGHT
DTSTART:20190331T030000
RDATE:20191027T020000
TZOFFSETFROM:+0100
TZOFFSETTO:+0200
TZNAME:Europe/Paris CEST
END:DAYLIGHT
BEGIN:DAYLIGHT
DTSTART:20200329T030000
RDATE:20201025T020000
TZOFFSETFROM:+0100
TZOFFSETTO:+0200
TZNAME:Europe/Paris CEST
END:DAYLIGHT
BEGIN:DAYLIGHT
DTSTART:20210328T030000
RDATE:20211031T020000
TZOFFSETFROM:+0100
TZOFFSETTO:+0200
TZNAME:Europe/Paris CEST
END:DAYLIGHT
BEGIN:DAYLIGHT
DTSTART:20220327T030000
RDATE:20221030T020000
TZOFFSETFROM:+0100
TZOFFSETTO:+0200
TZNAME:Europe/Paris CEST
END:DAYLIGHT
BEGIN:DAYLIGHT
DTSTART:20230326T030000
RDATE:20231029T020000
TZOFFSETFROM:+0100
TZOFFSETTO:+0200
TZNAME:Europe/Paris CEST
END:DAYLIGHT
BEGIN:DAYLIGHT
DTSTART:20240331T030000
RDATE:20241027T020000
TZOFFSETFROM:+0100
TZOFFSETTO:+0200
TZNAME:Europe/Paris CEST
END:DAYLIGHT
BEGIN:DAYLIGHT
DTSTART:20250330T030000
RDATE:20251026T020000
TZOFFSETFROM:+0100
TZOFFSETTO:+0200
TZNAME:Europe/Paris CEST
END:DAYLIGHT
BEGIN:DAYLIGHT
DTSTART:20260329T030000
RDATE:20261025T020000
TZOFFSETFROM:+0100
TZOFFSETTO:+0200
TZNAME:Europe/Paris CEST
END:DAYLIGHT
END:VTIMEZONE
BEGIN:VEVENT
UID:37635cbaef9bf314898d25fff237f08c
CATEGORIES:Circuit Alsace Jeunes (alpin)
CREATED:20161202T134851
SUMMARY:CAJ Coupe de Bronze et micro  Coupe Habitat Sillon **REPORTE**
URL;VALUE=URI:https://skivosges.net/agenda/export-synchronisation/detailevenement/672/-/c
 aj-coupe-de-bronze-et-micro-coupe-habitat-sillon-reporte?tmpl=component
DESCRIPTION:CAJ Coupe de Bronze et micro  Coupe Habitat Sillon (Epreuve reportée)\n - C
 odex évenement AMVT0170\n - Circuit : Coupe d'Alsace Jeunes\n - Lieu : MARK
 STEIN\n - Station : MARKSTEIN\n - COM_GSKIEPREUVES_EPREUVE_PISTEStade\n - O
 rganisateur : 14081 SKI CLUB ROSSBERG\n - Courriel : RegularLabs.EmailProte
 ctor.unCloak("ep_a1c26d4e");\n - Téléphone : 0607609678Période d'inscriptio
 n à l'evènement du dimanche 08 janvier 2017 à 01:00 au vendredi 13 janvier 
 2017 à 20:30 (Inscriptions impossibles).Le type de titres Fédéraux autorisé
  n'est pas défini. Veuillez contacter l'organisateur et lui signaler le pro
 blème.Epreuves :\n - Le dimanche 15 janvier 2017\n - Codex épreuve AMVM0171
 \n - Slalom\n - Circuit : Coupe d'Alsace Jeunes\n - Le dimanche 15 janvier 
 2017\n - Codex épreuve AMVF0171\n - Slalom\n - Circuit : Coupe d'Alsace Jeu
 nes\n - Le dimanche 15 janvier 2017\n - Codex épreuve AMVM0172\n - Slalom\n
  - Circuit : Coupe d'Alsace Jeunes\n - Le dimanche 15 janvier 2017\n - Code
 x épreuve AMVF0172\n - Slalom\n - Circuit : Coupe d'Alsace Jeunes\n - Le di
 manche 15 janvier 2017\n - Codex épreuve AMVM0173\n - Slalom\n - Circuit : 
 Coupe d'Alsace Jeunes\n - Le dimanche 15 janvier 2017\n - Codex épreuve AMV
 F0173\n - Slalom\n - Circuit : Coupe d'Alsace Jeunes\n - Voir les informati
 ons dans l'agenda... (/index.php?option=com_jevents&amp;task=icalevent.deta
 il&amp;evid=667&amp;Itemid=6283)\n - Vers les résultats... (/index.php?opti
 on=com_gskiepreuves&amp;view=afficheresultats&amp;format_option=tous&amp;fi
 lter[search]=AMVT0170&amp;filter[date_debut]=11-02-2017&amp;filter[date_fin
 ]=11-02-2017&amp;code_activite=ALP&amp;Itemid=6283) Cet évènement a été imp
 orté depuis :https://skivosges.net/agenda/export-synchronisation/detaileven
 ement/672/-/caj-coupe-de-bronze-et-micro-coupe-habitat-sillon-reporte?tmpl=
 component (https://skivosges.net/agenda/export-synchronisation/detailevenem
 ent/672/-/caj-coupe-de-bronze-et-micro-coupe-habitat-sillon-reporte?tmpl=co
 mponent)
X-ALT-DESC;FMTTYPE=text/html:<!-- #gskiepreuve code généré par le plugin jevents pour GskiEpreuves. Ne p
 as modifier cette ligne, ni tout le contenu suivant  #gskiepreuve --><div c
 lass="gski-evenement_infos"><div class="gski-evenement-nom">CAJ Coupe de Br
 onze et micro  Coupe Habitat Sillon</div><div class="gski-evenement-report"
 > <font class="gskiattention">(Epreuve reportée)</font></div><ul class="gsk
 i-evenement-liste-infos"><li>Codex évenement AMVT0170</li><li>Circuit : Cou
 pe d'Alsace Jeunes</li><li>Lieu : MARKSTEIN</li><li>Station : MARKSTEIN</li
 ><li>COM_GSKIEPREUVES_EPREUVE_PISTEStade</li><li>Organisateur : 14081 SKI C
 LUB ROSSBERG</li><li>Courriel : <!-- Cette adresse électronique est protégé
 e contre les robots spammeurs. --><span class="cloaked_email ep_a1c26d4e"><
 span data-ep-a="c&#111;&#117;&#114;" data-ep-b=""><span data-ep-a="&#115;&#
 101;&#115;&#64;" data-ep-b="&#46;&#99;&#111;&#109;"><span data-ep-a="&#116;
 &#104;&#97;&#110;" data-ep-b="&#110;sk&#105;"></span></span></span></span><
 script>RegularLabs.EmailProtector.unCloak("ep_a1c26d4e");</script></li><li>
 Téléphone : 0607609678</li></ul><div class="gski-evenement-infos-2"><div cl
 ass="gski-evenement-info-inscriptions"><div class="gski-evenement-inscripti
 ons-periodes">Période d'inscription à l'evènement du dimanche 08 janvier 20
 17 à 01:00 au vendredi 13 janvier 2017 à 20:30 <span class="gski-evenement-
 inscriptions-impossibles">(Inscriptions impossibles).</span><div class="gsk
 i-evenement-inscriptions-types-titres">Le type de titres Fédéraux autorisé 
 n'est pas défini. Veuillez contacter l'organisateur et lui signaler le prob
 lème.</div></div></div><div class="gski-evenement-epreuves"><div class="gsk
 i-evenement-epreuves-titres">Epreuves :</div><ul class="gski-evenement-epre
 uves-list"><li><div class="gski-epreuve-date">Le dimanche 15 janvier 2017</
 div><ul class="gski-epreuve-liste-infos"><li>Codex épreuve AMVM0171</li><li
 >Slalom</li><li>Circuit : Coupe d'Alsace Jeunes</li></ul></li><li><div clas
 s="gski-epreuve-date">Le dimanche 15 janvier 2017</div><ul class="gski-epre
 uve-liste-infos"><li>Codex épreuve AMVF0171</li><li>Slalom</li><li>Circuit 
 : Coupe d'Alsace Jeunes</li></ul></li><li><div class="gski-epreuve-date">Le
  dimanche 15 janvier 2017</div><ul class="gski-epreuve-liste-infos"><li>Cod
 ex épreuve AMVM0172</li><li>Slalom</li><li>Circuit : Coupe d'Alsace Jeunes<
 /li></ul></li><li><div class="gski-epreuve-date">Le dimanche 15 janvier 201
 7</div><ul class="gski-epreuve-liste-infos"><li>Codex épreuve AMVF0172</li>
 <li>Slalom</li><li>Circuit : Coupe d'Alsace Jeunes</li></ul></li><li><div c
 lass="gski-epreuve-date">Le dimanche 15 janvier 2017</div><ul class="gski-e
 preuve-liste-infos"><li>Codex épreuve AMVM0173</li><li>Slalom</li><li>Circu
 it : Coupe d'Alsace Jeunes</li></ul></li><li><div class="gski-epreuve-date"
 >Le dimanche 15 janvier 2017</div><ul class="gski-epreuve-liste-infos"><li>
 Codex épreuve AMVF0173</li><li>Slalom</li><li>Circuit : Coupe d'Alsace Jeun
 es</li></ul></li></ul></div><div class="gskiepreuves-links"><ul><li><a href
 ="https://skivosges.net/index.php?option=com_jevents&task=icalevent.detail&
 evid=667&Itemid=6283">Voir les informations dans l'agenda...</a></li><li><a
  href="https://skivosges.net/index.php?option=com_gskiepreuves&view=affiche
 resultats&format_option=tous&filter[search]=AMVT0170&filter[date_debut]=11-
 02-2017&filter[date_fin]=11-02-2017&code_activite=ALP&Itemid=6283">Vers les
  résultats...</a></li></ul></div></div"><!-- #/gskiepreuve fin du dode géné
 ré par le plugin jevents pour GskiEpreuves. . Ne pas modifier cette ligne, 
 ni tout le contenu précedant.  #/gskiepreuve --> <a href="https://skivosges
 .net/agenda/export-synchronisation/detailevenement/672/-/caj-coupe-de-bronz
 e-et-micro-coupe-habitat-sillon-reporte?tmpl=component">Cet évènement a été
  importé depuis :https://skivosges.net/agenda/export-synchronisation/detail
 evenement/672/-/caj-coupe-de-bronze-et-micro-coupe-habitat-sillon-reporte?t
 mpl=component</a>DTSTAMP:20260421T050036
DTSTART;TZID=Europe/Paris;VALUE=DATE:20170115
DTEND;TZID=Europe/Paris;VALUE=DATE:20170116
SEQUENCE:0
TRANSP:OPAQUE
END:VEVENT
END:VCALENDAR