BEGIN:VCALENDAR
VERSION:2.0
PRODID:-//jEvents 2.0 for Joomla//EN
CALSCALE:GREGORIAN
METHOD:PUBLISH
BEGIN:VTIMEZONE
TZID:Europe/Paris
BEGIN:STANDARD
DTSTART:20160115T000000
RDATE:20160327T030000
TZOFFSETFROM:+0200
TZOFFSETTO:+0100
TZNAME:Europe/Paris CET
END:STANDARD
BEGIN:STANDARD
DTSTART:20161030T020000
RDATE:20170326T030000
TZOFFSETFROM:+0200
TZOFFSETTO:+0100
TZNAME:Europe/Paris CET
END:STANDARD
BEGIN:STANDARD
DTSTART:20171029T020000
RDATE:20180325T030000
TZOFFSETFROM:+0200
TZOFFSETTO:+0100
TZNAME:Europe/Paris CET
END:STANDARD
BEGIN:STANDARD
DTSTART:20181028T020000
RDATE:20190331T030000
TZOFFSETFROM:+0200
TZOFFSETTO:+0100
TZNAME:Europe/Paris CET
END:STANDARD
BEGIN:STANDARD
DTSTART:20191027T020000
RDATE:20200329T030000
TZOFFSETFROM:+0200
TZOFFSETTO:+0100
TZNAME:Europe/Paris CET
END:STANDARD
BEGIN:STANDARD
DTSTART:20201025T020000
RDATE:20210328T030000
TZOFFSETFROM:+0200
TZOFFSETTO:+0100
TZNAME:Europe/Paris CET
END:STANDARD
BEGIN:STANDARD
DTSTART:20211031T020000
RDATE:20220327T030000
TZOFFSETFROM:+0200
TZOFFSETTO:+0100
TZNAME:Europe/Paris CET
END:STANDARD
BEGIN:STANDARD
DTSTART:20221030T020000
RDATE:20230326T030000
TZOFFSETFROM:+0200
TZOFFSETTO:+0100
TZNAME:Europe/Paris CET
END:STANDARD
BEGIN:STANDARD
DTSTART:20231029T020000
RDATE:20240331T030000
TZOFFSETFROM:+0200
TZOFFSETTO:+0100
TZNAME:Europe/Paris CET
END:STANDARD
BEGIN:STANDARD
DTSTART:20241027T020000
RDATE:20250330T030000
TZOFFSETFROM:+0200
TZOFFSETTO:+0100
TZNAME:Europe/Paris CET
END:STANDARD
BEGIN:STANDARD
DTSTART:20251026T020000
RDATE:20260329T030000
TZOFFSETFROM:+0200
TZOFFSETTO:+0100
TZNAME:Europe/Paris CET
END:STANDARD
BEGIN:STANDARD
DTSTART:20261025T020000
RDATE:20270328T030000
TZOFFSETFROM:+0200
TZOFFSETTO:+0100
TZNAME:Europe/Paris CET
END:STANDARD
BEGIN:DAYLIGHT
DTSTART:20160327T030000
RDATE:20161030T020000
TZOFFSETFROM:+0100
TZOFFSETTO:+0200
TZNAME:Europe/Paris CEST
END:DAYLIGHT
BEGIN:DAYLIGHT
DTSTART:20170326T030000
RDATE:20171029T020000
TZOFFSETFROM:+0100
TZOFFSETTO:+0200
TZNAME:Europe/Paris CEST
END:DAYLIGHT
BEGIN:DAYLIGHT
DTSTART:20180325T030000
RDATE:20181028T020000
TZOFFSETFROM:+0100
TZOFFSETTO:+0200
TZNAME:Europe/Paris CEST
END:DAYLIGHT
BEGIN:DAYLIGHT
DTSTART:20190331T030000
RDATE:20191027T020000
TZOFFSETFROM:+0100
TZOFFSETTO:+0200
TZNAME:Europe/Paris CEST
END:DAYLIGHT
BEGIN:DAYLIGHT
DTSTART:20200329T030000
RDATE:20201025T020000
TZOFFSETFROM:+0100
TZOFFSETTO:+0200
TZNAME:Europe/Paris CEST
END:DAYLIGHT
BEGIN:DAYLIGHT
DTSTART:20210328T030000
RDATE:20211031T020000
TZOFFSETFROM:+0100
TZOFFSETTO:+0200
TZNAME:Europe/Paris CEST
END:DAYLIGHT
BEGIN:DAYLIGHT
DTSTART:20220327T030000
RDATE:20221030T020000
TZOFFSETFROM:+0100
TZOFFSETTO:+0200
TZNAME:Europe/Paris CEST
END:DAYLIGHT
BEGIN:DAYLIGHT
DTSTART:20230326T030000
RDATE:20231029T020000
TZOFFSETFROM:+0100
TZOFFSETTO:+0200
TZNAME:Europe/Paris CEST
END:DAYLIGHT
BEGIN:DAYLIGHT
DTSTART:20240331T030000
RDATE:20241027T020000
TZOFFSETFROM:+0100
TZOFFSETTO:+0200
TZNAME:Europe/Paris CEST
END:DAYLIGHT
BEGIN:DAYLIGHT
DTSTART:20250330T030000
RDATE:20251026T020000
TZOFFSETFROM:+0100
TZOFFSETTO:+0200
TZNAME:Europe/Paris CEST
END:DAYLIGHT
BEGIN:DAYLIGHT
DTSTART:20260329T030000
RDATE:20261025T020000
TZOFFSETFROM:+0100
TZOFFSETTO:+0200
TZNAME:Europe/Paris CEST
END:DAYLIGHT
END:VTIMEZONE
BEGIN:VEVENT
UID:2805a8d85fa4c6a726c0b3e21fd3810b
CATEGORIES:Compétition Ski de Fond
CREATED:20161202T134851
SUMMARY:JOURNEE DU SOUVENIR
URL;VALUE=URI:https://skivosges.net/agenda/export-synchronisation/detailevenement/674/-/j
 ournee-du-souvenir?tmpl=component
DESCRIPTION:<!-- #gskiepreuve code généré par le plugin jevents pour GskiEpreuves. Ne p
 as modifier cette ligne, ni tout le contenu suivant  #gskiepreuve --><div c
 lass="gski-evenement_infos"><div class="gski-evenement-nom">JOURNEE DU SOUV
 ENIR</div><div class="gski-evenement-report"></div><ul class="gski-evenemen
 t-liste-infos"><li>Codex évenement FMVT0090</li><li>Lieu : ROUGE GAZON</li>
 <li>Station : ROUGE GAZON</li><li>Organisateur : 14063 SKIEURS DE ST MAURIC
 E/MOSELLE</li></ul><div class="gski-evenement-infos-2"><div class="gski-eve
 nement-info-inscriptions"><div class="gski-evenement-inscriptions-periodes"
 >Période d'inscription à l'evènement du dimanche 08 janvier 2017 à 01:00 au
  vendredi 13 janvier 2017 à 15:00 <span class="gski-evenement-inscriptions-
 impossibles">(Inscriptions impossibles).</span><div class="gski-evenement-i
 nscriptions-types-titres">Le type de titres Fédéraux autorisé n'est pas déf
 ini. Veuillez contacter l'organisateur et lui signaler le problème.</div></
 div></div><div class="gski-evenement-epreuves"><div class="gski-evenement-e
 preuves-titres">Epreuves :</div><ul class="gski-evenement-epreuves-list"><l
 i><div class="gski-epreuve-date">Le dimanche 15 janvier 2017</div><ul class
 ="gski-epreuve-liste-infos"><li>Codex épreuve FMVF0091</li><li>Mass Start (
 Depart ligne)</li></ul></li><li><div class="gski-epreuve-date">Le dimanche 
 15 janvier 2017</div><ul class="gski-epreuve-liste-infos"><li>Codex épreuve
  FMVF0092</li><li>Mass Start (Depart ligne)</li></ul></li><li><div class="g
 ski-epreuve-date">Le dimanche 15 janvier 2017</div><ul class="gski-epreuve-
 liste-infos"><li>Codex épreuve FMVM0091</li><li>Mass Start (Depart ligne)</
 li></ul></li><li><div class="gski-epreuve-date">Le dimanche 15 janvier 2017
 </div><ul class="gski-epreuve-liste-infos"><li>Codex épreuve FMVM0092</li><
 li>Mass Start (Depart ligne)</li></ul></li></ul></div><div class="gskiepreu
 ves-links"><ul><li><a href="/index.php?option=com_jevents&task=icalevent.de
 tail&evid=669&Itemid=6283">Voir les informations dans l'agenda...</a></li><
 li><a href="/index.php?option=com_gskiepreuves&view=afficheresultats&format
 _option=tous&filter[search]=FMVT0090&filter[date_debut]=15-01-2017&filter[d
 ate_fin]=15-01-2017&code_activite=FOND&Itemid=6283">Vers les résultats...</
 a></li></ul></div></div"><!-- #/gskiepreuve fin du dode généré par le plugi
 n jevents pour GskiEpreuves. . Ne pas modifier cette ligne, ni tout le cont
 enu précedant.  #/gskiepreuve --> <a href="https://skivosges.net/agenda/exp
 ort-synchronisation/detailevenement/674/-/journee-du-souvenir?tmpl=componen
 t">Cet évènement a été importé depuis :https://skivosges.net/agenda/export-
 synchronisation/detailevenement/674/-/journee-du-souvenir?tmpl=component</a
 >
X-ALT-DESC;FMTTYPE=text/html:<!-- #gskiepreuve code généré par le plugin jevents pour GskiEpreuves. Ne p
 as modifier cette ligne, ni tout le contenu suivant  #gskiepreuve --><div c
 lass="gski-evenement_infos"><div class="gski-evenement-nom">JOURNEE DU SOUV
 ENIR</div><div class="gski-evenement-report"></div><ul class="gski-evenemen
 t-liste-infos"><li>Codex évenement FMVT0090</li><li>Lieu : ROUGE GAZON</li>
 <li>Station : ROUGE GAZON</li><li>Organisateur : 14063 SKIEURS DE ST MAURIC
 E/MOSELLE</li></ul><div class="gski-evenement-infos-2"><div class="gski-eve
 nement-info-inscriptions"><div class="gski-evenement-inscriptions-periodes"
 >Période d'inscription à l'evènement du dimanche 08 janvier 2017 à 01:00 au
  vendredi 13 janvier 2017 à 15:00 <span class="gski-evenement-inscriptions-
 impossibles">(Inscriptions impossibles).</span><div class="gski-evenement-i
 nscriptions-types-titres">Le type de titres Fédéraux autorisé n'est pas déf
 ini. Veuillez contacter l'organisateur et lui signaler le problème.</div></
 div></div><div class="gski-evenement-epreuves"><div class="gski-evenement-e
 preuves-titres">Epreuves :</div><ul class="gski-evenement-epreuves-list"><l
 i><div class="gski-epreuve-date">Le dimanche 15 janvier 2017</div><ul class
 ="gski-epreuve-liste-infos"><li>Codex épreuve FMVF0091</li><li>Mass Start (
 Depart ligne)</li></ul></li><li><div class="gski-epreuve-date">Le dimanche 
 15 janvier 2017</div><ul class="gski-epreuve-liste-infos"><li>Codex épreuve
  FMVF0092</li><li>Mass Start (Depart ligne)</li></ul></li><li><div class="g
 ski-epreuve-date">Le dimanche 15 janvier 2017</div><ul class="gski-epreuve-
 liste-infos"><li>Codex épreuve FMVM0091</li><li>Mass Start (Depart ligne)</
 li></ul></li><li><div class="gski-epreuve-date">Le dimanche 15 janvier 2017
 </div><ul class="gski-epreuve-liste-infos"><li>Codex épreuve FMVM0092</li><
 li>Mass Start (Depart ligne)</li></ul></li></ul></div><div class="gskiepreu
 ves-links"><ul><li><a href="https://skivosges.net/index.php?option=com_jeve
 nts&task=icalevent.detail&evid=669&Itemid=6283">Voir les informations dans 
 l'agenda...</a></li><li><a href="https://skivosges.net/index.php?option=com
 _gskiepreuves&view=afficheresultats&format_option=tous&filter[search]=FMVT0
 090&filter[date_debut]=15-01-2017&filter[date_fin]=15-01-2017&code_activite
 =FOND&Itemid=6283">Vers les résultats...</a></li></ul></div></div"><!-- #/g
 skiepreuve fin du dode généré par le plugin jevents pour GskiEpreuves. . Ne
  pas modifier cette ligne, ni tout le contenu précedant.  #/gskiepreuve -->
  <a href="https://skivosges.net/agenda/export-synchronisation/detaileveneme
 nt/674/-/journee-du-souvenir?tmpl=component">Cet évènement a été importé de
 puis :https://skivosges.net/agenda/export-synchronisation/detailevenement/6
 74/-/journee-du-souvenir?tmpl=component</a>DTSTAMP:20260420T221600
DTSTART;TZID=Europe/Paris;VALUE=DATE:20170115
DTEND;TZID=Europe/Paris;VALUE=DATE:20170116
SEQUENCE:0
TRANSP:OPAQUE
END:VEVENT
END:VCALENDAR