BEGIN:VCALENDAR
VERSION:2.0
PRODID:-//jEvents 2.0 for Joomla//EN
CALSCALE:GREGORIAN
METHOD:PUBLISH
BEGIN:VTIMEZONE
TZID:Europe/Paris
BEGIN:STANDARD
DTSTART:20160121T000000
RDATE:20160327T030000
TZOFFSETFROM:+0200
TZOFFSETTO:+0100
TZNAME:Europe/Paris CET
END:STANDARD
BEGIN:STANDARD
DTSTART:20161030T020000
RDATE:20170326T030000
TZOFFSETFROM:+0200
TZOFFSETTO:+0100
TZNAME:Europe/Paris CET
END:STANDARD
BEGIN:STANDARD
DTSTART:20171029T020000
RDATE:20180325T030000
TZOFFSETFROM:+0200
TZOFFSETTO:+0100
TZNAME:Europe/Paris CET
END:STANDARD
BEGIN:STANDARD
DTSTART:20181028T020000
RDATE:20190331T030000
TZOFFSETFROM:+0200
TZOFFSETTO:+0100
TZNAME:Europe/Paris CET
END:STANDARD
BEGIN:STANDARD
DTSTART:20191027T020000
RDATE:20200329T030000
TZOFFSETFROM:+0200
TZOFFSETTO:+0100
TZNAME:Europe/Paris CET
END:STANDARD
BEGIN:STANDARD
DTSTART:20201025T020000
RDATE:20210328T030000
TZOFFSETFROM:+0200
TZOFFSETTO:+0100
TZNAME:Europe/Paris CET
END:STANDARD
BEGIN:STANDARD
DTSTART:20211031T020000
RDATE:20220327T030000
TZOFFSETFROM:+0200
TZOFFSETTO:+0100
TZNAME:Europe/Paris CET
END:STANDARD
BEGIN:STANDARD
DTSTART:20221030T020000
RDATE:20230326T030000
TZOFFSETFROM:+0200
TZOFFSETTO:+0100
TZNAME:Europe/Paris CET
END:STANDARD
BEGIN:STANDARD
DTSTART:20231029T020000
RDATE:20240331T030000
TZOFFSETFROM:+0200
TZOFFSETTO:+0100
TZNAME:Europe/Paris CET
END:STANDARD
BEGIN:STANDARD
DTSTART:20241027T020000
RDATE:20250330T030000
TZOFFSETFROM:+0200
TZOFFSETTO:+0100
TZNAME:Europe/Paris CET
END:STANDARD
BEGIN:STANDARD
DTSTART:20251026T020000
RDATE:20260329T030000
TZOFFSETFROM:+0200
TZOFFSETTO:+0100
TZNAME:Europe/Paris CET
END:STANDARD
BEGIN:STANDARD
DTSTART:20261025T020000
RDATE:20270328T030000
TZOFFSETFROM:+0200
TZOFFSETTO:+0100
TZNAME:Europe/Paris CET
END:STANDARD
BEGIN:DAYLIGHT
DTSTART:20160327T030000
RDATE:20161030T020000
TZOFFSETFROM:+0100
TZOFFSETTO:+0200
TZNAME:Europe/Paris CEST
END:DAYLIGHT
BEGIN:DAYLIGHT
DTSTART:20170326T030000
RDATE:20171029T020000
TZOFFSETFROM:+0100
TZOFFSETTO:+0200
TZNAME:Europe/Paris CEST
END:DAYLIGHT
BEGIN:DAYLIGHT
DTSTART:20180325T030000
RDATE:20181028T020000
TZOFFSETFROM:+0100
TZOFFSETTO:+0200
TZNAME:Europe/Paris CEST
END:DAYLIGHT
BEGIN:DAYLIGHT
DTSTART:20190331T030000
RDATE:20191027T020000
TZOFFSETFROM:+0100
TZOFFSETTO:+0200
TZNAME:Europe/Paris CEST
END:DAYLIGHT
BEGIN:DAYLIGHT
DTSTART:20200329T030000
RDATE:20201025T020000
TZOFFSETFROM:+0100
TZOFFSETTO:+0200
TZNAME:Europe/Paris CEST
END:DAYLIGHT
BEGIN:DAYLIGHT
DTSTART:20210328T030000
RDATE:20211031T020000
TZOFFSETFROM:+0100
TZOFFSETTO:+0200
TZNAME:Europe/Paris CEST
END:DAYLIGHT
BEGIN:DAYLIGHT
DTSTART:20220327T030000
RDATE:20221030T020000
TZOFFSETFROM:+0100
TZOFFSETTO:+0200
TZNAME:Europe/Paris CEST
END:DAYLIGHT
BEGIN:DAYLIGHT
DTSTART:20230326T030000
RDATE:20231029T020000
TZOFFSETFROM:+0100
TZOFFSETTO:+0200
TZNAME:Europe/Paris CEST
END:DAYLIGHT
BEGIN:DAYLIGHT
DTSTART:20240331T030000
RDATE:20241027T020000
TZOFFSETFROM:+0100
TZOFFSETTO:+0200
TZNAME:Europe/Paris CEST
END:DAYLIGHT
BEGIN:DAYLIGHT
DTSTART:20250330T030000
RDATE:20251026T020000
TZOFFSETFROM:+0100
TZOFFSETTO:+0200
TZNAME:Europe/Paris CEST
END:DAYLIGHT
BEGIN:DAYLIGHT
DTSTART:20260329T030000
RDATE:20261025T020000
TZOFFSETFROM:+0100
TZOFFSETTO:+0200
TZNAME:Europe/Paris CEST
END:DAYLIGHT
END:VTIMEZONE
BEGIN:VEVENT
UID:109b64897ec11f09f18af576a8b8691f
CATEGORIES:Compétition Biathlon
CREATED:20161202T134851
SUMMARY:Biathlon Régional Trophée Crédit Mutuel TGL
URL;VALUE=URI:https://skivosges.net/agenda/export-synchronisation/detailevenement/678/-/b
 iathlon-regional-trophee-credit-mutuel-tgl?tmpl=component
DESCRIPTION:Biathlon Régional Trophée Crédit Mutuel TGL\n - Codex évenement BMVT0020\n 
 - Organisateur : 14486 BASSE SUR LE RUPT SKI NORDIQUE\n - Téléphone : 03292
 48571Période d'inscription à l'evènement du samedi 14 janvier 2017 à 01:00 
 au vendredi 20 janvier 2017 à 20:00 (Inscriptions impossibles).Le type de t
 itres Fédéraux autorisé n'est pas défini. Veuillez contacter l'organisateur
  et lui signaler le problème.Epreuves :\n - Le samedi 21 janvier 2017\n - C
 odex épreuve BMVM0021\n - Individuel\n - Voir les informations dans l'agend
 a... (/index.php?option=com_jevents&amp;task=icalevent.detail&amp;evid=673&
 amp;Itemid=6283)\n - Vers les résultats... (/index.php?option=com_gskiepreu
 ves&amp;view=afficheresultats&amp;format_option=tous&amp;filter[search]=BMV
 T0020&amp;filter[date_debut]=21-01-2017&amp;filter[date_fin]=21-01-2017&amp
 ;code_activite=BIATH&amp;Itemid=6283) Cet évènement a été importé depuis :h
 ttps://skivosges.net/agenda/export-synchronisation/detailevenement/678/-/bi
 athlon-regional-trophee-credit-mutuel-tgl?tmpl=component (https://skivosges
 .net/agenda/export-synchronisation/detailevenement/678/-/biathlon-regional-
 trophee-credit-mutuel-tgl?tmpl=component)
X-ALT-DESC;FMTTYPE=text/html:<!-- #gskiepreuve code généré par le plugin jevents pour GskiEpreuves. Ne p
 as modifier cette ligne, ni tout le contenu suivant  #gskiepreuve --><div c
 lass="gski-evenement_infos"><div class="gski-evenement-nom">Biathlon Région
 al Trophée Crédit Mutuel TGL</div><div class="gski-evenement-report"></div>
 <ul class="gski-evenement-liste-infos"><li>Codex évenement BMVT0020</li><li
 >Organisateur : 14486 BASSE SUR LE RUPT SKI NORDIQUE</li><li>Téléphone : 03
 29248571</li></ul><div class="gski-evenement-infos-2"><div class="gski-even
 ement-info-inscriptions"><div class="gski-evenement-inscriptions-periodes">
 Période d'inscription à l'evènement du samedi 14 janvier 2017 à 01:00 au ve
 ndredi 20 janvier 2017 à 20:00 <span class="gski-evenement-inscriptions-imp
 ossibles">(Inscriptions impossibles).</span><div class="gski-evenement-insc
 riptions-types-titres">Le type de titres Fédéraux autorisé n'est pas défini
 . Veuillez contacter l'organisateur et lui signaler le problème.</div></div
 ></div><div class="gski-evenement-epreuves"><div class="gski-evenement-epre
 uves-titres">Epreuves :</div><ul class="gski-evenement-epreuves-list"><li><
 div class="gski-epreuve-date">Le samedi 21 janvier 2017</div><ul class="gsk
 i-epreuve-liste-infos"><li>Codex épreuve BMVM0021</li><li>Individuel</li></
 ul></li></ul></div><div class="gskiepreuves-links"><ul><li><a href="https:/
 /skivosges.net/index.php?option=com_jevents&task=icalevent.detail&evid=673&
 Itemid=6283">Voir les informations dans l'agenda...</a></li><li><a href="ht
 tps://skivosges.net/index.php?option=com_gskiepreuves&view=afficheresultats
 &format_option=tous&filter[search]=BMVT0020&filter[date_debut]=21-01-2017&f
 ilter[date_fin]=21-01-2017&code_activite=BIATH&Itemid=6283">Vers les résult
 ats...</a></li></ul></div></div"><!-- #/gskiepreuve fin du dode généré par 
 le plugin jevents pour GskiEpreuves. . Ne pas modifier cette ligne, ni tout
  le contenu précedant.  #/gskiepreuve --> <a href="https://skivosges.net/ag
 enda/export-synchronisation/detailevenement/678/-/biathlon-regional-trophee
 -credit-mutuel-tgl?tmpl=component">Cet évènement a été importé depuis :http
 s://skivosges.net/agenda/export-synchronisation/detailevenement/678/-/biath
 lon-regional-trophee-credit-mutuel-tgl?tmpl=component</a>DTSTAMP:20260420T183917
DTSTART;TZID=Europe/Paris;VALUE=DATE:20170121
DTEND;TZID=Europe/Paris;VALUE=DATE:20170122
SEQUENCE:0
TRANSP:OPAQUE
END:VEVENT
END:VCALENDAR