BEGIN:VCALENDAR
VERSION:2.0
PRODID:-//jEvents 2.0 for Joomla//EN
CALSCALE:GREGORIAN
METHOD:PUBLISH
BEGIN:VTIMEZONE
TZID:Europe/Paris
BEGIN:STANDARD
DTSTART:20160122T000000
RDATE:20160327T030000
TZOFFSETFROM:+0200
TZOFFSETTO:+0100
TZNAME:Europe/Paris CET
END:STANDARD
BEGIN:STANDARD
DTSTART:20161030T020000
RDATE:20170326T030000
TZOFFSETFROM:+0200
TZOFFSETTO:+0100
TZNAME:Europe/Paris CET
END:STANDARD
BEGIN:STANDARD
DTSTART:20171029T020000
RDATE:20180325T030000
TZOFFSETFROM:+0200
TZOFFSETTO:+0100
TZNAME:Europe/Paris CET
END:STANDARD
BEGIN:STANDARD
DTSTART:20181028T020000
RDATE:20190331T030000
TZOFFSETFROM:+0200
TZOFFSETTO:+0100
TZNAME:Europe/Paris CET
END:STANDARD
BEGIN:STANDARD
DTSTART:20191027T020000
RDATE:20200329T030000
TZOFFSETFROM:+0200
TZOFFSETTO:+0100
TZNAME:Europe/Paris CET
END:STANDARD
BEGIN:STANDARD
DTSTART:20201025T020000
RDATE:20210328T030000
TZOFFSETFROM:+0200
TZOFFSETTO:+0100
TZNAME:Europe/Paris CET
END:STANDARD
BEGIN:STANDARD
DTSTART:20211031T020000
RDATE:20220327T030000
TZOFFSETFROM:+0200
TZOFFSETTO:+0100
TZNAME:Europe/Paris CET
END:STANDARD
BEGIN:STANDARD
DTSTART:20221030T020000
RDATE:20230326T030000
TZOFFSETFROM:+0200
TZOFFSETTO:+0100
TZNAME:Europe/Paris CET
END:STANDARD
BEGIN:STANDARD
DTSTART:20231029T020000
RDATE:20240331T030000
TZOFFSETFROM:+0200
TZOFFSETTO:+0100
TZNAME:Europe/Paris CET
END:STANDARD
BEGIN:STANDARD
DTSTART:20241027T020000
RDATE:20250330T030000
TZOFFSETFROM:+0200
TZOFFSETTO:+0100
TZNAME:Europe/Paris CET
END:STANDARD
BEGIN:STANDARD
DTSTART:20251026T020000
RDATE:20260329T030000
TZOFFSETFROM:+0200
TZOFFSETTO:+0100
TZNAME:Europe/Paris CET
END:STANDARD
BEGIN:STANDARD
DTSTART:20261025T020000
RDATE:20270328T030000
TZOFFSETFROM:+0200
TZOFFSETTO:+0100
TZNAME:Europe/Paris CET
END:STANDARD
BEGIN:DAYLIGHT
DTSTART:20160327T030000
RDATE:20161030T020000
TZOFFSETFROM:+0100
TZOFFSETTO:+0200
TZNAME:Europe/Paris CEST
END:DAYLIGHT
BEGIN:DAYLIGHT
DTSTART:20170326T030000
RDATE:20171029T020000
TZOFFSETFROM:+0100
TZOFFSETTO:+0200
TZNAME:Europe/Paris CEST
END:DAYLIGHT
BEGIN:DAYLIGHT
DTSTART:20180325T030000
RDATE:20181028T020000
TZOFFSETFROM:+0100
TZOFFSETTO:+0200
TZNAME:Europe/Paris CEST
END:DAYLIGHT
BEGIN:DAYLIGHT
DTSTART:20190331T030000
RDATE:20191027T020000
TZOFFSETFROM:+0100
TZOFFSETTO:+0200
TZNAME:Europe/Paris CEST
END:DAYLIGHT
BEGIN:DAYLIGHT
DTSTART:20200329T030000
RDATE:20201025T020000
TZOFFSETFROM:+0100
TZOFFSETTO:+0200
TZNAME:Europe/Paris CEST
END:DAYLIGHT
BEGIN:DAYLIGHT
DTSTART:20210328T030000
RDATE:20211031T020000
TZOFFSETFROM:+0100
TZOFFSETTO:+0200
TZNAME:Europe/Paris CEST
END:DAYLIGHT
BEGIN:DAYLIGHT
DTSTART:20220327T030000
RDATE:20221030T020000
TZOFFSETFROM:+0100
TZOFFSETTO:+0200
TZNAME:Europe/Paris CEST
END:DAYLIGHT
BEGIN:DAYLIGHT
DTSTART:20230326T030000
RDATE:20231029T020000
TZOFFSETFROM:+0100
TZOFFSETTO:+0200
TZNAME:Europe/Paris CEST
END:DAYLIGHT
BEGIN:DAYLIGHT
DTSTART:20240331T030000
RDATE:20241027T020000
TZOFFSETFROM:+0100
TZOFFSETTO:+0200
TZNAME:Europe/Paris CEST
END:DAYLIGHT
BEGIN:DAYLIGHT
DTSTART:20250330T030000
RDATE:20251026T020000
TZOFFSETFROM:+0100
TZOFFSETTO:+0200
TZNAME:Europe/Paris CEST
END:DAYLIGHT
BEGIN:DAYLIGHT
DTSTART:20260329T030000
RDATE:20261025T020000
TZOFFSETFROM:+0100
TZOFFSETTO:+0200
TZNAME:Europe/Paris CEST
END:DAYLIGHT
END:VTIMEZONE
BEGIN:VEVENT
UID:ab9cd9c75f2a73d72f84c97336e3af00
CATEGORIES:Circuit Massif Jeunes (alpin)
CREATED:20161202T134851
SUMMARY:GPJ Credit Mutuel Coupe d´Argent
URL;VALUE=URI:https://skivosges.net/agenda/export-synchronisation/detailevenement/680/-/g
 pj-credit-mutuel-coupe-dargent?tmpl=component
DESCRIPTION:GPJ Credit Mutuel Coupe d´Argent\n - Codex évenement AMVT0270\n - Circuit :
  Grand Prix Jeunes\n - Lieu : GERARDMER\n - Station : GERARDMER\n - COM_GSK
 IEPREUVES_EPREUVE_PISTESTADE\n - Organisateur : 14089 GERARDMER SKI ALPIN\n
  - Courriel : RegularLabs.EmailProtector.unCloak("ep_5d44da3b");\n - Téléph
 one : 03829609404\n - Autres informations : DEPART 10H00Période d'inscripti
 on à l'evènement du dimanche 15 janvier 2017 à 01:00 au vendredi 20 janvier
  2017 à 18:00 (Inscriptions impossibles).Le type de titres Fédéraux autoris
 é n'est pas défini. Veuillez contacter l'organisateur et lui signaler le pr
 oblème.Epreuves :\n - Le dimanche 22 janvier 2017\n - Codex épreuve AMVM027
 1\n - Slalom\n - Circuit : Grand Prix Jeunes\n - Le dimanche 22 janvier 201
 7\n - Codex épreuve AMVF0271\n - Slalom\n - Circuit : Grand Prix Jeunes\n -
  Le dimanche 22 janvier 2017\n - Codex épreuve AMVM0272\n - Slalom\n - Circ
 uit : Grand Prix Jeunes\n - Le dimanche 22 janvier 2017\n - Codex épreuve A
 MVF0272\n - Slalom\n - Circuit : Grand Prix Jeunes\n - Voir les information
 s dans l'agenda... (/index.php?option=com_jevents&amp;task=icalevent.detail
 &amp;evid=675&amp;Itemid=6283)\n - Vers les résultats... (/index.php?option
 =com_gskiepreuves&amp;view=afficheresultats&amp;format_option=tous&amp;filt
 er[search]=AMVT0270&amp;filter[date_debut]=22-01-2017&amp;filter[date_fin]=
 22-01-2017&amp;code_activite=ALP&amp;Itemid=6283) Cet évènement a été impor
 té depuis :https://skivosges.net/agenda/export-synchronisation/detailevenem
 ent/680/-/gpj-credit-mutuel-coupe-dargent?tmpl=component (https://skivosges
 .net/agenda/export-synchronisation/detailevenement/680/-/gpj-credit-mutuel-
 coupe-dargent?tmpl=component)
X-ALT-DESC;FMTTYPE=text/html:<!-- #gskiepreuve code généré par le plugin jevents pour GskiEpreuves. Ne p
 as modifier cette ligne, ni tout le contenu suivant  #gskiepreuve --><div c
 lass="gski-evenement_infos"><div class="gski-evenement-nom">GPJ Credit Mutu
 el Coupe d´Argent</div><div class="gski-evenement-report"></div><ul class="
 gski-evenement-liste-infos"><li>Codex évenement AMVT0270</li><li>Circuit : 
 Grand Prix Jeunes</li><li>Lieu : GERARDMER</li><li>Station : GERARDMER</li>
 <li>COM_GSKIEPREUVES_EPREUVE_PISTESTADE</li><li>Organisateur : 14089 GERARD
 MER SKI ALPIN</li><li>Courriel : <!-- Cette adresse électronique est protég
 ée contre les robots spammeurs. --><span class="cloaked_email ep_5d44da3b">
 <span data-ep-a="g&#101;ra&#114;" data-ep-b="&#101;&#46;fr"><span data-ep-a
 ="dmer&#45;" data-ep-b="&#111;r&#97;&#110;&#103;"><span data-ep-a="ski&#45;
 &#97;" data-ep-b="&#108;p&#105;n&#64;"></span></span></span></span><script>
 RegularLabs.EmailProtector.unCloak("ep_5d44da3b");</script></li><li>Télépho
 ne : 03829609404</li><li><span class="gski-evenement-obs">Autres informatio
 ns : DEPART 10H00</span></li></ul><div class="gski-evenement-infos-2"><div 
 class="gski-evenement-info-inscriptions"><div class="gski-evenement-inscrip
 tions-periodes">Période d'inscription à l'evènement du dimanche 15 janvier 
 2017 à 01:00 au vendredi 20 janvier 2017 à 18:00 <span class="gski-evenemen
 t-inscriptions-impossibles">(Inscriptions impossibles).</span><div class="g
 ski-evenement-inscriptions-types-titres">Le type de titres Fédéraux autoris
 é n'est pas défini. Veuillez contacter l'organisateur et lui signaler le pr
 oblème.</div></div></div><div class="gski-evenement-epreuves"><div class="g
 ski-evenement-epreuves-titres">Epreuves :</div><ul class="gski-evenement-ep
 reuves-list"><li><div class="gski-epreuve-date">Le dimanche 22 janvier 2017
 </div><ul class="gski-epreuve-liste-infos"><li>Codex épreuve AMVM0271</li><
 li>Slalom</li><li>Circuit : Grand Prix Jeunes</li></ul></li><li><div class=
 "gski-epreuve-date">Le dimanche 22 janvier 2017</div><ul class="gski-epreuv
 e-liste-infos"><li>Codex épreuve AMVF0271</li><li>Slalom</li><li>Circuit : 
 Grand Prix Jeunes</li></ul></li><li><div class="gski-epreuve-date">Le diman
 che 22 janvier 2017</div><ul class="gski-epreuve-liste-infos"><li>Codex épr
 euve AMVM0272</li><li>Slalom</li><li>Circuit : Grand Prix Jeunes</li></ul><
 /li><li><div class="gski-epreuve-date">Le dimanche 22 janvier 2017</div><ul
  class="gski-epreuve-liste-infos"><li>Codex épreuve AMVF0272</li><li>Slalom
 </li><li>Circuit : Grand Prix Jeunes</li></ul></li></ul></div><div class="g
 skiepreuves-links"><ul><li><a href="https://skivosges.net/index.php?option=
 com_jevents&task=icalevent.detail&evid=675&Itemid=6283">Voir les informatio
 ns dans l'agenda...</a></li><li><a href="https://skivosges.net/index.php?op
 tion=com_gskiepreuves&view=afficheresultats&format_option=tous&filter[searc
 h]=AMVT0270&filter[date_debut]=22-01-2017&filter[date_fin]=22-01-2017&code_
 activite=ALP&Itemid=6283">Vers les résultats...</a></li></ul></div></div"><
 !-- #/gskiepreuve fin du dode généré par le plugin jevents pour GskiEpreuve
 s. . Ne pas modifier cette ligne, ni tout le contenu précedant.  #/gskiepre
 uve --> <a href="https://skivosges.net/agenda/export-synchronisation/detail
 evenement/680/-/gpj-credit-mutuel-coupe-dargent?tmpl=component">Cet évèneme
 nt a été importé depuis :https://skivosges.net/agenda/export-synchronisatio
 n/detailevenement/680/-/gpj-credit-mutuel-coupe-dargent?tmpl=component</a>DTSTAMP:20260421T050706
DTSTART;TZID=Europe/Paris;VALUE=DATE:20170122
DTEND;TZID=Europe/Paris;VALUE=DATE:20170123
SEQUENCE:0
TRANSP:OPAQUE
END:VEVENT
END:VCALENDAR