BEGIN:VCALENDAR
VERSION:2.0
PRODID:-//jEvents 2.0 for Joomla//EN
CALSCALE:GREGORIAN
METHOD:PUBLISH
BEGIN:VTIMEZONE
TZID:Europe/Paris
BEGIN:STANDARD
DTSTART:20160122T000000
RDATE:20160327T030000
TZOFFSETFROM:+0200
TZOFFSETTO:+0100
TZNAME:Europe/Paris CET
END:STANDARD
BEGIN:STANDARD
DTSTART:20161030T020000
RDATE:20170326T030000
TZOFFSETFROM:+0200
TZOFFSETTO:+0100
TZNAME:Europe/Paris CET
END:STANDARD
BEGIN:STANDARD
DTSTART:20171029T020000
RDATE:20180325T030000
TZOFFSETFROM:+0200
TZOFFSETTO:+0100
TZNAME:Europe/Paris CET
END:STANDARD
BEGIN:STANDARD
DTSTART:20181028T020000
RDATE:20190331T030000
TZOFFSETFROM:+0200
TZOFFSETTO:+0100
TZNAME:Europe/Paris CET
END:STANDARD
BEGIN:STANDARD
DTSTART:20191027T020000
RDATE:20200329T030000
TZOFFSETFROM:+0200
TZOFFSETTO:+0100
TZNAME:Europe/Paris CET
END:STANDARD
BEGIN:STANDARD
DTSTART:20201025T020000
RDATE:20210328T030000
TZOFFSETFROM:+0200
TZOFFSETTO:+0100
TZNAME:Europe/Paris CET
END:STANDARD
BEGIN:STANDARD
DTSTART:20211031T020000
RDATE:20220327T030000
TZOFFSETFROM:+0200
TZOFFSETTO:+0100
TZNAME:Europe/Paris CET
END:STANDARD
BEGIN:STANDARD
DTSTART:20221030T020000
RDATE:20230326T030000
TZOFFSETFROM:+0200
TZOFFSETTO:+0100
TZNAME:Europe/Paris CET
END:STANDARD
BEGIN:STANDARD
DTSTART:20231029T020000
RDATE:20240331T030000
TZOFFSETFROM:+0200
TZOFFSETTO:+0100
TZNAME:Europe/Paris CET
END:STANDARD
BEGIN:STANDARD
DTSTART:20241027T020000
RDATE:20250330T030000
TZOFFSETFROM:+0200
TZOFFSETTO:+0100
TZNAME:Europe/Paris CET
END:STANDARD
BEGIN:STANDARD
DTSTART:20251026T020000
RDATE:20260329T030000
TZOFFSETFROM:+0200
TZOFFSETTO:+0100
TZNAME:Europe/Paris CET
END:STANDARD
BEGIN:STANDARD
DTSTART:20261025T020000
RDATE:20270328T030000
TZOFFSETFROM:+0200
TZOFFSETTO:+0100
TZNAME:Europe/Paris CET
END:STANDARD
BEGIN:DAYLIGHT
DTSTART:20160327T030000
RDATE:20161030T020000
TZOFFSETFROM:+0100
TZOFFSETTO:+0200
TZNAME:Europe/Paris CEST
END:DAYLIGHT
BEGIN:DAYLIGHT
DTSTART:20170326T030000
RDATE:20171029T020000
TZOFFSETFROM:+0100
TZOFFSETTO:+0200
TZNAME:Europe/Paris CEST
END:DAYLIGHT
BEGIN:DAYLIGHT
DTSTART:20180325T030000
RDATE:20181028T020000
TZOFFSETFROM:+0100
TZOFFSETTO:+0200
TZNAME:Europe/Paris CEST
END:DAYLIGHT
BEGIN:DAYLIGHT
DTSTART:20190331T030000
RDATE:20191027T020000
TZOFFSETFROM:+0100
TZOFFSETTO:+0200
TZNAME:Europe/Paris CEST
END:DAYLIGHT
BEGIN:DAYLIGHT
DTSTART:20200329T030000
RDATE:20201025T020000
TZOFFSETFROM:+0100
TZOFFSETTO:+0200
TZNAME:Europe/Paris CEST
END:DAYLIGHT
BEGIN:DAYLIGHT
DTSTART:20210328T030000
RDATE:20211031T020000
TZOFFSETFROM:+0100
TZOFFSETTO:+0200
TZNAME:Europe/Paris CEST
END:DAYLIGHT
BEGIN:DAYLIGHT
DTSTART:20220327T030000
RDATE:20221030T020000
TZOFFSETFROM:+0100
TZOFFSETTO:+0200
TZNAME:Europe/Paris CEST
END:DAYLIGHT
BEGIN:DAYLIGHT
DTSTART:20230326T030000
RDATE:20231029T020000
TZOFFSETFROM:+0100
TZOFFSETTO:+0200
TZNAME:Europe/Paris CEST
END:DAYLIGHT
BEGIN:DAYLIGHT
DTSTART:20240331T030000
RDATE:20241027T020000
TZOFFSETFROM:+0100
TZOFFSETTO:+0200
TZNAME:Europe/Paris CEST
END:DAYLIGHT
BEGIN:DAYLIGHT
DTSTART:20250330T030000
RDATE:20251026T020000
TZOFFSETFROM:+0100
TZOFFSETTO:+0200
TZNAME:Europe/Paris CEST
END:DAYLIGHT
BEGIN:DAYLIGHT
DTSTART:20260329T030000
RDATE:20261025T020000
TZOFFSETFROM:+0100
TZOFFSETTO:+0200
TZNAME:Europe/Paris CEST
END:DAYLIGHT
END:VTIMEZONE
BEGIN:VEVENT
UID:442e89e6b91be8f2381f5ae4096d7ce6
CATEGORIES:Circuit Massif Adultes (alpin)
CREATED:20161202T134851
SUMMARY:GPA   U16 à Masters Mémorial Schandené (H) Cooupe Zinglé (D)
URL;VALUE=URI:https://skivosges.net/agenda/export-synchronisation/detailevenement/681/-/g
 pa-u16-a-masters-memorial-schandene-h-cooupe-zingle-d?tmpl=component
DESCRIPTION:<!-- #gskiepreuve code généré par le plugin jevents pour GskiEpreuves. Ne p
 as modifier cette ligne, ni tout le contenu suivant  #gskiepreuve --><div c
 lass="gski-evenement_infos"><div class="gski-evenement-nom">GPA   U16 à Mas
 ters Mémorial Schandené (H) Cooupe Zinglé (D)</div><div class="gski-eveneme
 nt-report"></div><ul class="gski-evenement-liste-infos"><li>Codex évenement
  AMVT0280</li><li>Circuit : Grand Prix Adultes</li><li>Lieu : SCHNEPFENRIED
 </li><li>Station : SCHNEPFENRIED</li><li>Organisateur : 14140 LES AMIS DE L
 A NATURE MUNSTER</li><li>Courriel : <!-- Cette adresse électronique est pro
 tégée contre les robots spammeurs. --><span class="cloaked_email ep_f4c8231
 0"><span data-ep-b="r" data-ep-a="m&#97;r&#99;"><span data-ep-a="&#104;&#97
 ;&#110;d" data-ep-b="&#101;&#101;&#46;&#102;"><span data-ep-a="ca&#112;h" d
 ata-ep-b="i&#64;&#102;&#114;"></span></span></span></span><script>RegularLa
 bs.EmailProtector.unCloak("ep_f4c82310");</script></li><li><span class="gsk
 i-evenement-obs">Autres informations : 1er d&eacute;part &agrave; 9h Piste 
 Panoramic</span></li></ul><div class="gski-evenement-infos-2"><div class="g
 ski-evenement-info-inscriptions"><div class="gski-evenement-inscriptions-pe
 riodes">Période d'inscription à l'evènement du dimanche 15 janvier 2017 à 0
 1:00 au vendredi 20 janvier 2017 à 20:00 <span class="gski-evenement-inscri
 ptions-impossibles">(Inscriptions impossibles).</span><div class="gski-even
 ement-inscriptions-types-titres">Le type de titres Fédéraux autorisé n'est 
 pas défini. Veuillez contacter l'organisateur et lui signaler le problème.<
 /div></div></div><div class="gski-evenement-epreuves"><div class="gski-even
 ement-epreuves-titres">Epreuves :</div><ul class="gski-evenement-epreuves-l
 ist"><li><div class="gski-epreuve-date">Le dimanche 22 janvier 2017</div><u
 l class="gski-epreuve-liste-infos"><li>Codex épreuve AMVM0281</li><li>Slalo
 m</li><li>Circuit : Grand Prix Adultes</li></ul></li><li><div class="gski-e
 preuve-date">Le dimanche 22 janvier 2017</div><ul class="gski-epreuve-liste
 -infos"><li>Codex épreuve AMVF0281</li><li>Slalom</li><li>Circuit : Grand P
 rix Adultes</li></ul></li><li><div class="gski-epreuve-date">Le dimanche 22
  janvier 2017</div><ul class="gski-epreuve-liste-infos"><li>Codex épreuve A
 MVM0282</li><li>Slalom</li><li>Circuit : Grand Prix Adultes</li></ul></li><
 li><div class="gski-epreuve-date">Le dimanche 22 janvier 2017</div><ul clas
 s="gski-epreuve-liste-infos"><li>Codex épreuve AMVF0282</li><li>Slalom</li>
 <li>Circuit : Grand Prix Adultes</li></ul></li></ul></div><div class="gskie
 preuves-links"><ul><li><a href="/index.php?option=com_jevents&task=icaleven
 t.detail&evid=676&Itemid=6283">Voir les informations dans l'agenda...</a></
 li><li><a href="/index.php?option=com_gskiepreuves&view=afficheresultats&fo
 rmat_option=tous&filter[search]=AMVT0280&filter[date_debut]=22-01-2017&filt
 er[date_fin]=22-01-2017&code_activite=ALP&Itemid=6283">Vers les résultats..
 .</a></li></ul></div></div"><!-- #/gskiepreuve fin du dode généré par le pl
 ugin jevents pour GskiEpreuves. . Ne pas modifier cette ligne, ni tout le c
 ontenu précedant.  #/gskiepreuve --> <a href="https://skivosges.net/agenda/
 export-synchronisation/detailevenement/681/-/gpa-u16-a-masters-memorial-sch
 andene-h-cooupe-zingle-d?tmpl=component">Cet évènement a été importé depuis
  :https://skivosges.net/agenda/export-synchronisation/detailevenement/681/-
 /gpa-u16-a-masters-memorial-schandene-h-cooupe-zingle-d?tmpl=component</a>
X-ALT-DESC;FMTTYPE=text/html:<!-- #gskiepreuve code généré par le plugin jevents pour GskiEpreuves. Ne p
 as modifier cette ligne, ni tout le contenu suivant  #gskiepreuve --><div c
 lass="gski-evenement_infos"><div class="gski-evenement-nom">GPA   U16 à Mas
 ters Mémorial Schandené (H) Cooupe Zinglé (D)</div><div class="gski-eveneme
 nt-report"></div><ul class="gski-evenement-liste-infos"><li>Codex évenement
  AMVT0280</li><li>Circuit : Grand Prix Adultes</li><li>Lieu : SCHNEPFENRIED
 </li><li>Station : SCHNEPFENRIED</li><li>Organisateur : 14140 LES AMIS DE L
 A NATURE MUNSTER</li><li>Courriel : <!-- Cette adresse électronique est pro
 tégée contre les robots spammeurs. --><span class="cloaked_email ep_f4c8231
 0"><span data-ep-b="r" data-ep-a="m&#97;r&#99;"><span data-ep-a="&#104;&#97
 ;&#110;d" data-ep-b="&#101;&#101;&#46;&#102;"><span data-ep-a="ca&#112;h" d
 ata-ep-b="i&#64;&#102;&#114;"></span></span></span></span><script>RegularLa
 bs.EmailProtector.unCloak("ep_f4c82310");</script></li><li><span class="gsk
 i-evenement-obs">Autres informations : 1er d&eacute;part &agrave; 9h Piste 
 Panoramic</span></li></ul><div class="gski-evenement-infos-2"><div class="g
 ski-evenement-info-inscriptions"><div class="gski-evenement-inscriptions-pe
 riodes">Période d'inscription à l'evènement du dimanche 15 janvier 2017 à 0
 1:00 au vendredi 20 janvier 2017 à 20:00 <span class="gski-evenement-inscri
 ptions-impossibles">(Inscriptions impossibles).</span><div class="gski-even
 ement-inscriptions-types-titres">Le type de titres Fédéraux autorisé n'est 
 pas défini. Veuillez contacter l'organisateur et lui signaler le problème.<
 /div></div></div><div class="gski-evenement-epreuves"><div class="gski-even
 ement-epreuves-titres">Epreuves :</div><ul class="gski-evenement-epreuves-l
 ist"><li><div class="gski-epreuve-date">Le dimanche 22 janvier 2017</div><u
 l class="gski-epreuve-liste-infos"><li>Codex épreuve AMVM0281</li><li>Slalo
 m</li><li>Circuit : Grand Prix Adultes</li></ul></li><li><div class="gski-e
 preuve-date">Le dimanche 22 janvier 2017</div><ul class="gski-epreuve-liste
 -infos"><li>Codex épreuve AMVF0281</li><li>Slalom</li><li>Circuit : Grand P
 rix Adultes</li></ul></li><li><div class="gski-epreuve-date">Le dimanche 22
  janvier 2017</div><ul class="gski-epreuve-liste-infos"><li>Codex épreuve A
 MVM0282</li><li>Slalom</li><li>Circuit : Grand Prix Adultes</li></ul></li><
 li><div class="gski-epreuve-date">Le dimanche 22 janvier 2017</div><ul clas
 s="gski-epreuve-liste-infos"><li>Codex épreuve AMVF0282</li><li>Slalom</li>
 <li>Circuit : Grand Prix Adultes</li></ul></li></ul></div><div class="gskie
 preuves-links"><ul><li><a href="https://skivosges.net/index.php?option=com_
 jevents&task=icalevent.detail&evid=676&Itemid=6283">Voir les informations d
 ans l'agenda...</a></li><li><a href="https://skivosges.net/index.php?option
 =com_gskiepreuves&view=afficheresultats&format_option=tous&filter[search]=A
 MVT0280&filter[date_debut]=22-01-2017&filter[date_fin]=22-01-2017&code_acti
 vite=ALP&Itemid=6283">Vers les résultats...</a></li></ul></div></div"><!-- 
 #/gskiepreuve fin du dode généré par le plugin jevents pour GskiEpreuves. .
  Ne pas modifier cette ligne, ni tout le contenu précedant.  #/gskiepreuve 
 --> <a href="https://skivosges.net/agenda/export-synchronisation/detaileven
 ement/681/-/gpa-u16-a-masters-memorial-schandene-h-cooupe-zingle-d?tmpl=com
 ponent">Cet évènement a été importé depuis :https://skivosges.net/agenda/ex
 port-synchronisation/detailevenement/681/-/gpa-u16-a-masters-memorial-schan
 dene-h-cooupe-zingle-d?tmpl=component</a>DTSTAMP:20260420T184422
DTSTART;TZID=Europe/Paris;VALUE=DATE:20170122
DTEND;TZID=Europe/Paris;VALUE=DATE:20170123
SEQUENCE:0
TRANSP:OPAQUE
END:VEVENT
END:VCALENDAR