BEGIN:VCALENDAR
VERSION:2.0
PRODID:-//jEvents 2.0 for Joomla//EN
CALSCALE:GREGORIAN
METHOD:PUBLISH
BEGIN:VTIMEZONE
TZID:Europe/Paris
BEGIN:STANDARD
DTSTART:20160122T000000
RDATE:20160327T030000
TZOFFSETFROM:+0200
TZOFFSETTO:+0100
TZNAME:Europe/Paris CET
END:STANDARD
BEGIN:STANDARD
DTSTART:20161030T020000
RDATE:20170326T030000
TZOFFSETFROM:+0200
TZOFFSETTO:+0100
TZNAME:Europe/Paris CET
END:STANDARD
BEGIN:STANDARD
DTSTART:20171029T020000
RDATE:20180325T030000
TZOFFSETFROM:+0200
TZOFFSETTO:+0100
TZNAME:Europe/Paris CET
END:STANDARD
BEGIN:STANDARD
DTSTART:20181028T020000
RDATE:20190331T030000
TZOFFSETFROM:+0200
TZOFFSETTO:+0100
TZNAME:Europe/Paris CET
END:STANDARD
BEGIN:STANDARD
DTSTART:20191027T020000
RDATE:20200329T030000
TZOFFSETFROM:+0200
TZOFFSETTO:+0100
TZNAME:Europe/Paris CET
END:STANDARD
BEGIN:STANDARD
DTSTART:20201025T020000
RDATE:20210328T030000
TZOFFSETFROM:+0200
TZOFFSETTO:+0100
TZNAME:Europe/Paris CET
END:STANDARD
BEGIN:STANDARD
DTSTART:20211031T020000
RDATE:20220327T030000
TZOFFSETFROM:+0200
TZOFFSETTO:+0100
TZNAME:Europe/Paris CET
END:STANDARD
BEGIN:STANDARD
DTSTART:20221030T020000
RDATE:20230326T030000
TZOFFSETFROM:+0200
TZOFFSETTO:+0100
TZNAME:Europe/Paris CET
END:STANDARD
BEGIN:STANDARD
DTSTART:20231029T020000
RDATE:20240331T030000
TZOFFSETFROM:+0200
TZOFFSETTO:+0100
TZNAME:Europe/Paris CET
END:STANDARD
BEGIN:STANDARD
DTSTART:20241027T020000
RDATE:20250330T030000
TZOFFSETFROM:+0200
TZOFFSETTO:+0100
TZNAME:Europe/Paris CET
END:STANDARD
BEGIN:STANDARD
DTSTART:20251026T020000
RDATE:20260329T030000
TZOFFSETFROM:+0200
TZOFFSETTO:+0100
TZNAME:Europe/Paris CET
END:STANDARD
BEGIN:STANDARD
DTSTART:20261025T020000
RDATE:20270328T030000
TZOFFSETFROM:+0200
TZOFFSETTO:+0100
TZNAME:Europe/Paris CET
END:STANDARD
BEGIN:DAYLIGHT
DTSTART:20160327T030000
RDATE:20161030T020000
TZOFFSETFROM:+0100
TZOFFSETTO:+0200
TZNAME:Europe/Paris CEST
END:DAYLIGHT
BEGIN:DAYLIGHT
DTSTART:20170326T030000
RDATE:20171029T020000
TZOFFSETFROM:+0100
TZOFFSETTO:+0200
TZNAME:Europe/Paris CEST
END:DAYLIGHT
BEGIN:DAYLIGHT
DTSTART:20180325T030000
RDATE:20181028T020000
TZOFFSETFROM:+0100
TZOFFSETTO:+0200
TZNAME:Europe/Paris CEST
END:DAYLIGHT
BEGIN:DAYLIGHT
DTSTART:20190331T030000
RDATE:20191027T020000
TZOFFSETFROM:+0100
TZOFFSETTO:+0200
TZNAME:Europe/Paris CEST
END:DAYLIGHT
BEGIN:DAYLIGHT
DTSTART:20200329T030000
RDATE:20201025T020000
TZOFFSETFROM:+0100
TZOFFSETTO:+0200
TZNAME:Europe/Paris CEST
END:DAYLIGHT
BEGIN:DAYLIGHT
DTSTART:20210328T030000
RDATE:20211031T020000
TZOFFSETFROM:+0100
TZOFFSETTO:+0200
TZNAME:Europe/Paris CEST
END:DAYLIGHT
BEGIN:DAYLIGHT
DTSTART:20220327T030000
RDATE:20221030T020000
TZOFFSETFROM:+0100
TZOFFSETTO:+0200
TZNAME:Europe/Paris CEST
END:DAYLIGHT
BEGIN:DAYLIGHT
DTSTART:20230326T030000
RDATE:20231029T020000
TZOFFSETFROM:+0100
TZOFFSETTO:+0200
TZNAME:Europe/Paris CEST
END:DAYLIGHT
BEGIN:DAYLIGHT
DTSTART:20240331T030000
RDATE:20241027T020000
TZOFFSETFROM:+0100
TZOFFSETTO:+0200
TZNAME:Europe/Paris CEST
END:DAYLIGHT
BEGIN:DAYLIGHT
DTSTART:20250330T030000
RDATE:20251026T020000
TZOFFSETFROM:+0100
TZOFFSETTO:+0200
TZNAME:Europe/Paris CEST
END:DAYLIGHT
BEGIN:DAYLIGHT
DTSTART:20260329T030000
RDATE:20261025T020000
TZOFFSETFROM:+0100
TZOFFSETTO:+0200
TZNAME:Europe/Paris CEST
END:DAYLIGHT
END:VTIMEZONE
BEGIN:VEVENT
UID:46940611e9191247d6678037b4eb92d4
CATEGORIES:Opens et Promos (alpin)
CREATED:20161202T134851
SUMMARY:PROMO  U8 à U16     Les dimanches de la Glisse Trophée du SC Belmont **REPORTE**
URL;VALUE=URI:https://skivosges.net/agenda/export-synchronisation/detailevenement/684/-/p
 romo-u8-a-u16-les-dimanches-de-la-glisse-trophee-du-sc-belmont-reporte?tmpl
 =component
DESCRIPTION:PROMO  U8 à U16     Les dimanches de la Glisse Trophée du SC Belmont (Epreu
 ve reportée, date à determiner)\n - Codex évenement AMVT0260\n - Lieu : CHA
 MP DU FEU\n - Station : CHAMP DU FEU\n - Organisateur : 14485 SKI CLUB BELM
 ONT CHAMP DU FEU\n - Courriel : RegularLabs.EmailProtector.unCloak("ep_4f46
 51de");\n - Téléphone : 06.23.74.50.76Période d'inscription à l'evènement d
 u dimanche 15 janvier 2017 à 01:00 au samedi 21 janvier 2017 à 13:00 (Inscr
 iptions impossibles).Le type de titres Fédéraux autorisé n'est pas défini. 
 Veuillez contacter l'organisateur et lui signaler le problème.Epreuves :\n 
 - Le dimanche 22 janvier 2017\n - Codex épreuve AMVM0261\n - Slalom Geant\n
  - Le dimanche 22 janvier 2017\n - Codex épreuve AMVF0261\n - Slalom Geant\
 n - Le dimanche 22 janvier 2017\n - Codex épreuve AMVM0262\n - Slalom Geant
 \n - Le dimanche 22 janvier 2017\n - Codex épreuve AMVF0262\n - Slalom Gean
 t\n - Voir les informations dans l'agenda... (/index.php?option=com_jevents
 &amp;task=icalevent.detail&amp;evid=679&amp;Itemid=6283) Cet évènement a ét
 é importé depuis :https://skivosges.net/agenda/export-synchronisation/detai
 levenement/684/-/promo-u8-a-u16-les-dimanches-de-la-glisse-trophee-du-sc-be
 lmont-reporte?tmpl=component
X-ALT-DESC;FMTTYPE=text/html:<!-- #gskiepreuve code généré par le plugin jevents pour GskiEpreuves. Ne p
 as modifier cette ligne, ni tout le contenu suivant  #gskiepreuve --><div c
 lass="gski-evenement_infos"><div class="gski-evenement-nom">PROMO  U8 à U16
      Les dimanches de la Glisse Trophée du SC Belmont</div><div class="gski
 -evenement-report"> <font class="gskiattention">(Epreuve reportée, date à d
 eterminer)</font></div><ul class="gski-evenement-liste-infos"><li>Codex éve
 nement AMVT0260</li><li>Lieu : CHAMP DU FEU</li><li>Station : CHAMP DU FEU<
 /li><li>Organisateur : 14485 SKI CLUB BELMONT CHAMP DU FEU</li><li>Courriel
  : <!-- Cette adresse électronique est protégée contre les robots spammeurs
 . --><span class="cloaked_email ep_4f4651de"><span data-ep-a="&#112;h&#105;
 &#108;." data-ep-b=""><span data-ep-b="&#111;o&#46;&#102;&#114;" data-ep-a=
 "sch&#101;&#112;"><span data-ep-a="pl&#101;&#114;&#64;" data-ep-b="&#119;an
 a&#100;"></span></span></span></span><script>RegularLabs.EmailProtector.unC
 loak("ep_4f4651de");</script></li><li>Téléphone : 06.23.74.50.76</li></ul><
 div class="gski-evenement-infos-2"><div class="gski-evenement-info-inscript
 ions"><div class="gski-evenement-inscriptions-periodes">Période d'inscripti
 on à l'evènement du dimanche 15 janvier 2017 à 01:00 au samedi 21 janvier 2
 017 à 13:00 <span class="gski-evenement-inscriptions-impossibles">(Inscript
 ions impossibles).</span><div class="gski-evenement-inscriptions-types-titr
 es">Le type de titres Fédéraux autorisé n'est pas défini. Veuillez contacte
 r l'organisateur et lui signaler le problème.</div></div></div><div class="
 gski-evenement-epreuves"><div class="gski-evenement-epreuves-titres">Epreuv
 es :</div><ul class="gski-evenement-epreuves-list"><li><div class="gski-epr
 euve-date">Le dimanche 22 janvier 2017</div><ul class="gski-epreuve-liste-i
 nfos"><li>Codex épreuve AMVM0261</li><li>Slalom Geant</li></ul></li><li><di
 v class="gski-epreuve-date">Le dimanche 22 janvier 2017</div><ul class="gsk
 i-epreuve-liste-infos"><li>Codex épreuve AMVF0261</li><li>Slalom Geant</li>
 </ul></li><li><div class="gski-epreuve-date">Le dimanche 22 janvier 2017</d
 iv><ul class="gski-epreuve-liste-infos"><li>Codex épreuve AMVM0262</li><li>
 Slalom Geant</li></ul></li><li><div class="gski-epreuve-date">Le dimanche 2
 2 janvier 2017</div><ul class="gski-epreuve-liste-infos"><li>Codex épreuve 
 AMVF0262</li><li>Slalom Geant</li></ul></li></ul></div><div class="gskiepre
 uves-links"><ul><li><a href="https://skivosges.net/index.php?option=com_jev
 ents&task=icalevent.detail&evid=679&Itemid=6283">Voir les informations dans
  l'agenda...</a></li></ul></div></div"><!-- #/gskiepreuve fin du dode génér
 é par le plugin jevents pour GskiEpreuves. . Ne pas modifier cette ligne, n
 i tout le contenu précedant.  #/gskiepreuve --> <a href="https://skivosges.
 net/agenda/export-synchronisation/detailevenement/684/-/promo-u8-a-u16-les-
 dimanches-de-la-glisse-trophee-du-sc-belmont-reporte?tmpl=component">Cet év
 ènement a été importé depuis :https://skivosges.net/agenda/export-synchroni
 sation/detailevenement/684/-/promo-u8-a-u16-les-dimanches-de-la-glisse-trop
 hee-du-sc-belmont-reporte?tmpl=component</a>DTSTAMP:20260420T183843
DTSTART;TZID=Europe/Paris;VALUE=DATE:20170122
DTEND;TZID=Europe/Paris;VALUE=DATE:20170123
SEQUENCE:0
TRANSP:OPAQUE
END:VEVENT
END:VCALENDAR