BEGIN:VCALENDAR
VERSION:2.0
PRODID:-//jEvents 2.0 for Joomla//EN
CALSCALE:GREGORIAN
METHOD:PUBLISH
BEGIN:VTIMEZONE
TZID:Europe/Paris
BEGIN:STANDARD
DTSTART:20160128T000000
RDATE:20160327T030000
TZOFFSETFROM:+0200
TZOFFSETTO:+0100
TZNAME:Europe/Paris CET
END:STANDARD
BEGIN:STANDARD
DTSTART:20161030T020000
RDATE:20170326T030000
TZOFFSETFROM:+0200
TZOFFSETTO:+0100
TZNAME:Europe/Paris CET
END:STANDARD
BEGIN:STANDARD
DTSTART:20171029T020000
RDATE:20180325T030000
TZOFFSETFROM:+0200
TZOFFSETTO:+0100
TZNAME:Europe/Paris CET
END:STANDARD
BEGIN:STANDARD
DTSTART:20181028T020000
RDATE:20190331T030000
TZOFFSETFROM:+0200
TZOFFSETTO:+0100
TZNAME:Europe/Paris CET
END:STANDARD
BEGIN:STANDARD
DTSTART:20191027T020000
RDATE:20200329T030000
TZOFFSETFROM:+0200
TZOFFSETTO:+0100
TZNAME:Europe/Paris CET
END:STANDARD
BEGIN:STANDARD
DTSTART:20201025T020000
RDATE:20210328T030000
TZOFFSETFROM:+0200
TZOFFSETTO:+0100
TZNAME:Europe/Paris CET
END:STANDARD
BEGIN:STANDARD
DTSTART:20211031T020000
RDATE:20220327T030000
TZOFFSETFROM:+0200
TZOFFSETTO:+0100
TZNAME:Europe/Paris CET
END:STANDARD
BEGIN:STANDARD
DTSTART:20221030T020000
RDATE:20230326T030000
TZOFFSETFROM:+0200
TZOFFSETTO:+0100
TZNAME:Europe/Paris CET
END:STANDARD
BEGIN:STANDARD
DTSTART:20231029T020000
RDATE:20240331T030000
TZOFFSETFROM:+0200
TZOFFSETTO:+0100
TZNAME:Europe/Paris CET
END:STANDARD
BEGIN:STANDARD
DTSTART:20241027T020000
RDATE:20250330T030000
TZOFFSETFROM:+0200
TZOFFSETTO:+0100
TZNAME:Europe/Paris CET
END:STANDARD
BEGIN:STANDARD
DTSTART:20251026T020000
RDATE:20260329T030000
TZOFFSETFROM:+0200
TZOFFSETTO:+0100
TZNAME:Europe/Paris CET
END:STANDARD
BEGIN:STANDARD
DTSTART:20261025T020000
RDATE:20270328T030000
TZOFFSETFROM:+0200
TZOFFSETTO:+0100
TZNAME:Europe/Paris CET
END:STANDARD
BEGIN:DAYLIGHT
DTSTART:20160327T030000
RDATE:20161030T020000
TZOFFSETFROM:+0100
TZOFFSETTO:+0200
TZNAME:Europe/Paris CEST
END:DAYLIGHT
BEGIN:DAYLIGHT
DTSTART:20170326T030000
RDATE:20171029T020000
TZOFFSETFROM:+0100
TZOFFSETTO:+0200
TZNAME:Europe/Paris CEST
END:DAYLIGHT
BEGIN:DAYLIGHT
DTSTART:20180325T030000
RDATE:20181028T020000
TZOFFSETFROM:+0100
TZOFFSETTO:+0200
TZNAME:Europe/Paris CEST
END:DAYLIGHT
BEGIN:DAYLIGHT
DTSTART:20190331T030000
RDATE:20191027T020000
TZOFFSETFROM:+0100
TZOFFSETTO:+0200
TZNAME:Europe/Paris CEST
END:DAYLIGHT
BEGIN:DAYLIGHT
DTSTART:20200329T030000
RDATE:20201025T020000
TZOFFSETFROM:+0100
TZOFFSETTO:+0200
TZNAME:Europe/Paris CEST
END:DAYLIGHT
BEGIN:DAYLIGHT
DTSTART:20210328T030000
RDATE:20211031T020000
TZOFFSETFROM:+0100
TZOFFSETTO:+0200
TZNAME:Europe/Paris CEST
END:DAYLIGHT
BEGIN:DAYLIGHT
DTSTART:20220327T030000
RDATE:20221030T020000
TZOFFSETFROM:+0100
TZOFFSETTO:+0200
TZNAME:Europe/Paris CEST
END:DAYLIGHT
BEGIN:DAYLIGHT
DTSTART:20230326T030000
RDATE:20231029T020000
TZOFFSETFROM:+0100
TZOFFSETTO:+0200
TZNAME:Europe/Paris CEST
END:DAYLIGHT
BEGIN:DAYLIGHT
DTSTART:20240331T030000
RDATE:20241027T020000
TZOFFSETFROM:+0100
TZOFFSETTO:+0200
TZNAME:Europe/Paris CEST
END:DAYLIGHT
BEGIN:DAYLIGHT
DTSTART:20250330T030000
RDATE:20251026T020000
TZOFFSETFROM:+0100
TZOFFSETTO:+0200
TZNAME:Europe/Paris CEST
END:DAYLIGHT
BEGIN:DAYLIGHT
DTSTART:20260329T030000
RDATE:20261025T020000
TZOFFSETFROM:+0100
TZOFFSETTO:+0200
TZNAME:Europe/Paris CEST
END:DAYLIGHT
END:VTIMEZONE
BEGIN:VEVENT
UID:a7dbf6d634dabca206477b51a913866b
CATEGORIES:Circuit Massif Masters (alpin)
CREATED:20161202T134851
SUMMARY:GPM esprit racing     Prix Mat et Peinture **REPORTE**
URL;VALUE=URI:https://skivosges.net/agenda/export-synchronisation/detailevenement/691/-/g
 pm-esprit-racing-prix-mat-et-peinture-reporte?tmpl=component
DESCRIPTION:GPM esprit racing     Prix Mat et Peinture (Epreuve reportée)\n - Codex éve
 nement AMVT0330\n - Circuit : Grand Prix Masters\n - Lieu : ROUGE GAZON\n -
  Station : ROUGE GAZON\n - Organisateur : 14063 SKIEURS DE ST MAURICE/MOSEL
 LE\n - Courriel : RegularLabs.EmailProtector.unCloak("ep_55dbd40e");\n - Té
 léphone : 0780028040\n - Télécopie : 780028040Période d'inscription à l'evè
 nement du samedi 21 janvier 2017 à 01:00 au vendredi 27 janvier 2017 à 17:0
 0 (Inscriptions impossibles).Le type de titres Fédéraux autorisé n'est pas 
 défini. Veuillez contacter l'organisateur et lui signaler le problème.Epreu
 ves :\n - Le samedi 28 janvier 2017\n - Codex épreuve AMVM0331\n - Slalom G
 eant\n - Circuit : Grand Prix Masters\n - Le samedi 28 janvier 2017\n - Cod
 ex épreuve AMVF0331\n - Slalom Geant\n - Circuit : Grand Prix Masters\n - V
 oir les informations dans l'agenda... (/index.php?option=com_jevents&amp;ta
 sk=icalevent.detail&amp;evid=686&amp;Itemid=6283)\n - Vers la liste de dépa
 rts... (/index.php?option=com_gskiepreuves&amp;view=affichedeparts&amp;form
 at_option=tous&amp;filter[search]=AMVT0330&amp;filter[date_debut]=18-03-201
 7&amp;filter[date_fin]=18-03-2017&amp;Itemid=6283) Cet évènement a été impo
 rté depuis :https://skivosges.net/agenda/export-synchronisation/detailevene
 ment/691/-/gpm-esprit-racing-prix-mat-et-peinture-reporte?tmpl=component
X-ALT-DESC;FMTTYPE=text/html:<!-- #gskiepreuve code généré par le plugin jevents pour GskiEpreuves. Ne p
 as modifier cette ligne, ni tout le contenu suivant  #gskiepreuve --><div c
 lass="gski-evenement_infos"><div class="gski-evenement-nom">GPM esprit raci
 ng     Prix Mat et Peinture</div><div class="gski-evenement-report"> <font 
 class="gskiattention">(Epreuve reportée)</font></div><ul class="gski-evenem
 ent-liste-infos"><li>Codex évenement AMVT0330</li><li>Circuit : Grand Prix 
 Masters</li><li>Lieu : ROUGE GAZON</li><li>Station : ROUGE GAZON</li><li>Or
 ganisateur : 14063 SKIEURS DE ST MAURICE/MOSELLE</li><li>Courriel : <!-- Ce
 tte adresse électronique est protégée contre les robots spammeurs. --><span
  class="cloaked_email ep_55dbd40e"><span data-ep-a="&#100;&#97;&#110;ie" da
 ta-ep-b=""><span data-ep-b="&#111;o.&#102;&#114;" data-ep-a="l.mo&#114;"><s
 pan data-ep-a="&#101;&#108;&#50;&#53;&#64;" data-ep-b="wan&#97;&#100;"></sp
 an></span></span></span><script>RegularLabs.EmailProtector.unCloak("ep_55db
 d40e");</script></li><li>Téléphone : 0780028040</li><li>Télécopie : 7800280
 40</li></ul><div class="gski-evenement-infos-2"><div class="gski-evenement-
 info-inscriptions"><div class="gski-evenement-inscriptions-periodes">Périod
 e d'inscription à l'evènement du samedi 21 janvier 2017 à 01:00 au vendredi
  27 janvier 2017 à 17:00 <span class="gski-evenement-inscriptions-impossibl
 es">(Inscriptions impossibles).</span><div class="gski-evenement-inscriptio
 ns-types-titres">Le type de titres Fédéraux autorisé n'est pas défini. Veui
 llez contacter l'organisateur et lui signaler le problème.</div></div></div
 ><div class="gski-evenement-epreuves"><div class="gski-evenement-epreuves-t
 itres">Epreuves :</div><ul class="gski-evenement-epreuves-list"><li><div cl
 ass="gski-epreuve-date">Le samedi 28 janvier 2017</div><ul class="gski-epre
 uve-liste-infos"><li>Codex épreuve AMVM0331</li><li>Slalom Geant</li><li>Ci
 rcuit : Grand Prix Masters</li></ul></li><li><div class="gski-epreuve-date"
 >Le samedi 28 janvier 2017</div><ul class="gski-epreuve-liste-infos"><li>Co
 dex épreuve AMVF0331</li><li>Slalom Geant</li><li>Circuit : Grand Prix Mast
 ers</li></ul></li></ul></div><div class="gskiepreuves-links"><ul><li><a hre
 f="https://skivosges.net/index.php?option=com_jevents&task=icalevent.detail
 &evid=686&Itemid=6283">Voir les informations dans l'agenda...</a></li><li><
 a href="https://skivosges.net/index.php?option=com_gskiepreuves&view=affich
 edeparts&format_option=tous&filter[search]=AMVT0330&filter[date_debut]=18-0
 3-2017&filter[date_fin]=18-03-2017&Itemid=6283">Vers la liste de départs...
 </a></li></ul></div></div"><!-- #/gskiepreuve fin du dode généré par le plu
 gin jevents pour GskiEpreuves. . Ne pas modifier cette ligne, ni tout le co
 ntenu précedant.  #/gskiepreuve --> <a href="https://skivosges.net/agenda/e
 xport-synchronisation/detailevenement/691/-/gpm-esprit-racing-prix-mat-et-p
 einture-reporte?tmpl=component">Cet évènement a été importé depuis :https:/
 /skivosges.net/agenda/export-synchronisation/detailevenement/691/-/gpm-espr
 it-racing-prix-mat-et-peinture-reporte?tmpl=component</a>DTSTAMP:20260421T050651
DTSTART;TZID=Europe/Paris;VALUE=DATE:20170128
DTEND;TZID=Europe/Paris;VALUE=DATE:20170129
SEQUENCE:0
TRANSP:OPAQUE
END:VEVENT
END:VCALENDAR