BEGIN:VCALENDAR
VERSION:2.0
PRODID:-//jEvents 2.0 for Joomla//EN
CALSCALE:GREGORIAN
METHOD:PUBLISH
BEGIN:VTIMEZONE
TZID:Europe/Paris
BEGIN:STANDARD
DTSTART:20160128T000000
RDATE:20160327T030000
TZOFFSETFROM:+0200
TZOFFSETTO:+0100
TZNAME:Europe/Paris CET
END:STANDARD
BEGIN:STANDARD
DTSTART:20161030T020000
RDATE:20170326T030000
TZOFFSETFROM:+0200
TZOFFSETTO:+0100
TZNAME:Europe/Paris CET
END:STANDARD
BEGIN:STANDARD
DTSTART:20171029T020000
RDATE:20180325T030000
TZOFFSETFROM:+0200
TZOFFSETTO:+0100
TZNAME:Europe/Paris CET
END:STANDARD
BEGIN:STANDARD
DTSTART:20181028T020000
RDATE:20190331T030000
TZOFFSETFROM:+0200
TZOFFSETTO:+0100
TZNAME:Europe/Paris CET
END:STANDARD
BEGIN:STANDARD
DTSTART:20191027T020000
RDATE:20200329T030000
TZOFFSETFROM:+0200
TZOFFSETTO:+0100
TZNAME:Europe/Paris CET
END:STANDARD
BEGIN:STANDARD
DTSTART:20201025T020000
RDATE:20210328T030000
TZOFFSETFROM:+0200
TZOFFSETTO:+0100
TZNAME:Europe/Paris CET
END:STANDARD
BEGIN:STANDARD
DTSTART:20211031T020000
RDATE:20220327T030000
TZOFFSETFROM:+0200
TZOFFSETTO:+0100
TZNAME:Europe/Paris CET
END:STANDARD
BEGIN:STANDARD
DTSTART:20221030T020000
RDATE:20230326T030000
TZOFFSETFROM:+0200
TZOFFSETTO:+0100
TZNAME:Europe/Paris CET
END:STANDARD
BEGIN:STANDARD
DTSTART:20231029T020000
RDATE:20240331T030000
TZOFFSETFROM:+0200
TZOFFSETTO:+0100
TZNAME:Europe/Paris CET
END:STANDARD
BEGIN:STANDARD
DTSTART:20241027T020000
RDATE:20250330T030000
TZOFFSETFROM:+0200
TZOFFSETTO:+0100
TZNAME:Europe/Paris CET
END:STANDARD
BEGIN:STANDARD
DTSTART:20251026T020000
RDATE:20260329T030000
TZOFFSETFROM:+0200
TZOFFSETTO:+0100
TZNAME:Europe/Paris CET
END:STANDARD
BEGIN:STANDARD
DTSTART:20261025T020000
RDATE:20270328T030000
TZOFFSETFROM:+0200
TZOFFSETTO:+0100
TZNAME:Europe/Paris CET
END:STANDARD
BEGIN:DAYLIGHT
DTSTART:20160327T030000
RDATE:20161030T020000
TZOFFSETFROM:+0100
TZOFFSETTO:+0200
TZNAME:Europe/Paris CEST
END:DAYLIGHT
BEGIN:DAYLIGHT
DTSTART:20170326T030000
RDATE:20171029T020000
TZOFFSETFROM:+0100
TZOFFSETTO:+0200
TZNAME:Europe/Paris CEST
END:DAYLIGHT
BEGIN:DAYLIGHT
DTSTART:20180325T030000
RDATE:20181028T020000
TZOFFSETFROM:+0100
TZOFFSETTO:+0200
TZNAME:Europe/Paris CEST
END:DAYLIGHT
BEGIN:DAYLIGHT
DTSTART:20190331T030000
RDATE:20191027T020000
TZOFFSETFROM:+0100
TZOFFSETTO:+0200
TZNAME:Europe/Paris CEST
END:DAYLIGHT
BEGIN:DAYLIGHT
DTSTART:20200329T030000
RDATE:20201025T020000
TZOFFSETFROM:+0100
TZOFFSETTO:+0200
TZNAME:Europe/Paris CEST
END:DAYLIGHT
BEGIN:DAYLIGHT
DTSTART:20210328T030000
RDATE:20211031T020000
TZOFFSETFROM:+0100
TZOFFSETTO:+0200
TZNAME:Europe/Paris CEST
END:DAYLIGHT
BEGIN:DAYLIGHT
DTSTART:20220327T030000
RDATE:20221030T020000
TZOFFSETFROM:+0100
TZOFFSETTO:+0200
TZNAME:Europe/Paris CEST
END:DAYLIGHT
BEGIN:DAYLIGHT
DTSTART:20230326T030000
RDATE:20231029T020000
TZOFFSETFROM:+0100
TZOFFSETTO:+0200
TZNAME:Europe/Paris CEST
END:DAYLIGHT
BEGIN:DAYLIGHT
DTSTART:20240331T030000
RDATE:20241027T020000
TZOFFSETFROM:+0100
TZOFFSETTO:+0200
TZNAME:Europe/Paris CEST
END:DAYLIGHT
BEGIN:DAYLIGHT
DTSTART:20250330T030000
RDATE:20251026T020000
TZOFFSETFROM:+0100
TZOFFSETTO:+0200
TZNAME:Europe/Paris CEST
END:DAYLIGHT
BEGIN:DAYLIGHT
DTSTART:20260329T030000
RDATE:20261025T020000
TZOFFSETFROM:+0100
TZOFFSETTO:+0200
TZNAME:Europe/Paris CEST
END:DAYLIGHT
END:VTIMEZONE
BEGIN:VEVENT
UID:d94a0827ce7d6e960c381d46f56c0512
CATEGORIES:Compétition Biathlon
CREATED:20161202T134851
SUMMARY:CHALLENGE NATIONAL U14
URL;VALUE=URI:https://skivosges.net/agenda/export-synchronisation/detailevenement/695/-/c
 hallenge-national-u14?tmpl=component
DESCRIPTION:<!-- #gskiepreuve code généré par le plugin jevents pour GskiEpreuves. Ne p
 as modifier cette ligne, ni tout le contenu suivant  #gskiepreuve --><div c
 lass="gski-evenement_infos"><div class="gski-evenement-nom">CHALLENGE NATIO
 NAL U14</div><div class="gski-evenement-report"></div><ul class="gski-evene
 ment-liste-infos"><li>Codex évenement BNAT0050</li><li>Lieu : LA BRESSE</li
 ><li>Station : LA BRESSE</li><li>Organisateur : 14024 LA BRESSAUDE SECTION 
 SKI</li><li><span class="gski-evenement-obs">Autres informations : Inscript
 ions obligatoires via WEB FFS</span></li></ul><div class="gski-evenement-in
 fos-2"><div class="gski-evenement-info-inscriptions"><div class="gski-evene
 ment-inscriptions-periodes">Période d'inscription à l'evènement du samedi 2
 1 janvier 2017 à 01:00 au jeudi 26 janvier 2017 à 13:00 <span class="gski-e
 venement-inscriptions-impossibles">(Inscriptions impossibles).</span><div c
 lass="gski-evenement-inscriptions-types-titres">Le type de titres Fédéraux 
 autorisé n'est pas défini. Veuillez contacter l'organisateur et lui signale
 r le problème.</div></div></div><div class="gski-evenement-epreuves"><div c
 lass="gski-evenement-epreuves-titres">Epreuves :</div><ul class="gski-evene
 ment-epreuves-list"><li><div class="gski-epreuve-date">Le samedi 28 janvier
  2017</div><ul class="gski-epreuve-liste-infos"><li>Codex épreuve BNAM0051<
 /li><li>Sprint</li></ul></li><li><div class="gski-epreuve-date">Le samedi 2
 8 janvier 2017</div><ul class="gski-epreuve-liste-infos"><li>Codex épreuve 
 BNAF0051</li><li>Sprint</li></ul></li></ul></div><div class="gskiepreuves-l
 inks"><ul><li><a href="/index.php?option=com_jevents&task=icalevent.detail&
 evid=690&Itemid=6283">Voir les informations dans l'agenda...</a></li><li><a
  href="/index.php?option=com_gskiepreuves&view=afficheresultats&format_opti
 on=tous&filter[search]=BNAT0050&filter[date_debut]=28-01-2017&filter[date_f
 in]=28-01-2017&code_activite=BIATH&Itemid=6283">Vers les résultats...</a></
 li></ul></div></div"><!-- #/gskiepreuve fin du dode généré par le plugin je
 vents pour GskiEpreuves. . Ne pas modifier cette ligne, ni tout le contenu 
 précedant.  #/gskiepreuve --> <a href="https://skivosges.net/agenda/export-
 synchronisation/detailevenement/695/-/challenge-national-u14?tmpl=component
 ">Cet évènement a été importé depuis :https://skivosges.net/agenda/export-s
 ynchronisation/detailevenement/695/-/challenge-national-u14?tmpl=component<
 /a>
X-ALT-DESC;FMTTYPE=text/html:<!-- #gskiepreuve code généré par le plugin jevents pour GskiEpreuves. Ne p
 as modifier cette ligne, ni tout le contenu suivant  #gskiepreuve --><div c
 lass="gski-evenement_infos"><div class="gski-evenement-nom">CHALLENGE NATIO
 NAL U14</div><div class="gski-evenement-report"></div><ul class="gski-evene
 ment-liste-infos"><li>Codex évenement BNAT0050</li><li>Lieu : LA BRESSE</li
 ><li>Station : LA BRESSE</li><li>Organisateur : 14024 LA BRESSAUDE SECTION 
 SKI</li><li><span class="gski-evenement-obs">Autres informations : Inscript
 ions obligatoires via WEB FFS</span></li></ul><div class="gski-evenement-in
 fos-2"><div class="gski-evenement-info-inscriptions"><div class="gski-evene
 ment-inscriptions-periodes">Période d'inscription à l'evènement du samedi 2
 1 janvier 2017 à 01:00 au jeudi 26 janvier 2017 à 13:00 <span class="gski-e
 venement-inscriptions-impossibles">(Inscriptions impossibles).</span><div c
 lass="gski-evenement-inscriptions-types-titres">Le type de titres Fédéraux 
 autorisé n'est pas défini. Veuillez contacter l'organisateur et lui signale
 r le problème.</div></div></div><div class="gski-evenement-epreuves"><div c
 lass="gski-evenement-epreuves-titres">Epreuves :</div><ul class="gski-evene
 ment-epreuves-list"><li><div class="gski-epreuve-date">Le samedi 28 janvier
  2017</div><ul class="gski-epreuve-liste-infos"><li>Codex épreuve BNAM0051<
 /li><li>Sprint</li></ul></li><li><div class="gski-epreuve-date">Le samedi 2
 8 janvier 2017</div><ul class="gski-epreuve-liste-infos"><li>Codex épreuve 
 BNAF0051</li><li>Sprint</li></ul></li></ul></div><div class="gskiepreuves-l
 inks"><ul><li><a href="https://skivosges.net/index.php?option=com_jevents&t
 ask=icalevent.detail&evid=690&Itemid=6283">Voir les informations dans l'age
 nda...</a></li><li><a href="https://skivosges.net/index.php?option=com_gski
 epreuves&view=afficheresultats&format_option=tous&filter[search]=BNAT0050&f
 ilter[date_debut]=28-01-2017&filter[date_fin]=28-01-2017&code_activite=BIAT
 H&Itemid=6283">Vers les résultats...</a></li></ul></div></div"><!-- #/gskie
 preuve fin du dode généré par le plugin jevents pour GskiEpreuves. . Ne pas
  modifier cette ligne, ni tout le contenu précedant.  #/gskiepreuve --> <a 
 href="https://skivosges.net/agenda/export-synchronisation/detailevenement/6
 95/-/challenge-national-u14?tmpl=component">Cet évènement a été importé dep
 uis :https://skivosges.net/agenda/export-synchronisation/detailevenement/69
 5/-/challenge-national-u14?tmpl=component</a>DTSTAMP:20260420T221339
DTSTART;TZID=Europe/Paris;VALUE=DATE:20170128
DTEND;TZID=Europe/Paris;VALUE=DATE:20170129
SEQUENCE:0
TRANSP:OPAQUE
END:VEVENT
END:VCALENDAR