BEGIN:VCALENDAR
VERSION:2.0
PRODID:-//jEvents 2.0 for Joomla//EN
CALSCALE:GREGORIAN
METHOD:PUBLISH
BEGIN:VTIMEZONE
TZID:Europe/Paris
BEGIN:STANDARD
DTSTART:20160129T000000
RDATE:20160327T030000
TZOFFSETFROM:+0200
TZOFFSETTO:+0100
TZNAME:Europe/Paris CET
END:STANDARD
BEGIN:STANDARD
DTSTART:20161030T020000
RDATE:20170326T030000
TZOFFSETFROM:+0200
TZOFFSETTO:+0100
TZNAME:Europe/Paris CET
END:STANDARD
BEGIN:STANDARD
DTSTART:20171029T020000
RDATE:20180325T030000
TZOFFSETFROM:+0200
TZOFFSETTO:+0100
TZNAME:Europe/Paris CET
END:STANDARD
BEGIN:STANDARD
DTSTART:20181028T020000
RDATE:20190331T030000
TZOFFSETFROM:+0200
TZOFFSETTO:+0100
TZNAME:Europe/Paris CET
END:STANDARD
BEGIN:STANDARD
DTSTART:20191027T020000
RDATE:20200329T030000
TZOFFSETFROM:+0200
TZOFFSETTO:+0100
TZNAME:Europe/Paris CET
END:STANDARD
BEGIN:STANDARD
DTSTART:20201025T020000
RDATE:20210328T030000
TZOFFSETFROM:+0200
TZOFFSETTO:+0100
TZNAME:Europe/Paris CET
END:STANDARD
BEGIN:STANDARD
DTSTART:20211031T020000
RDATE:20220327T030000
TZOFFSETFROM:+0200
TZOFFSETTO:+0100
TZNAME:Europe/Paris CET
END:STANDARD
BEGIN:STANDARD
DTSTART:20221030T020000
RDATE:20230326T030000
TZOFFSETFROM:+0200
TZOFFSETTO:+0100
TZNAME:Europe/Paris CET
END:STANDARD
BEGIN:STANDARD
DTSTART:20231029T020000
RDATE:20240331T030000
TZOFFSETFROM:+0200
TZOFFSETTO:+0100
TZNAME:Europe/Paris CET
END:STANDARD
BEGIN:STANDARD
DTSTART:20241027T020000
RDATE:20250330T030000
TZOFFSETFROM:+0200
TZOFFSETTO:+0100
TZNAME:Europe/Paris CET
END:STANDARD
BEGIN:STANDARD
DTSTART:20251026T020000
RDATE:20260329T030000
TZOFFSETFROM:+0200
TZOFFSETTO:+0100
TZNAME:Europe/Paris CET
END:STANDARD
BEGIN:STANDARD
DTSTART:20261025T020000
RDATE:20270328T030000
TZOFFSETFROM:+0200
TZOFFSETTO:+0100
TZNAME:Europe/Paris CET
END:STANDARD
BEGIN:DAYLIGHT
DTSTART:20160327T030000
RDATE:20161030T020000
TZOFFSETFROM:+0100
TZOFFSETTO:+0200
TZNAME:Europe/Paris CEST
END:DAYLIGHT
BEGIN:DAYLIGHT
DTSTART:20170326T030000
RDATE:20171029T020000
TZOFFSETFROM:+0100
TZOFFSETTO:+0200
TZNAME:Europe/Paris CEST
END:DAYLIGHT
BEGIN:DAYLIGHT
DTSTART:20180325T030000
RDATE:20181028T020000
TZOFFSETFROM:+0100
TZOFFSETTO:+0200
TZNAME:Europe/Paris CEST
END:DAYLIGHT
BEGIN:DAYLIGHT
DTSTART:20190331T030000
RDATE:20191027T020000
TZOFFSETFROM:+0100
TZOFFSETTO:+0200
TZNAME:Europe/Paris CEST
END:DAYLIGHT
BEGIN:DAYLIGHT
DTSTART:20200329T030000
RDATE:20201025T020000
TZOFFSETFROM:+0100
TZOFFSETTO:+0200
TZNAME:Europe/Paris CEST
END:DAYLIGHT
BEGIN:DAYLIGHT
DTSTART:20210328T030000
RDATE:20211031T020000
TZOFFSETFROM:+0100
TZOFFSETTO:+0200
TZNAME:Europe/Paris CEST
END:DAYLIGHT
BEGIN:DAYLIGHT
DTSTART:20220327T030000
RDATE:20221030T020000
TZOFFSETFROM:+0100
TZOFFSETTO:+0200
TZNAME:Europe/Paris CEST
END:DAYLIGHT
BEGIN:DAYLIGHT
DTSTART:20230326T030000
RDATE:20231029T020000
TZOFFSETFROM:+0100
TZOFFSETTO:+0200
TZNAME:Europe/Paris CEST
END:DAYLIGHT
BEGIN:DAYLIGHT
DTSTART:20240331T030000
RDATE:20241027T020000
TZOFFSETFROM:+0100
TZOFFSETTO:+0200
TZNAME:Europe/Paris CEST
END:DAYLIGHT
BEGIN:DAYLIGHT
DTSTART:20250330T030000
RDATE:20251026T020000
TZOFFSETFROM:+0100
TZOFFSETTO:+0200
TZNAME:Europe/Paris CEST
END:DAYLIGHT
BEGIN:DAYLIGHT
DTSTART:20260329T030000
RDATE:20261025T020000
TZOFFSETFROM:+0100
TZOFFSETTO:+0200
TZNAME:Europe/Paris CEST
END:DAYLIGHT
END:VTIMEZONE
BEGIN:VEVENT
UID:92a5ea37a9f0bfc07dc2596171297138
CATEGORIES:Circuit Lorraine Jeunes (alpin)
CREATED:20161202T134851
SUMMARY:CLJ Coupe de bronze et micro Prix du CDHV
URL;VALUE=URI:https://skivosges.net/agenda/export-synchronisation/detailevenement/699/-/c
 lj-coupe-de-bronze-et-micro-prix-du-cdhv?tmpl=component
DESCRIPTION:<!-- #gskiepreuve code généré par le plugin jevents pour GskiEpreuves. Ne p
 as modifier cette ligne, ni tout le contenu suivant  #gskiepreuve --><div c
 lass="gski-evenement_infos"><div class="gski-evenement-nom">CLJ Coupe de br
 onze et micro Prix du CDHV</div><div class="gski-evenement-report"></div><u
 l class="gski-evenement-liste-infos"><li>Codex évenement AMVT0350</li><li>C
 ircuit : Coupe de Lorraine Jeunes</li><li>Lieu : GERARDMER</li><li>Station 
 : GERARDMER</li><li>COM_GSKIEPREUVES_EPREUVE_PISTESTADE DE SLALOM</li><li>O
 rganisateur : 14409 A.S DU VALTIN</li><li>Courriel : <!-- Cette adresse éle
 ctronique est protégée contre les robots spammeurs. --><span class="cloaked
 _email ep_d3a3d133"><span data-ep-b="&#102;&#114;" data-ep-a="a&#115;&#103;
 &#115;&#107;"><span data-ep-b="&#97;&#100;oo." data-ep-a="i.&#103;&#101;r">
 <span data-ep-b="r&#64;&#119;&#97;n" data-ep-a="&#97;&#114;d&#109;&#101;"><
 /span></span></span></span><script>RegularLabs.EmailProtector.unCloak("ep_d
 3a3d133");</script></li><li>Téléphone : 03 29 60 98 04</li><li><span class=
 "gski-evenement-obs">Autres informations : DEPART A 9H30</span></li></ul><d
 iv class="gski-evenement-infos-2"><div class="gski-evenement-info-inscripti
 ons"><div class="gski-evenement-inscriptions-periodes">Période d'inscriptio
 n à l'evènement du dimanche 22 janvier 2017 à 01:00 au vendredi 27 janvier 
 2017 à 13:00 <span class="gski-evenement-inscriptions-impossibles">(Inscrip
 tions impossibles).</span><div class="gski-evenement-inscriptions-types-tit
 res">Le type de titres Fédéraux autorisé n'est pas défini. Veuillez contact
 er l'organisateur et lui signaler le problème.</div></div></div><div class=
 "gski-evenement-epreuves"><div class="gski-evenement-epreuves-titres">Epreu
 ves :</div><ul class="gski-evenement-epreuves-list"><li><div class="gski-ep
 reuve-date">Le dimanche 29 janvier 2017</div><ul class="gski-epreuve-liste-
 infos"><li>Codex épreuve AMVM0351</li><li>Slalom Geant</li><li>Circuit : Co
 upe de Lorraine Jeunes</li></ul></li><li><div class="gski-epreuve-date">Le 
 dimanche 29 janvier 2017</div><ul class="gski-epreuve-liste-infos"><li>Code
 x épreuve AMVF0351</li><li>Slalom Geant</li><li>Circuit : Coupe de Lorraine
  Jeunes</li></ul></li><li><div class="gski-epreuve-date">Le dimanche 29 jan
 vier 2017</div><ul class="gski-epreuve-liste-infos"><li>Codex épreuve AMVM0
 352</li><li>Slalom Geant</li><li>Circuit : Coupe de Lorraine Jeunes</li></u
 l></li><li><div class="gski-epreuve-date">Le dimanche 29 janvier 2017</div>
 <ul class="gski-epreuve-liste-infos"><li>Codex épreuve AMVF0352</li><li>Sla
 lom Geant</li><li>Circuit : Coupe de Lorraine Jeunes</li></ul></li><li><div
  class="gski-epreuve-date">Le dimanche 29 janvier 2017</div><ul class="gski
 -epreuve-liste-infos"><li>Codex épreuve AMVM0353</li><li>Slalom Geant</li><
 li>Circuit : Coupe de Lorraine Jeunes</li></ul></li><li><div class="gski-ep
 reuve-date">Le dimanche 29 janvier 2017</div><ul class="gski-epreuve-liste-
 infos"><li>Codex épreuve AMVF0353</li><li>Slalom Geant</li><li>Circuit : Co
 upe de Lorraine Jeunes</li></ul></li></ul></div><div class="gskiepreuves-li
 nks"><ul><li><a href="/index.php?option=com_jevents&task=icalevent.detail&e
 vid=694&Itemid=6283">Voir les informations dans l'agenda...</a></li><li><a 
 href="/index.php?option=com_gskiepreuves&view=afficheresultats&format_optio
 n=tous&filter[search]=AMVT0350&filter[date_debut]=29-01-2017&filter[date_fi
 n]=29-01-2017&code_activite=ALP&Itemid=6283">Vers les résultats...</a></li>
 </ul></div></div"><!-- #/gskiepreuve fin du dode généré par le plugin jeven
 ts pour GskiEpreuves. . Ne pas modifier cette ligne, ni tout le contenu pré
 cedant.  #/gskiepreuve --> <a href="https://skivosges.net/agenda/export-syn
 chronisation/detailevenement/699/-/clj-coupe-de-bronze-et-micro-prix-du-cdh
 v?tmpl=component">Cet évènement a été importé depuis :https://skivosges.net
 /agenda/export-synchronisation/detailevenement/699/-/clj-coupe-de-bronze-et
 -micro-prix-du-cdhv?tmpl=component</a>
X-ALT-DESC;FMTTYPE=text/html:<!-- #gskiepreuve code généré par le plugin jevents pour GskiEpreuves. Ne p
 as modifier cette ligne, ni tout le contenu suivant  #gskiepreuve --><div c
 lass="gski-evenement_infos"><div class="gski-evenement-nom">CLJ Coupe de br
 onze et micro Prix du CDHV</div><div class="gski-evenement-report"></div><u
 l class="gski-evenement-liste-infos"><li>Codex évenement AMVT0350</li><li>C
 ircuit : Coupe de Lorraine Jeunes</li><li>Lieu : GERARDMER</li><li>Station 
 : GERARDMER</li><li>COM_GSKIEPREUVES_EPREUVE_PISTESTADE DE SLALOM</li><li>O
 rganisateur : 14409 A.S DU VALTIN</li><li>Courriel : <!-- Cette adresse éle
 ctronique est protégée contre les robots spammeurs. --><span class="cloaked
 _email ep_d3a3d133"><span data-ep-b="&#102;&#114;" data-ep-a="a&#115;&#103;
 &#115;&#107;"><span data-ep-b="&#97;&#100;oo." data-ep-a="i.&#103;&#101;r">
 <span data-ep-b="r&#64;&#119;&#97;n" data-ep-a="&#97;&#114;d&#109;&#101;"><
 /span></span></span></span><script>RegularLabs.EmailProtector.unCloak("ep_d
 3a3d133");</script></li><li>Téléphone : 03 29 60 98 04</li><li><span class=
 "gski-evenement-obs">Autres informations : DEPART A 9H30</span></li></ul><d
 iv class="gski-evenement-infos-2"><div class="gski-evenement-info-inscripti
 ons"><div class="gski-evenement-inscriptions-periodes">Période d'inscriptio
 n à l'evènement du dimanche 22 janvier 2017 à 01:00 au vendredi 27 janvier 
 2017 à 13:00 <span class="gski-evenement-inscriptions-impossibles">(Inscrip
 tions impossibles).</span><div class="gski-evenement-inscriptions-types-tit
 res">Le type de titres Fédéraux autorisé n'est pas défini. Veuillez contact
 er l'organisateur et lui signaler le problème.</div></div></div><div class=
 "gski-evenement-epreuves"><div class="gski-evenement-epreuves-titres">Epreu
 ves :</div><ul class="gski-evenement-epreuves-list"><li><div class="gski-ep
 reuve-date">Le dimanche 29 janvier 2017</div><ul class="gski-epreuve-liste-
 infos"><li>Codex épreuve AMVM0351</li><li>Slalom Geant</li><li>Circuit : Co
 upe de Lorraine Jeunes</li></ul></li><li><div class="gski-epreuve-date">Le 
 dimanche 29 janvier 2017</div><ul class="gski-epreuve-liste-infos"><li>Code
 x épreuve AMVF0351</li><li>Slalom Geant</li><li>Circuit : Coupe de Lorraine
  Jeunes</li></ul></li><li><div class="gski-epreuve-date">Le dimanche 29 jan
 vier 2017</div><ul class="gski-epreuve-liste-infos"><li>Codex épreuve AMVM0
 352</li><li>Slalom Geant</li><li>Circuit : Coupe de Lorraine Jeunes</li></u
 l></li><li><div class="gski-epreuve-date">Le dimanche 29 janvier 2017</div>
 <ul class="gski-epreuve-liste-infos"><li>Codex épreuve AMVF0352</li><li>Sla
 lom Geant</li><li>Circuit : Coupe de Lorraine Jeunes</li></ul></li><li><div
  class="gski-epreuve-date">Le dimanche 29 janvier 2017</div><ul class="gski
 -epreuve-liste-infos"><li>Codex épreuve AMVM0353</li><li>Slalom Geant</li><
 li>Circuit : Coupe de Lorraine Jeunes</li></ul></li><li><div class="gski-ep
 reuve-date">Le dimanche 29 janvier 2017</div><ul class="gski-epreuve-liste-
 infos"><li>Codex épreuve AMVF0353</li><li>Slalom Geant</li><li>Circuit : Co
 upe de Lorraine Jeunes</li></ul></li></ul></div><div class="gskiepreuves-li
 nks"><ul><li><a href="https://skivosges.net/index.php?option=com_jevents&ta
 sk=icalevent.detail&evid=694&Itemid=6283">Voir les informations dans l'agen
 da...</a></li><li><a href="https://skivosges.net/index.php?option=com_gskie
 preuves&view=afficheresultats&format_option=tous&filter[search]=AMVT0350&fi
 lter[date_debut]=29-01-2017&filter[date_fin]=29-01-2017&code_activite=ALP&I
 temid=6283">Vers les résultats...</a></li></ul></div></div"><!-- #/gskiepre
 uve fin du dode généré par le plugin jevents pour GskiEpreuves. . Ne pas mo
 difier cette ligne, ni tout le contenu précedant.  #/gskiepreuve --> <a hre
 f="https://skivosges.net/agenda/export-synchronisation/detailevenement/699/
 -/clj-coupe-de-bronze-et-micro-prix-du-cdhv?tmpl=component">Cet évènement a
  été importé depuis :https://skivosges.net/agenda/export-synchronisation/de
 tailevenement/699/-/clj-coupe-de-bronze-et-micro-prix-du-cdhv?tmpl=componen
 t</a>DTSTAMP:20260421T051209
DTSTART;TZID=Europe/Paris;VALUE=DATE:20170129
DTEND;TZID=Europe/Paris;VALUE=DATE:20170130
SEQUENCE:0
TRANSP:OPAQUE
END:VEVENT
END:VCALENDAR