BEGIN:VCALENDAR
VERSION:2.0
PRODID:-//jEvents 2.0 for Joomla//EN
CALSCALE:GREGORIAN
METHOD:PUBLISH
BEGIN:VTIMEZONE
TZID:Europe/Paris
BEGIN:STANDARD
DTSTART:20160129T000000
RDATE:20160327T030000
TZOFFSETFROM:+0200
TZOFFSETTO:+0100
TZNAME:Europe/Paris CET
END:STANDARD
BEGIN:STANDARD
DTSTART:20161030T020000
RDATE:20170326T030000
TZOFFSETFROM:+0200
TZOFFSETTO:+0100
TZNAME:Europe/Paris CET
END:STANDARD
BEGIN:STANDARD
DTSTART:20171029T020000
RDATE:20180325T030000
TZOFFSETFROM:+0200
TZOFFSETTO:+0100
TZNAME:Europe/Paris CET
END:STANDARD
BEGIN:STANDARD
DTSTART:20181028T020000
RDATE:20190331T030000
TZOFFSETFROM:+0200
TZOFFSETTO:+0100
TZNAME:Europe/Paris CET
END:STANDARD
BEGIN:STANDARD
DTSTART:20191027T020000
RDATE:20200329T030000
TZOFFSETFROM:+0200
TZOFFSETTO:+0100
TZNAME:Europe/Paris CET
END:STANDARD
BEGIN:STANDARD
DTSTART:20201025T020000
RDATE:20210328T030000
TZOFFSETFROM:+0200
TZOFFSETTO:+0100
TZNAME:Europe/Paris CET
END:STANDARD
BEGIN:STANDARD
DTSTART:20211031T020000
RDATE:20220327T030000
TZOFFSETFROM:+0200
TZOFFSETTO:+0100
TZNAME:Europe/Paris CET
END:STANDARD
BEGIN:STANDARD
DTSTART:20221030T020000
RDATE:20230326T030000
TZOFFSETFROM:+0200
TZOFFSETTO:+0100
TZNAME:Europe/Paris CET
END:STANDARD
BEGIN:STANDARD
DTSTART:20231029T020000
RDATE:20240331T030000
TZOFFSETFROM:+0200
TZOFFSETTO:+0100
TZNAME:Europe/Paris CET
END:STANDARD
BEGIN:STANDARD
DTSTART:20241027T020000
RDATE:20250330T030000
TZOFFSETFROM:+0200
TZOFFSETTO:+0100
TZNAME:Europe/Paris CET
END:STANDARD
BEGIN:STANDARD
DTSTART:20251026T020000
RDATE:20260329T030000
TZOFFSETFROM:+0200
TZOFFSETTO:+0100
TZNAME:Europe/Paris CET
END:STANDARD
BEGIN:STANDARD
DTSTART:20261025T020000
RDATE:20270328T030000
TZOFFSETFROM:+0200
TZOFFSETTO:+0100
TZNAME:Europe/Paris CET
END:STANDARD
BEGIN:DAYLIGHT
DTSTART:20160327T030000
RDATE:20161030T020000
TZOFFSETFROM:+0100
TZOFFSETTO:+0200
TZNAME:Europe/Paris CEST
END:DAYLIGHT
BEGIN:DAYLIGHT
DTSTART:20170326T030000
RDATE:20171029T020000
TZOFFSETFROM:+0100
TZOFFSETTO:+0200
TZNAME:Europe/Paris CEST
END:DAYLIGHT
BEGIN:DAYLIGHT
DTSTART:20180325T030000
RDATE:20181028T020000
TZOFFSETFROM:+0100
TZOFFSETTO:+0200
TZNAME:Europe/Paris CEST
END:DAYLIGHT
BEGIN:DAYLIGHT
DTSTART:20190331T030000
RDATE:20191027T020000
TZOFFSETFROM:+0100
TZOFFSETTO:+0200
TZNAME:Europe/Paris CEST
END:DAYLIGHT
BEGIN:DAYLIGHT
DTSTART:20200329T030000
RDATE:20201025T020000
TZOFFSETFROM:+0100
TZOFFSETTO:+0200
TZNAME:Europe/Paris CEST
END:DAYLIGHT
BEGIN:DAYLIGHT
DTSTART:20210328T030000
RDATE:20211031T020000
TZOFFSETFROM:+0100
TZOFFSETTO:+0200
TZNAME:Europe/Paris CEST
END:DAYLIGHT
BEGIN:DAYLIGHT
DTSTART:20220327T030000
RDATE:20221030T020000
TZOFFSETFROM:+0100
TZOFFSETTO:+0200
TZNAME:Europe/Paris CEST
END:DAYLIGHT
BEGIN:DAYLIGHT
DTSTART:20230326T030000
RDATE:20231029T020000
TZOFFSETFROM:+0100
TZOFFSETTO:+0200
TZNAME:Europe/Paris CEST
END:DAYLIGHT
BEGIN:DAYLIGHT
DTSTART:20240331T030000
RDATE:20241027T020000
TZOFFSETFROM:+0100
TZOFFSETTO:+0200
TZNAME:Europe/Paris CEST
END:DAYLIGHT
BEGIN:DAYLIGHT
DTSTART:20250330T030000
RDATE:20251026T020000
TZOFFSETFROM:+0100
TZOFFSETTO:+0200
TZNAME:Europe/Paris CEST
END:DAYLIGHT
BEGIN:DAYLIGHT
DTSTART:20260329T030000
RDATE:20261025T020000
TZOFFSETFROM:+0100
TZOFFSETTO:+0200
TZNAME:Europe/Paris CEST
END:DAYLIGHT
END:VTIMEZONE
BEGIN:VEVENT
UID:de6d367fa96626e43efd9f4524ef5e26
CATEGORIES:Opens et Promos (alpin)
CREATED:20161202T134851
SUMMARY:PROMO  U8 à U16     Les dimanches de la Glisse  Fête de la Neige
URL;VALUE=URI:https://skivosges.net/agenda/export-synchronisation/detailevenement/700/-/p
 romo-u8-a-u16-les-dimanches-de-la-glisse-fete-de-la-neige?tmpl=component
DESCRIPTION:PROMO  U8 à U16     Les dimanches de la Glisse  Fête de la Neige\n - Codex 
 évenement AMVT0370\n - Lieu : CHAMP DU FEU\n - Station : CHAMP DU FEU\n - O
 rganisateur : 14003 SKI CLUB BARR\n - Courriel : RegularLabs.EmailProtector
 .unCloak("ep_5f9f4945");Période d'inscription à l'evènement du dimanche 22 
 janvier 2017 à 01:00 au samedi 28 janvier 2017 à 13:00 (Inscriptions imposs
 ibles).Le type de titres Fédéraux autorisé n'est pas défini. Veuillez conta
 cter l'organisateur et lui signaler le problème.Epreuves :\n - Le dimanche 
 29 janvier 2017\n - Codex épreuve AMVM0371\n - Slalom Geant\n - Le dimanche
  29 janvier 2017\n - Codex épreuve AMVF0371\n - Slalom Geant\n - Le dimanch
 e 29 janvier 2017\n - Codex épreuve AMVF0372\n - Slalom Geant\n - Le dimanc
 he 29 janvier 2017\n - Codex épreuve AMVF0373\n - Slalom Geant\n - Voir les
  informations dans l'agenda... (/index.php?option=com_jevents&amp;task=ical
 event.detail&amp;evid=695&amp;Itemid=6283)\n - Vers les résultats... (/inde
 x.php?option=com_gskiepreuves&amp;view=afficheresultats&amp;format_option=t
 ous&amp;filter[search]=AMVT0370&amp;filter[date_debut]=29-01-2017&amp;filte
 r[date_fin]=29-01-2017&amp;code_activite=ALP&amp;Itemid=6283) Cet évènement
  a été importé depuis :https://skivosges.net/agenda/export-synchronisation/
 detailevenement/700/-/promo-u8-a-u16-les-dimanches-de-la-glisse-fete-de-la-
 neige?tmpl=component
X-ALT-DESC;FMTTYPE=text/html:<!-- #gskiepreuve code généré par le plugin jevents pour GskiEpreuves. Ne p
 as modifier cette ligne, ni tout le contenu suivant  #gskiepreuve --><div c
 lass="gski-evenement_infos"><div class="gski-evenement-nom">PROMO  U8 à U16
      Les dimanches de la Glisse  Fête de la Neige</div><div class="gski-eve
 nement-report"></div><ul class="gski-evenement-liste-infos"><li>Codex évene
 ment AMVT0370</li><li>Lieu : CHAMP DU FEU</li><li>Station : CHAMP DU FEU</l
 i><li>Organisateur : 14003 SKI CLUB BARR</li><li>Courriel : <!-- Cette adre
 sse électronique est protégée contre les robots spammeurs. --><span class="
 cloaked_email ep_5f9f4945"><span data-ep-b="" data-ep-a="&#119;ies&#46;"><s
 pan data-ep-a="&#99;hr&#105;s" data-ep-b="&#108;.c&#111;m"><span data-ep-a=
 "&#116;&#111;&#112;&#104;&#101;" data-ep-b="&#64;&#103;&#109;&#97;i"></span
 ></span></span></span><script>RegularLabs.EmailProtector.unCloak("ep_5f9f49
 45");</script></li></ul><div class="gski-evenement-infos-2"><div class="gsk
 i-evenement-info-inscriptions"><div class="gski-evenement-inscriptions-peri
 odes">Période d'inscription à l'evènement du dimanche 22 janvier 2017 à 01:
 00 au samedi 28 janvier 2017 à 13:00 <span class="gski-evenement-inscriptio
 ns-impossibles">(Inscriptions impossibles).</span><div class="gski-evenemen
 t-inscriptions-types-titres">Le type de titres Fédéraux autorisé n'est pas 
 défini. Veuillez contacter l'organisateur et lui signaler le problème.</div
 ></div></div><div class="gski-evenement-epreuves"><div class="gski-evenemen
 t-epreuves-titres">Epreuves :</div><ul class="gski-evenement-epreuves-list"
 ><li><div class="gski-epreuve-date">Le dimanche 29 janvier 2017</div><ul cl
 ass="gski-epreuve-liste-infos"><li>Codex épreuve AMVM0371</li><li>Slalom Ge
 ant</li></ul></li><li><div class="gski-epreuve-date">Le dimanche 29 janvier
  2017</div><ul class="gski-epreuve-liste-infos"><li>Codex épreuve AMVF0371<
 /li><li>Slalom Geant</li></ul></li><li><div class="gski-epreuve-date">Le di
 manche 29 janvier 2017</div><ul class="gski-epreuve-liste-infos"><li>Codex 
 épreuve AMVF0372</li><li>Slalom Geant</li></ul></li><li><div class="gski-ep
 reuve-date">Le dimanche 29 janvier 2017</div><ul class="gski-epreuve-liste-
 infos"><li>Codex épreuve AMVF0373</li><li>Slalom Geant</li></ul></li></ul><
 /div><div class="gskiepreuves-links"><ul><li><a href="https://skivosges.net
 /index.php?option=com_jevents&task=icalevent.detail&evid=695&Itemid=6283">V
 oir les informations dans l'agenda...</a></li><li><a href="https://skivosge
 s.net/index.php?option=com_gskiepreuves&view=afficheresultats&format_option
 =tous&filter[search]=AMVT0370&filter[date_debut]=29-01-2017&filter[date_fin
 ]=29-01-2017&code_activite=ALP&Itemid=6283">Vers les résultats...</a></li><
 /ul></div></div"><!-- #/gskiepreuve fin du dode généré par le plugin jevent
 s pour GskiEpreuves. . Ne pas modifier cette ligne, ni tout le contenu préc
 edant.  #/gskiepreuve --> <a href="https://skivosges.net/agenda/export-sync
 hronisation/detailevenement/700/-/promo-u8-a-u16-les-dimanches-de-la-glisse
 -fete-de-la-neige?tmpl=component">Cet évènement a été importé depuis :https
 ://skivosges.net/agenda/export-synchronisation/detailevenement/700/-/promo-
 u8-a-u16-les-dimanches-de-la-glisse-fete-de-la-neige?tmpl=component</a>DTSTAMP:20260420T183652
DTSTART;TZID=Europe/Paris;VALUE=DATE:20170129
DTEND;TZID=Europe/Paris;VALUE=DATE:20170130
SEQUENCE:0
TRANSP:OPAQUE
END:VEVENT
END:VCALENDAR