BEGIN:VCALENDAR
VERSION:2.0
PRODID:-//jEvents 2.0 for Joomla//EN
CALSCALE:GREGORIAN
METHOD:PUBLISH
BEGIN:VTIMEZONE
TZID:Europe/Paris
BEGIN:STANDARD
DTSTART:20160129T000000
RDATE:20160327T030000
TZOFFSETFROM:+0200
TZOFFSETTO:+0100
TZNAME:Europe/Paris CET
END:STANDARD
BEGIN:STANDARD
DTSTART:20161030T020000
RDATE:20170326T030000
TZOFFSETFROM:+0200
TZOFFSETTO:+0100
TZNAME:Europe/Paris CET
END:STANDARD
BEGIN:STANDARD
DTSTART:20171029T020000
RDATE:20180325T030000
TZOFFSETFROM:+0200
TZOFFSETTO:+0100
TZNAME:Europe/Paris CET
END:STANDARD
BEGIN:STANDARD
DTSTART:20181028T020000
RDATE:20190331T030000
TZOFFSETFROM:+0200
TZOFFSETTO:+0100
TZNAME:Europe/Paris CET
END:STANDARD
BEGIN:STANDARD
DTSTART:20191027T020000
RDATE:20200329T030000
TZOFFSETFROM:+0200
TZOFFSETTO:+0100
TZNAME:Europe/Paris CET
END:STANDARD
BEGIN:STANDARD
DTSTART:20201025T020000
RDATE:20210328T030000
TZOFFSETFROM:+0200
TZOFFSETTO:+0100
TZNAME:Europe/Paris CET
END:STANDARD
BEGIN:STANDARD
DTSTART:20211031T020000
RDATE:20220327T030000
TZOFFSETFROM:+0200
TZOFFSETTO:+0100
TZNAME:Europe/Paris CET
END:STANDARD
BEGIN:STANDARD
DTSTART:20221030T020000
RDATE:20230326T030000
TZOFFSETFROM:+0200
TZOFFSETTO:+0100
TZNAME:Europe/Paris CET
END:STANDARD
BEGIN:STANDARD
DTSTART:20231029T020000
RDATE:20240331T030000
TZOFFSETFROM:+0200
TZOFFSETTO:+0100
TZNAME:Europe/Paris CET
END:STANDARD
BEGIN:STANDARD
DTSTART:20241027T020000
RDATE:20250330T030000
TZOFFSETFROM:+0200
TZOFFSETTO:+0100
TZNAME:Europe/Paris CET
END:STANDARD
BEGIN:STANDARD
DTSTART:20251026T020000
RDATE:20260329T030000
TZOFFSETFROM:+0200
TZOFFSETTO:+0100
TZNAME:Europe/Paris CET
END:STANDARD
BEGIN:STANDARD
DTSTART:20261025T020000
RDATE:20270328T030000
TZOFFSETFROM:+0200
TZOFFSETTO:+0100
TZNAME:Europe/Paris CET
END:STANDARD
BEGIN:DAYLIGHT
DTSTART:20160327T030000
RDATE:20161030T020000
TZOFFSETFROM:+0100
TZOFFSETTO:+0200
TZNAME:Europe/Paris CEST
END:DAYLIGHT
BEGIN:DAYLIGHT
DTSTART:20170326T030000
RDATE:20171029T020000
TZOFFSETFROM:+0100
TZOFFSETTO:+0200
TZNAME:Europe/Paris CEST
END:DAYLIGHT
BEGIN:DAYLIGHT
DTSTART:20180325T030000
RDATE:20181028T020000
TZOFFSETFROM:+0100
TZOFFSETTO:+0200
TZNAME:Europe/Paris CEST
END:DAYLIGHT
BEGIN:DAYLIGHT
DTSTART:20190331T030000
RDATE:20191027T020000
TZOFFSETFROM:+0100
TZOFFSETTO:+0200
TZNAME:Europe/Paris CEST
END:DAYLIGHT
BEGIN:DAYLIGHT
DTSTART:20200329T030000
RDATE:20201025T020000
TZOFFSETFROM:+0100
TZOFFSETTO:+0200
TZNAME:Europe/Paris CEST
END:DAYLIGHT
BEGIN:DAYLIGHT
DTSTART:20210328T030000
RDATE:20211031T020000
TZOFFSETFROM:+0100
TZOFFSETTO:+0200
TZNAME:Europe/Paris CEST
END:DAYLIGHT
BEGIN:DAYLIGHT
DTSTART:20220327T030000
RDATE:20221030T020000
TZOFFSETFROM:+0100
TZOFFSETTO:+0200
TZNAME:Europe/Paris CEST
END:DAYLIGHT
BEGIN:DAYLIGHT
DTSTART:20230326T030000
RDATE:20231029T020000
TZOFFSETFROM:+0100
TZOFFSETTO:+0200
TZNAME:Europe/Paris CEST
END:DAYLIGHT
BEGIN:DAYLIGHT
DTSTART:20240331T030000
RDATE:20241027T020000
TZOFFSETFROM:+0100
TZOFFSETTO:+0200
TZNAME:Europe/Paris CEST
END:DAYLIGHT
BEGIN:DAYLIGHT
DTSTART:20250330T030000
RDATE:20251026T020000
TZOFFSETFROM:+0100
TZOFFSETTO:+0200
TZNAME:Europe/Paris CEST
END:DAYLIGHT
BEGIN:DAYLIGHT
DTSTART:20260329T030000
RDATE:20261025T020000
TZOFFSETFROM:+0100
TZOFFSETTO:+0200
TZNAME:Europe/Paris CEST
END:DAYLIGHT
END:VTIMEZONE
BEGIN:VEVENT
UID:33b329a0fb283beae510e1c5d293fc8a
CATEGORIES:Compétition Ski de Fond
CREATED:20161202T134851
SUMMARY:LA NORDIQUE DES CRETES MARATHON SKI TOUR 4 CHPTS DE FRANCE ESPRIT RACING
URL;VALUE=URI:https://skivosges.net/agenda/export-synchronisation/detailevenement/702/-/l
 a-nordique-des-cretes-marathon-ski-tour-4-chpts-de-france-esprit-racing?tmp
 l=component
DESCRIPTION:LA NORDIQUE DES CRETES MARATHON SKI TOUR 4 CHPTS DE FRANCE ESPRIT RACING\n 
 - Codex évenement FNAT0210\n - Lieu : MARKSTEIN\n - Station : MARKSTEIN\n -
  Organisateur : 14044 TOURING CLUB MULHOUSE\n - Courriel : RegularLabs.Emai
 lProtector.unCloak("ep_0a4f8832");\n - Téléphone : 03 89 59 55 56Période d'
 inscription à l'evènement du dimanche 22 janvier 2017 à 01:00 au vendredi 2
 7 janvier 2017 à 13:00 (Inscriptions impossibles).Le type de titres Fédérau
 x autorisé n'est pas défini. Veuillez contacter l'organisateur et lui signa
 ler le problème.Epreuves :\n - Le dimanche 29 janvier 2017\n - Codex épreuv
 e FNAF0211\n - Mass Start (Depart ligne)\n - Le dimanche 29 janvier 2017\n 
 - Codex épreuve FNAM0211\n - Mass Start (Depart ligne)\n - Le dimanche 29 j
 anvier 2017\n - Codex épreuve FNAM0212\n - Mass Start (Depart ligne)\n - Le
  dimanche 29 janvier 2017\n - Codex épreuve FNAF0212\n - Mass Start (Depart
  ligne)\n - Le dimanche 29 janvier 2017\n - Codex épreuve FNAF0213\n - Fond
  Populaire (depart en ligne)\n - Le dimanche 29 janvier 2017\n - Codex épre
 uve FNAM0213\n - Fond Populaire (depart en ligne)\n - Le dimanche 29 janvie
 r 2017\n - Codex épreuve FNAM0214\n - Fond Populaire (depart en ligne)\n - 
 Le dimanche 29 janvier 2017\n - Codex épreuve FNAF0214\n - Fond Populaire (
 depart en ligne)\n - Voir les informations dans l'agenda... (/index.php?opt
 ion=com_jevents&amp;task=icalevent.detail&amp;evid=697&amp;Itemid=6283)\n -
  Vers les résultats... (/index.php?option=com_gskiepreuves&amp;view=affiche
 resultats&amp;format_option=tous&amp;filter[search]=FNAT0210&amp;filter[dat
 e_debut]=29-01-2017&amp;filter[date_fin]=29-01-2017&amp;code_activite=FOND&
 amp;Itemid=6283) Cet évènement a été importé depuis :https://skivosges.net/
 agenda/export-synchronisation/detailevenement/702/-/la-nordique-des-cretes-
 marathon-ski-tour-4-chpts-de-france-esprit-racing?tmpl=component (https://s
 kivosges.net/agenda/export-synchronisation/detailevenement/702/-/la-nordiqu
 e-des-cretes-marathon-ski-tour-4-chpts-de-france-esprit-racing?tmpl=compone
 nt)
X-ALT-DESC;FMTTYPE=text/html:<!-- #gskiepreuve code généré par le plugin jevents pour GskiEpreuves. Ne p
 as modifier cette ligne, ni tout le contenu suivant  #gskiepreuve --><div c
 lass="gski-evenement_infos"><div class="gski-evenement-nom">LA NORDIQUE DES
  CRETES MARATHON SKI TOUR 4 CHPTS DE FRANCE ESPRIT RACING</div><div class="
 gski-evenement-report"></div><ul class="gski-evenement-liste-infos"><li>Cod
 ex évenement FNAT0210</li><li>Lieu : MARKSTEIN</li><li>Station : MARKSTEIN<
 /li><li>Organisateur : 14044 TOURING CLUB MULHOUSE</li><li>Courriel : <!-- 
 Cette adresse électronique est protégée contre les robots spammeurs. --><sp
 an class="cloaked_email ep_0a4f8832"><span data-ep-b="t" data-ep-a="y&#118;
 e&#115;"><span data-ep-a=".&#98;&#111;&#117;" data-ep-b="&#114;.&#110;e"><s
 pan data-ep-a="&#118;&#105;&#101;&#114;" data-ep-b="&#64;e&#118;&#104;"></s
 pan></span></span></span><script>RegularLabs.EmailProtector.unCloak("ep_0a4
 f8832");</script></li><li>Téléphone : 03 89 59 55 56</li></ul><div class="g
 ski-evenement-infos-2"><div class="gski-evenement-info-inscriptions"><div c
 lass="gski-evenement-inscriptions-periodes">Période d'inscription à l'evène
 ment du dimanche 22 janvier 2017 à 01:00 au vendredi 27 janvier 2017 à 13:0
 0 <span class="gski-evenement-inscriptions-impossibles">(Inscriptions impos
 sibles).</span><div class="gski-evenement-inscriptions-types-titres">Le typ
 e de titres Fédéraux autorisé n'est pas défini. Veuillez contacter l'organi
 sateur et lui signaler le problème.</div></div></div><div class="gski-evene
 ment-epreuves"><div class="gski-evenement-epreuves-titres">Epreuves :</div>
 <ul class="gski-evenement-epreuves-list"><li><div class="gski-epreuve-date"
 >Le dimanche 29 janvier 2017</div><ul class="gski-epreuve-liste-infos"><li>
 Codex épreuve FNAF0211</li><li>Mass Start (Depart ligne)</li></ul></li><li>
 <div class="gski-epreuve-date">Le dimanche 29 janvier 2017</div><ul class="
 gski-epreuve-liste-infos"><li>Codex épreuve FNAM0211</li><li>Mass Start (De
 part ligne)</li></ul></li><li><div class="gski-epreuve-date">Le dimanche 29
  janvier 2017</div><ul class="gski-epreuve-liste-infos"><li>Codex épreuve F
 NAM0212</li><li>Mass Start (Depart ligne)</li></ul></li><li><div class="gsk
 i-epreuve-date">Le dimanche 29 janvier 2017</div><ul class="gski-epreuve-li
 ste-infos"><li>Codex épreuve FNAF0212</li><li>Mass Start (Depart ligne)</li
 ></ul></li><li><div class="gski-epreuve-date">Le dimanche 29 janvier 2017</
 div><ul class="gski-epreuve-liste-infos"><li>Codex épreuve FNAF0213</li><li
 >Fond Populaire (depart en ligne)</li></ul></li><li><div class="gski-epreuv
 e-date">Le dimanche 29 janvier 2017</div><ul class="gski-epreuve-liste-info
 s"><li>Codex épreuve FNAM0213</li><li>Fond Populaire (depart en ligne)</li>
 </ul></li><li><div class="gski-epreuve-date">Le dimanche 29 janvier 2017</d
 iv><ul class="gski-epreuve-liste-infos"><li>Codex épreuve FNAM0214</li><li>
 Fond Populaire (depart en ligne)</li></ul></li><li><div class="gski-epreuve
 -date">Le dimanche 29 janvier 2017</div><ul class="gski-epreuve-liste-infos
 "><li>Codex épreuve FNAF0214</li><li>Fond Populaire (depart en ligne)</li><
 /ul></li></ul></div><div class="gskiepreuves-links"><ul><li><a href="https:
 //skivosges.net/index.php?option=com_jevents&task=icalevent.detail&evid=697
 &Itemid=6283">Voir les informations dans l'agenda...</a></li><li><a href="h
 ttps://skivosges.net/index.php?option=com_gskiepreuves&view=afficheresultat
 s&format_option=tous&filter[search]=FNAT0210&filter[date_debut]=29-01-2017&
 filter[date_fin]=29-01-2017&code_activite=FOND&Itemid=6283">Vers les résult
 ats...</a></li></ul></div></div"><!-- #/gskiepreuve fin du dode généré par 
 le plugin jevents pour GskiEpreuves. . Ne pas modifier cette ligne, ni tout
  le contenu précedant.  #/gskiepreuve --> <a href="https://skivosges.net/ag
 enda/export-synchronisation/detailevenement/702/-/la-nordique-des-cretes-ma
 rathon-ski-tour-4-chpts-de-france-esprit-racing?tmpl=component">Cet évèneme
 nt a été importé depuis :https://skivosges.net/agenda/export-synchronisatio
 n/detailevenement/702/-/la-nordique-des-cretes-marathon-ski-tour-4-chpts-de
 -france-esprit-racing?tmpl=component</a>DTSTAMP:20260420T183705
DTSTART;TZID=Europe/Paris;VALUE=DATE:20170129
DTEND;TZID=Europe/Paris;VALUE=DATE:20170130
SEQUENCE:0
TRANSP:OPAQUE
END:VEVENT
END:VCALENDAR