BEGIN:VCALENDAR
VERSION:2.0
PRODID:-//jEvents 2.0 for Joomla//EN
CALSCALE:GREGORIAN
METHOD:PUBLISH
BEGIN:VTIMEZONE
TZID:Europe/Paris
BEGIN:STANDARD
DTSTART:20130104T080000
RDATE:20130331T030000
TZOFFSETFROM:+0200
TZOFFSETTO:+0100
TZNAME:Europe/Paris CET
END:STANDARD
BEGIN:STANDARD
DTSTART:20131027T020000
RDATE:20140330T030000
TZOFFSETFROM:+0200
TZOFFSETTO:+0100
TZNAME:Europe/Paris CET
END:STANDARD
BEGIN:STANDARD
DTSTART:20141026T020000
RDATE:20150329T030000
TZOFFSETFROM:+0200
TZOFFSETTO:+0100
TZNAME:Europe/Paris CET
END:STANDARD
BEGIN:STANDARD
DTSTART:20151025T020000
RDATE:20160327T030000
TZOFFSETFROM:+0200
TZOFFSETTO:+0100
TZNAME:Europe/Paris CET
END:STANDARD
BEGIN:STANDARD
DTSTART:20161030T020000
RDATE:20170326T030000
TZOFFSETFROM:+0200
TZOFFSETTO:+0100
TZNAME:Europe/Paris CET
END:STANDARD
BEGIN:STANDARD
DTSTART:20171029T020000
RDATE:20180325T030000
TZOFFSETFROM:+0200
TZOFFSETTO:+0100
TZNAME:Europe/Paris CET
END:STANDARD
BEGIN:STANDARD
DTSTART:20181028T020000
RDATE:20190331T030000
TZOFFSETFROM:+0200
TZOFFSETTO:+0100
TZNAME:Europe/Paris CET
END:STANDARD
BEGIN:STANDARD
DTSTART:20191027T020000
RDATE:20200329T030000
TZOFFSETFROM:+0200
TZOFFSETTO:+0100
TZNAME:Europe/Paris CET
END:STANDARD
BEGIN:STANDARD
DTSTART:20201025T020000
RDATE:20210328T030000
TZOFFSETFROM:+0200
TZOFFSETTO:+0100
TZNAME:Europe/Paris CET
END:STANDARD
BEGIN:STANDARD
DTSTART:20211031T020000
RDATE:20220327T030000
TZOFFSETFROM:+0200
TZOFFSETTO:+0100
TZNAME:Europe/Paris CET
END:STANDARD
BEGIN:STANDARD
DTSTART:20221030T020000
RDATE:20230326T030000
TZOFFSETFROM:+0200
TZOFFSETTO:+0100
TZNAME:Europe/Paris CET
END:STANDARD
BEGIN:STANDARD
DTSTART:20231029T020000
RDATE:20240331T030000
TZOFFSETFROM:+0200
TZOFFSETTO:+0100
TZNAME:Europe/Paris CET
END:STANDARD
BEGIN:STANDARD
DTSTART:20241027T020000
RDATE:20250330T030000
TZOFFSETFROM:+0200
TZOFFSETTO:+0100
TZNAME:Europe/Paris CET
END:STANDARD
BEGIN:STANDARD
DTSTART:20251026T020000
RDATE:20260329T030000
TZOFFSETFROM:+0200
TZOFFSETTO:+0100
TZNAME:Europe/Paris CET
END:STANDARD
BEGIN:STANDARD
DTSTART:20261025T020000
RDATE:20270328T030000
TZOFFSETFROM:+0200
TZOFFSETTO:+0100
TZNAME:Europe/Paris CET
END:STANDARD
BEGIN:DAYLIGHT
DTSTART:20130331T030000
RDATE:20131027T020000
TZOFFSETFROM:+0100
TZOFFSETTO:+0200
TZNAME:Europe/Paris CEST
END:DAYLIGHT
BEGIN:DAYLIGHT
DTSTART:20140330T030000
RDATE:20141026T020000
TZOFFSETFROM:+0100
TZOFFSETTO:+0200
TZNAME:Europe/Paris CEST
END:DAYLIGHT
BEGIN:DAYLIGHT
DTSTART:20150329T030000
RDATE:20151025T020000
TZOFFSETFROM:+0100
TZOFFSETTO:+0200
TZNAME:Europe/Paris CEST
END:DAYLIGHT
BEGIN:DAYLIGHT
DTSTART:20160327T030000
RDATE:20161030T020000
TZOFFSETFROM:+0100
TZOFFSETTO:+0200
TZNAME:Europe/Paris CEST
END:DAYLIGHT
BEGIN:DAYLIGHT
DTSTART:20170326T030000
RDATE:20171029T020000
TZOFFSETFROM:+0100
TZOFFSETTO:+0200
TZNAME:Europe/Paris CEST
END:DAYLIGHT
BEGIN:DAYLIGHT
DTSTART:20180325T030000
RDATE:20181028T020000
TZOFFSETFROM:+0100
TZOFFSETTO:+0200
TZNAME:Europe/Paris CEST
END:DAYLIGHT
BEGIN:DAYLIGHT
DTSTART:20190331T030000
RDATE:20191027T020000
TZOFFSETFROM:+0100
TZOFFSETTO:+0200
TZNAME:Europe/Paris CEST
END:DAYLIGHT
BEGIN:DAYLIGHT
DTSTART:20200329T030000
RDATE:20201025T020000
TZOFFSETFROM:+0100
TZOFFSETTO:+0200
TZNAME:Europe/Paris CEST
END:DAYLIGHT
BEGIN:DAYLIGHT
DTSTART:20210328T030000
RDATE:20211031T020000
TZOFFSETFROM:+0100
TZOFFSETTO:+0200
TZNAME:Europe/Paris CEST
END:DAYLIGHT
BEGIN:DAYLIGHT
DTSTART:20220327T030000
RDATE:20221030T020000
TZOFFSETFROM:+0100
TZOFFSETTO:+0200
TZNAME:Europe/Paris CEST
END:DAYLIGHT
BEGIN:DAYLIGHT
DTSTART:20230326T030000
RDATE:20231029T020000
TZOFFSETFROM:+0100
TZOFFSETTO:+0200
TZNAME:Europe/Paris CEST
END:DAYLIGHT
BEGIN:DAYLIGHT
DTSTART:20240331T030000
RDATE:20241027T020000
TZOFFSETFROM:+0100
TZOFFSETTO:+0200
TZNAME:Europe/Paris CEST
END:DAYLIGHT
BEGIN:DAYLIGHT
DTSTART:20250330T030000
RDATE:20251026T020000
TZOFFSETFROM:+0100
TZOFFSETTO:+0200
TZNAME:Europe/Paris CEST
END:DAYLIGHT
BEGIN:DAYLIGHT
DTSTART:20260329T030000
RDATE:20261025T020000
TZOFFSETFROM:+0100
TZOFFSETTO:+0200
TZNAME:Europe/Paris CEST
END:DAYLIGHT
END:VTIMEZONE
BEGIN:VEVENT
UID:edf8d2442e5d3049a31af915a5a27432
CATEGORIES:Circuit Massif Adultes (alpin)
CREATED:20131203T122100
SUMMARY:GPA  Challenge Thérèse Leduc / Qualif Cp de la Fédération **REPORTE**
URL;VALUE=URI:https://skivosges.net/agenda/export-synchronisation/detailevenement/71/-/gp
 a-challenge-therese-leduc-qualif-cp-de-la-federation-reporte?tmpl=component
DESCRIPTION:GPA  Challenge Thérèse Leduc / Qualif Cp de la Fédération (Epreuve reportée
 , date à determiner) \n(Grand Prix Adultes)\n\nLieu : FRERE JOSEPH \nPiste 
 : LA CAPATTE\nOrganisateur : U.S VENTRON  (14083 U.S VENTRON)\nEmail : Regu
 larLabs.EmailProtector.unCloak("ep_07f8c36f");\nTelecopie : 03 29 24 08 26\
 nTelecopie : 0675026626\n\nCourse reportée\n\nInscriptions prévues sur le s
 ite (dès début de période d´inscription)\n - AMVF0131  Slalom (Coupe de la 
 Federation) U16-&gt;Mas (Min à Mast/Vet) Dames\n  GPA       Challenge Thérè
 se Leduc / Qualif Cp de la Fédération\n - AMVM0131  Slalom (Coupe de la Fed
 eration) U16-&gt;Mas (Min à Mast/Vet) Hommes\n  GPA       Challenge Thérèse
  Leduc / Qualif Cp de la Fédération Cet évènement a été importé depuis :htt
 ps://skivosges.net/agenda/export-synchronisation/detailevenement/71/-/gpa-c
 hallenge-therese-leduc-qualif-cp-de-la-federation-reporte?tmpl=component
X-ALT-DESC;FMTTYPE=text/html:<strong>GPA  Challenge Thérèse Leduc / Qualif Cp de la Fédération</strong> 
 <font class="attention4">(Epreuve reportée, date à determiner)</font> <br /
 ><i>(Grand Prix Adultes)</i><br /><br />Lieu : FRERE JOSEPH <br />Piste : L
 A CAPATTE<br />Organisateur : U.S VENTRON  <small>(14083 U.S VENTRON)</smal
 l><br />Email : <!-- Cette adresse électronique est protégée contre les rob
 ots spammeurs. --><span class="cloaked_email ep_07f8c36f"><span data-ep-a="
 &#117;s&#118;&#101;" data-ep-b=""><span data-ep-b="&#46;&#102;&#114;" data-
 ep-a="nt&#114;&#111;"><span data-ep-b="&#97;&#110;ge" data-ep-a="&#110;&#64
 ;&#111;r"></span></span></span></span><script>RegularLabs.EmailProtector.un
 Cloak("ep_07f8c36f");</script><br />Telecopie : 03 29 24 08 26<br />Telecop
 ie : 0675026626<br /><br />Course reportée<br /><br />Inscriptions prévues 
 sur le site <small>(dès début de période d´inscription)</small><ul type="di
 sc"><li>AMVF0131  Slalom <nobr><i>(Coupe de la Federation)</i></nobr> <nobr
 >U16->Mas (Min à Mast/Vet)</nobr> Dames<br />&nbsp;&nbsp;GPA       Challeng
 e Thérèse Leduc / Qualif Cp de la Fédération</li><li>AMVM0131  Slalom <nobr
 ><i>(Coupe de la Federation)</i></nobr> <nobr>U16->Mas (Min à Mast/Vet)</no
 br> Hommes<br />&nbsp;&nbsp;GPA       Challenge Thérèse Leduc / Qualif Cp d
 e la Fédération</li></ul> <a href="https://skivosges.net/agenda/export-sync
 hronisation/detailevenement/71/-/gpa-challenge-therese-leduc-qualif-cp-de-l
 a-federation-reporte?tmpl=component">Cet évènement a été importé depuis :ht
 tps://skivosges.net/agenda/export-synchronisation/detailevenement/71/-/gpa-
 challenge-therese-leduc-qualif-cp-de-la-federation-reporte?tmpl=component</
 a>DTSTAMP:20260423T141951
DTSTART;TZID=Europe/Paris:20140105T080000
DTEND;TZID=Europe/Paris:20140105T170000
SEQUENCE:0
TRANSP:OPAQUE
END:VEVENT
END:VCALENDAR