BEGIN:VCALENDAR
VERSION:2.0
PRODID:-//jEvents 2.0 for Joomla//EN
CALSCALE:GREGORIAN
METHOD:PUBLISH
BEGIN:VTIMEZONE
TZID:Europe/Paris
BEGIN:STANDARD
DTSTART:20160212T000000
RDATE:20160327T030000
TZOFFSETFROM:+0200
TZOFFSETTO:+0100
TZNAME:Europe/Paris CET
END:STANDARD
BEGIN:STANDARD
DTSTART:20161030T020000
RDATE:20170326T030000
TZOFFSETFROM:+0200
TZOFFSETTO:+0100
TZNAME:Europe/Paris CET
END:STANDARD
BEGIN:STANDARD
DTSTART:20171029T020000
RDATE:20180325T030000
TZOFFSETFROM:+0200
TZOFFSETTO:+0100
TZNAME:Europe/Paris CET
END:STANDARD
BEGIN:STANDARD
DTSTART:20181028T020000
RDATE:20190331T030000
TZOFFSETFROM:+0200
TZOFFSETTO:+0100
TZNAME:Europe/Paris CET
END:STANDARD
BEGIN:STANDARD
DTSTART:20191027T020000
RDATE:20200329T030000
TZOFFSETFROM:+0200
TZOFFSETTO:+0100
TZNAME:Europe/Paris CET
END:STANDARD
BEGIN:STANDARD
DTSTART:20201025T020000
RDATE:20210328T030000
TZOFFSETFROM:+0200
TZOFFSETTO:+0100
TZNAME:Europe/Paris CET
END:STANDARD
BEGIN:STANDARD
DTSTART:20211031T020000
RDATE:20220327T030000
TZOFFSETFROM:+0200
TZOFFSETTO:+0100
TZNAME:Europe/Paris CET
END:STANDARD
BEGIN:STANDARD
DTSTART:20221030T020000
RDATE:20230326T030000
TZOFFSETFROM:+0200
TZOFFSETTO:+0100
TZNAME:Europe/Paris CET
END:STANDARD
BEGIN:STANDARD
DTSTART:20231029T020000
RDATE:20240331T030000
TZOFFSETFROM:+0200
TZOFFSETTO:+0100
TZNAME:Europe/Paris CET
END:STANDARD
BEGIN:STANDARD
DTSTART:20241027T020000
RDATE:20250330T030000
TZOFFSETFROM:+0200
TZOFFSETTO:+0100
TZNAME:Europe/Paris CET
END:STANDARD
BEGIN:STANDARD
DTSTART:20251026T020000
RDATE:20260329T030000
TZOFFSETFROM:+0200
TZOFFSETTO:+0100
TZNAME:Europe/Paris CET
END:STANDARD
BEGIN:STANDARD
DTSTART:20261025T020000
RDATE:20270328T030000
TZOFFSETFROM:+0200
TZOFFSETTO:+0100
TZNAME:Europe/Paris CET
END:STANDARD
BEGIN:DAYLIGHT
DTSTART:20160327T030000
RDATE:20161030T020000
TZOFFSETFROM:+0100
TZOFFSETTO:+0200
TZNAME:Europe/Paris CEST
END:DAYLIGHT
BEGIN:DAYLIGHT
DTSTART:20170326T030000
RDATE:20171029T020000
TZOFFSETFROM:+0100
TZOFFSETTO:+0200
TZNAME:Europe/Paris CEST
END:DAYLIGHT
BEGIN:DAYLIGHT
DTSTART:20180325T030000
RDATE:20181028T020000
TZOFFSETFROM:+0100
TZOFFSETTO:+0200
TZNAME:Europe/Paris CEST
END:DAYLIGHT
BEGIN:DAYLIGHT
DTSTART:20190331T030000
RDATE:20191027T020000
TZOFFSETFROM:+0100
TZOFFSETTO:+0200
TZNAME:Europe/Paris CEST
END:DAYLIGHT
BEGIN:DAYLIGHT
DTSTART:20200329T030000
RDATE:20201025T020000
TZOFFSETFROM:+0100
TZOFFSETTO:+0200
TZNAME:Europe/Paris CEST
END:DAYLIGHT
BEGIN:DAYLIGHT
DTSTART:20210328T030000
RDATE:20211031T020000
TZOFFSETFROM:+0100
TZOFFSETTO:+0200
TZNAME:Europe/Paris CEST
END:DAYLIGHT
BEGIN:DAYLIGHT
DTSTART:20220327T030000
RDATE:20221030T020000
TZOFFSETFROM:+0100
TZOFFSETTO:+0200
TZNAME:Europe/Paris CEST
END:DAYLIGHT
BEGIN:DAYLIGHT
DTSTART:20230326T030000
RDATE:20231029T020000
TZOFFSETFROM:+0100
TZOFFSETTO:+0200
TZNAME:Europe/Paris CEST
END:DAYLIGHT
BEGIN:DAYLIGHT
DTSTART:20240331T030000
RDATE:20241027T020000
TZOFFSETFROM:+0100
TZOFFSETTO:+0200
TZNAME:Europe/Paris CEST
END:DAYLIGHT
BEGIN:DAYLIGHT
DTSTART:20250330T030000
RDATE:20251026T020000
TZOFFSETFROM:+0100
TZOFFSETTO:+0200
TZNAME:Europe/Paris CEST
END:DAYLIGHT
BEGIN:DAYLIGHT
DTSTART:20260329T030000
RDATE:20261025T020000
TZOFFSETFROM:+0100
TZOFFSETTO:+0200
TZNAME:Europe/Paris CEST
END:DAYLIGHT
END:VTIMEZONE
BEGIN:VEVENT
UID:3576c4328f583e432e08cfe46f4be26c
CATEGORIES:Circuit Alsace Adultes (alpin)
CREATED:20161202T134851
SUMMARY:CAA  U16 à Masters    Championnat d´Alsace Adultes  Prix du Stades de Slalom Serge Lang
URL;VALUE=URI:https://skivosges.net/agenda/export-synchronisation/detailevenement/719/-/c
 aa-u16-a-masters-championnat-dalsace-adultes-prix-du-stades-de-slalom-serge
 -lang?tmpl=component
DESCRIPTION:<!-- #gskiepreuve code généré par le plugin jevents pour GskiEpreuves. Ne p
 as modifier cette ligne, ni tout le contenu suivant  #gskiepreuve --><div c
 lass="gski-evenement_infos"><div class="gski-evenement-nom">CAA  U16 à Mast
 ers    Championnat d´Alsace Adultes  Prix du Stades de Slalom Serge Lang</d
 iv><div class="gski-evenement-report"></div><ul class="gski-evenement-liste
 -infos"><li>Codex évenement AMVT0450</li><li>Circuit : Coupe d'Alsace Adult
 es</li><li>Lieu : MARKSTEIN</li><li>Station : MARKSTEIN</li><li>Organisateu
 r : 14186 S.C VALLEE DE WESSERLING</li><li>Courriel : <!-- Cette adresse él
 ectronique est protégée contre les robots spammeurs. --><span class="cloake
 d_email ep_a9f46ec0"><span data-ep-b="m" data-ep-a="s&#99;&#118;&#119;"><sp
 an data-ep-b="&#108;&#46;&#99;&#111;" data-ep-a="&#101;&#115;s&#101;"><span
  data-ep-b="g&#64;a&#111;" data-ep-a="&#114;&#108;&#105;&#110;"></span></sp
 an></span></span><script>RegularLabs.EmailProtector.unCloak("ep_a9f46ec0");
 </script></li><li>Téléphone : 03 89 82 78 08</li><li>Télécopie : 03 89 82 7
 8 08</li></ul><div class="gski-evenement-infos-2"><div class="gski-evenemen
 t-info-inscriptions"><div class="gski-evenement-inscriptions-periodes">Péri
 ode d'inscription à l'evènement du mardi 07 février 2017 à 13:00 au vendred
 i 10 février 2017 à 22:00 <span class="gski-evenement-inscriptions-impossib
 les">(Inscriptions impossibles).</span><div class="gski-evenement-inscripti
 ons-types-titres">Le type de titres Fédéraux autorisé n'est pas défini. Veu
 illez contacter l'organisateur et lui signaler le problème.</div></div></di
 v><div class="gski-evenement-epreuves"><div class="gski-evenement-epreuves-
 titres">Epreuves :</div><ul class="gski-evenement-epreuves-list"><li><div c
 lass="gski-epreuve-date">Le dimanche 12 février 2017</div><ul class="gski-e
 preuve-liste-infos"><li>Codex épreuve AMVM0451</li><li>Slalom</li><li>Circu
 it : Coupe d'Alsace Adultes</li></ul></li><li><div class="gski-epreuve-date
 ">Le dimanche 12 février 2017</div><ul class="gski-epreuve-liste-infos"><li
 >Codex épreuve AMVF0451</li><li>Slalom</li><li>Circuit : Coupe d'Alsace Adu
 ltes</li></ul></li></ul></div><div class="gskiepreuves-links"><ul><li><a hr
 ef="/index.php?option=com_jevents&task=icalevent.detail&evid=714&Itemid=628
 3">Voir les informations dans l'agenda...</a></li><li><a href="/index.php?o
 ption=com_gskiepreuves&view=afficheresultats&format_option=tous&filter[sear
 ch]=AMVT0450&filter[date_debut]=12-02-2017&filter[date_fin]=12-02-2017&code
 _activite=ALP&Itemid=6283">Vers les résultats...</a></li></ul></div></div">
 <!-- #/gskiepreuve fin du dode généré par le plugin jevents pour GskiEpreuv
 es. . Ne pas modifier cette ligne, ni tout le contenu précedant.  #/gskiepr
 euve --> <a href="https://skivosges.net/agenda/export-synchronisation/detai
 levenement/719/-/caa-u16-a-masters-championnat-dalsace-adultes-prix-du-stad
 es-de-slalom-serge-lang?tmpl=component">Cet évènement a été importé depuis 
 :https://skivosges.net/agenda/export-synchronisation/detailevenement/719/-/
 caa-u16-a-masters-championnat-dalsace-adultes-prix-du-stades-de-slalom-serg
 e-lang?tmpl=component</a>
X-ALT-DESC;FMTTYPE=text/html:<!-- #gskiepreuve code généré par le plugin jevents pour GskiEpreuves. Ne p
 as modifier cette ligne, ni tout le contenu suivant  #gskiepreuve --><div c
 lass="gski-evenement_infos"><div class="gski-evenement-nom">CAA  U16 à Mast
 ers    Championnat d´Alsace Adultes  Prix du Stades de Slalom Serge Lang</d
 iv><div class="gski-evenement-report"></div><ul class="gski-evenement-liste
 -infos"><li>Codex évenement AMVT0450</li><li>Circuit : Coupe d'Alsace Adult
 es</li><li>Lieu : MARKSTEIN</li><li>Station : MARKSTEIN</li><li>Organisateu
 r : 14186 S.C VALLEE DE WESSERLING</li><li>Courriel : <!-- Cette adresse él
 ectronique est protégée contre les robots spammeurs. --><span class="cloake
 d_email ep_a9f46ec0"><span data-ep-b="m" data-ep-a="s&#99;&#118;&#119;"><sp
 an data-ep-b="&#108;&#46;&#99;&#111;" data-ep-a="&#101;&#115;s&#101;"><span
  data-ep-b="g&#64;a&#111;" data-ep-a="&#114;&#108;&#105;&#110;"></span></sp
 an></span></span><script>RegularLabs.EmailProtector.unCloak("ep_a9f46ec0");
 </script></li><li>Téléphone : 03 89 82 78 08</li><li>Télécopie : 03 89 82 7
 8 08</li></ul><div class="gski-evenement-infos-2"><div class="gski-evenemen
 t-info-inscriptions"><div class="gski-evenement-inscriptions-periodes">Péri
 ode d'inscription à l'evènement du mardi 07 février 2017 à 13:00 au vendred
 i 10 février 2017 à 22:00 <span class="gski-evenement-inscriptions-impossib
 les">(Inscriptions impossibles).</span><div class="gski-evenement-inscripti
 ons-types-titres">Le type de titres Fédéraux autorisé n'est pas défini. Veu
 illez contacter l'organisateur et lui signaler le problème.</div></div></di
 v><div class="gski-evenement-epreuves"><div class="gski-evenement-epreuves-
 titres">Epreuves :</div><ul class="gski-evenement-epreuves-list"><li><div c
 lass="gski-epreuve-date">Le dimanche 12 février 2017</div><ul class="gski-e
 preuve-liste-infos"><li>Codex épreuve AMVM0451</li><li>Slalom</li><li>Circu
 it : Coupe d'Alsace Adultes</li></ul></li><li><div class="gski-epreuve-date
 ">Le dimanche 12 février 2017</div><ul class="gski-epreuve-liste-infos"><li
 >Codex épreuve AMVF0451</li><li>Slalom</li><li>Circuit : Coupe d'Alsace Adu
 ltes</li></ul></li></ul></div><div class="gskiepreuves-links"><ul><li><a hr
 ef="https://skivosges.net/index.php?option=com_jevents&task=icalevent.detai
 l&evid=714&Itemid=6283">Voir les informations dans l'agenda...</a></li><li>
 <a href="https://skivosges.net/index.php?option=com_gskiepreuves&view=affic
 heresultats&format_option=tous&filter[search]=AMVT0450&filter[date_debut]=1
 2-02-2017&filter[date_fin]=12-02-2017&code_activite=ALP&Itemid=6283">Vers l
 es résultats...</a></li></ul></div></div"><!-- #/gskiepreuve fin du dode gé
 néré par le plugin jevents pour GskiEpreuves. . Ne pas modifier cette ligne
 , ni tout le contenu précedant.  #/gskiepreuve --> <a href="https://skivosg
 es.net/agenda/export-synchronisation/detailevenement/719/-/caa-u16-a-master
 s-championnat-dalsace-adultes-prix-du-stades-de-slalom-serge-lang?tmpl=comp
 onent">Cet évènement a été importé depuis :https://skivosges.net/agenda/exp
 ort-synchronisation/detailevenement/719/-/caa-u16-a-masters-championnat-dal
 sace-adultes-prix-du-stades-de-slalom-serge-lang?tmpl=component</a>DTSTAMP:20260420T221352
DTSTART;TZID=Europe/Paris;VALUE=DATE:20170212
DTEND;TZID=Europe/Paris;VALUE=DATE:20170213
SEQUENCE:0
TRANSP:OPAQUE
END:VEVENT
END:VCALENDAR