BEGIN:VCALENDAR
VERSION:2.0
PRODID:-//jEvents 2.0 for Joomla//EN
CALSCALE:GREGORIAN
METHOD:PUBLISH
BEGIN:VTIMEZONE
TZID:Europe/Paris
BEGIN:STANDARD
DTSTART:20160226T000000
RDATE:20160327T030000
TZOFFSETFROM:+0200
TZOFFSETTO:+0100
TZNAME:Europe/Paris CET
END:STANDARD
BEGIN:STANDARD
DTSTART:20161030T020000
RDATE:20170326T030000
TZOFFSETFROM:+0200
TZOFFSETTO:+0100
TZNAME:Europe/Paris CET
END:STANDARD
BEGIN:STANDARD
DTSTART:20171029T020000
RDATE:20180325T030000
TZOFFSETFROM:+0200
TZOFFSETTO:+0100
TZNAME:Europe/Paris CET
END:STANDARD
BEGIN:STANDARD
DTSTART:20181028T020000
RDATE:20190331T030000
TZOFFSETFROM:+0200
TZOFFSETTO:+0100
TZNAME:Europe/Paris CET
END:STANDARD
BEGIN:STANDARD
DTSTART:20191027T020000
RDATE:20200329T030000
TZOFFSETFROM:+0200
TZOFFSETTO:+0100
TZNAME:Europe/Paris CET
END:STANDARD
BEGIN:STANDARD
DTSTART:20201025T020000
RDATE:20210328T030000
TZOFFSETFROM:+0200
TZOFFSETTO:+0100
TZNAME:Europe/Paris CET
END:STANDARD
BEGIN:STANDARD
DTSTART:20211031T020000
RDATE:20220327T030000
TZOFFSETFROM:+0200
TZOFFSETTO:+0100
TZNAME:Europe/Paris CET
END:STANDARD
BEGIN:STANDARD
DTSTART:20221030T020000
RDATE:20230326T030000
TZOFFSETFROM:+0200
TZOFFSETTO:+0100
TZNAME:Europe/Paris CET
END:STANDARD
BEGIN:STANDARD
DTSTART:20231029T020000
RDATE:20240331T030000
TZOFFSETFROM:+0200
TZOFFSETTO:+0100
TZNAME:Europe/Paris CET
END:STANDARD
BEGIN:STANDARD
DTSTART:20241027T020000
RDATE:20250330T030000
TZOFFSETFROM:+0200
TZOFFSETTO:+0100
TZNAME:Europe/Paris CET
END:STANDARD
BEGIN:STANDARD
DTSTART:20251026T020000
RDATE:20260329T030000
TZOFFSETFROM:+0200
TZOFFSETTO:+0100
TZNAME:Europe/Paris CET
END:STANDARD
BEGIN:STANDARD
DTSTART:20261025T020000
RDATE:20270328T030000
TZOFFSETFROM:+0200
TZOFFSETTO:+0100
TZNAME:Europe/Paris CET
END:STANDARD
BEGIN:DAYLIGHT
DTSTART:20160327T030000
RDATE:20161030T020000
TZOFFSETFROM:+0100
TZOFFSETTO:+0200
TZNAME:Europe/Paris CEST
END:DAYLIGHT
BEGIN:DAYLIGHT
DTSTART:20170326T030000
RDATE:20171029T020000
TZOFFSETFROM:+0100
TZOFFSETTO:+0200
TZNAME:Europe/Paris CEST
END:DAYLIGHT
BEGIN:DAYLIGHT
DTSTART:20180325T030000
RDATE:20181028T020000
TZOFFSETFROM:+0100
TZOFFSETTO:+0200
TZNAME:Europe/Paris CEST
END:DAYLIGHT
BEGIN:DAYLIGHT
DTSTART:20190331T030000
RDATE:20191027T020000
TZOFFSETFROM:+0100
TZOFFSETTO:+0200
TZNAME:Europe/Paris CEST
END:DAYLIGHT
BEGIN:DAYLIGHT
DTSTART:20200329T030000
RDATE:20201025T020000
TZOFFSETFROM:+0100
TZOFFSETTO:+0200
TZNAME:Europe/Paris CEST
END:DAYLIGHT
BEGIN:DAYLIGHT
DTSTART:20210328T030000
RDATE:20211031T020000
TZOFFSETFROM:+0100
TZOFFSETTO:+0200
TZNAME:Europe/Paris CEST
END:DAYLIGHT
BEGIN:DAYLIGHT
DTSTART:20220327T030000
RDATE:20221030T020000
TZOFFSETFROM:+0100
TZOFFSETTO:+0200
TZNAME:Europe/Paris CEST
END:DAYLIGHT
BEGIN:DAYLIGHT
DTSTART:20230326T030000
RDATE:20231029T020000
TZOFFSETFROM:+0100
TZOFFSETTO:+0200
TZNAME:Europe/Paris CEST
END:DAYLIGHT
BEGIN:DAYLIGHT
DTSTART:20240331T030000
RDATE:20241027T020000
TZOFFSETFROM:+0100
TZOFFSETTO:+0200
TZNAME:Europe/Paris CEST
END:DAYLIGHT
BEGIN:DAYLIGHT
DTSTART:20250330T030000
RDATE:20251026T020000
TZOFFSETFROM:+0100
TZOFFSETTO:+0200
TZNAME:Europe/Paris CEST
END:DAYLIGHT
BEGIN:DAYLIGHT
DTSTART:20260329T030000
RDATE:20261025T020000
TZOFFSETFROM:+0100
TZOFFSETTO:+0200
TZNAME:Europe/Paris CEST
END:DAYLIGHT
END:VTIMEZONE
BEGIN:VEVENT
UID:13108f08e9052d3e115968c702d05ef0
CATEGORIES:Circuit Alsace Jeunes (alpin)
CREATED:20161202T134851
SUMMARY:CAJ Coupe de Bronze et micro Mémorial Olivier Kling **REPORTE**
URL;VALUE=URI:https://skivosges.net/agenda/export-synchronisation/detailevenement/731/-/c
 aj-coupe-de-bronze-et-micro-memorial-olivier-kling-reporte?tmpl=component
DESCRIPTION:<!-- #gskiepreuve code généré par le plugin jevents pour GskiEpreuves. Ne p
 as modifier cette ligne, ni tout le contenu suivant  #gskiepreuve --><div c
 lass="gski-evenement_infos"><div class="gski-evenement-nom">CAJ Coupe de Br
 onze et micro Mémorial Olivier Kling</div><div class="gski-evenement-report
 "> <font class="gskiattention">(Epreuve reportée, date à determiner)</font>
 </div><ul class="gski-evenement-liste-infos"><li>Codex évenement AMVT0520</
 li><li>Circuit : Coupe d'Alsace Jeunes</li><li>Lieu : LE TANET</li><li>Stat
 ion : LE TANET</li><li>Organisateur : 14140 LES AMIS DE LA NATURE MUNSTER</
 li><li>Courriel : <!-- Cette adresse électronique est protégée contre les r
 obots spammeurs. --><span class="cloaked_email ep_a0f39eef"><span data-ep-a
 ="mar&#99;" data-ep-b="&#114;"><span data-ep-b="&#101;&#101;&#46;f" data-ep
 -a="&#104;a&#110;d"><span data-ep-a="ca&#112;&#104;" data-ep-b="i&#64;&#102
 ;&#114;"></span></span></span></span><script>RegularLabs.EmailProtector.unC
 loak("ep_a0f39eef");</script></li><li>Téléphone : 0603812468</li></ul><div 
 class="gski-evenement-infos-2"><div class="gski-evenement-info-inscriptions
 "><div class="gski-evenement-inscriptions-periodes">Période d'inscription à
  l'evènement du dimanche 19 février 2017 à 01:00 au vendredi 24 février 201
 7 à 19:00 <span class="gski-evenement-inscriptions-impossibles">(Inscriptio
 ns impossibles).</span><div class="gski-evenement-inscriptions-types-titres
 ">Le type de titres Fédéraux autorisé n'est pas défini. Veuillez contacter 
 l'organisateur et lui signaler le problème.</div></div></div><div class="gs
 ki-evenement-epreuves"><div class="gski-evenement-epreuves-titres">Epreuves
  :</div><ul class="gski-evenement-epreuves-list"><li><div class="gski-epreu
 ve-date">Le dimanche 26 février 2017</div><ul class="gski-epreuve-liste-inf
 os"><li>Codex épreuve AMVM0521</li><li>Slalom Geant</li><li>Circuit : Coupe
  d'Alsace Jeunes</li></ul></li><li><div class="gski-epreuve-date">Le dimanc
 he 26 février 2017</div><ul class="gski-epreuve-liste-infos"><li>Codex épre
 uve AMVF0521</li><li>Slalom Geant</li><li>Circuit : Coupe d'Alsace Jeunes</
 li></ul></li><li><div class="gski-epreuve-date">Le dimanche 26 février 2017
 </div><ul class="gski-epreuve-liste-infos"><li>Codex épreuve AMVM0522</li><
 li>Slalom Geant</li><li>Circuit : Coupe d'Alsace Jeunes</li></ul></li><li><
 div class="gski-epreuve-date">Le dimanche 26 février 2017</div><ul class="g
 ski-epreuve-liste-infos"><li>Codex épreuve AMVF0522</li><li>Slalom Geant</l
 i><li>Circuit : Coupe d'Alsace Jeunes</li></ul></li><li><div class="gski-ep
 reuve-date">Le dimanche 26 février 2017</div><ul class="gski-epreuve-liste-
 infos"><li>Codex épreuve AMVM0523</li><li>Slalom Geant</li><li>Circuit : Co
 upe d'Alsace Jeunes</li></ul></li><li><div class="gski-epreuve-date">Le dim
 anche 26 février 2017</div><ul class="gski-epreuve-liste-infos"><li>Codex é
 preuve AMVF0523</li><li>Slalom Geant</li><li>Circuit : Coupe d'Alsace Jeune
 s</li></ul></li></ul></div><div class="gskiepreuves-links"><ul><li><a href=
 "/index.php?option=com_jevents&task=icalevent.detail&evid=726&Itemid=6283">
 Voir les informations dans l'agenda...</a></li></ul></div></div"><!-- #/gsk
 iepreuve fin du dode généré par le plugin jevents pour GskiEpreuves. . Ne p
 as modifier cette ligne, ni tout le contenu précedant.  #/gskiepreuve --> <
 a href="https://skivosges.net/agenda/export-synchronisation/detailevenement
 /731/-/caj-coupe-de-bronze-et-micro-memorial-olivier-kling-reporte?tmpl=com
 ponent">Cet évènement a été importé depuis :https://skivosges.net/agenda/ex
 port-synchronisation/detailevenement/731/-/caj-coupe-de-bronze-et-micro-mem
 orial-olivier-kling-reporte?tmpl=component</a>
X-ALT-DESC;FMTTYPE=text/html:<!-- #gskiepreuve code généré par le plugin jevents pour GskiEpreuves. Ne p
 as modifier cette ligne, ni tout le contenu suivant  #gskiepreuve --><div c
 lass="gski-evenement_infos"><div class="gski-evenement-nom">CAJ Coupe de Br
 onze et micro Mémorial Olivier Kling</div><div class="gski-evenement-report
 "> <font class="gskiattention">(Epreuve reportée, date à determiner)</font>
 </div><ul class="gski-evenement-liste-infos"><li>Codex évenement AMVT0520</
 li><li>Circuit : Coupe d'Alsace Jeunes</li><li>Lieu : LE TANET</li><li>Stat
 ion : LE TANET</li><li>Organisateur : 14140 LES AMIS DE LA NATURE MUNSTER</
 li><li>Courriel : <!-- Cette adresse électronique est protégée contre les r
 obots spammeurs. --><span class="cloaked_email ep_a0f39eef"><span data-ep-a
 ="mar&#99;" data-ep-b="&#114;"><span data-ep-b="&#101;&#101;&#46;f" data-ep
 -a="&#104;a&#110;d"><span data-ep-a="ca&#112;&#104;" data-ep-b="i&#64;&#102
 ;&#114;"></span></span></span></span><script>RegularLabs.EmailProtector.unC
 loak("ep_a0f39eef");</script></li><li>Téléphone : 0603812468</li></ul><div 
 class="gski-evenement-infos-2"><div class="gski-evenement-info-inscriptions
 "><div class="gski-evenement-inscriptions-periodes">Période d'inscription à
  l'evènement du dimanche 19 février 2017 à 01:00 au vendredi 24 février 201
 7 à 19:00 <span class="gski-evenement-inscriptions-impossibles">(Inscriptio
 ns impossibles).</span><div class="gski-evenement-inscriptions-types-titres
 ">Le type de titres Fédéraux autorisé n'est pas défini. Veuillez contacter 
 l'organisateur et lui signaler le problème.</div></div></div><div class="gs
 ki-evenement-epreuves"><div class="gski-evenement-epreuves-titres">Epreuves
  :</div><ul class="gski-evenement-epreuves-list"><li><div class="gski-epreu
 ve-date">Le dimanche 26 février 2017</div><ul class="gski-epreuve-liste-inf
 os"><li>Codex épreuve AMVM0521</li><li>Slalom Geant</li><li>Circuit : Coupe
  d'Alsace Jeunes</li></ul></li><li><div class="gski-epreuve-date">Le dimanc
 he 26 février 2017</div><ul class="gski-epreuve-liste-infos"><li>Codex épre
 uve AMVF0521</li><li>Slalom Geant</li><li>Circuit : Coupe d'Alsace Jeunes</
 li></ul></li><li><div class="gski-epreuve-date">Le dimanche 26 février 2017
 </div><ul class="gski-epreuve-liste-infos"><li>Codex épreuve AMVM0522</li><
 li>Slalom Geant</li><li>Circuit : Coupe d'Alsace Jeunes</li></ul></li><li><
 div class="gski-epreuve-date">Le dimanche 26 février 2017</div><ul class="g
 ski-epreuve-liste-infos"><li>Codex épreuve AMVF0522</li><li>Slalom Geant</l
 i><li>Circuit : Coupe d'Alsace Jeunes</li></ul></li><li><div class="gski-ep
 reuve-date">Le dimanche 26 février 2017</div><ul class="gski-epreuve-liste-
 infos"><li>Codex épreuve AMVM0523</li><li>Slalom Geant</li><li>Circuit : Co
 upe d'Alsace Jeunes</li></ul></li><li><div class="gski-epreuve-date">Le dim
 anche 26 février 2017</div><ul class="gski-epreuve-liste-infos"><li>Codex é
 preuve AMVF0523</li><li>Slalom Geant</li><li>Circuit : Coupe d'Alsace Jeune
 s</li></ul></li></ul></div><div class="gskiepreuves-links"><ul><li><a href=
 "https://skivosges.net/index.php?option=com_jevents&task=icalevent.detail&e
 vid=726&Itemid=6283">Voir les informations dans l'agenda...</a></li></ul></
 div></div"><!-- #/gskiepreuve fin du dode généré par le plugin jevents pour
  GskiEpreuves. . Ne pas modifier cette ligne, ni tout le contenu précedant.
   #/gskiepreuve --> <a href="https://skivosges.net/agenda/export-synchronis
 ation/detailevenement/731/-/caj-coupe-de-bronze-et-micro-memorial-olivier-k
 ling-reporte?tmpl=component">Cet évènement a été importé depuis :https://sk
 ivosges.net/agenda/export-synchronisation/detailevenement/731/-/caj-coupe-d
 e-bronze-et-micro-memorial-olivier-kling-reporte?tmpl=component</a>DTSTAMP:20260421T051159
DTSTART;TZID=Europe/Paris;VALUE=DATE:20170226
DTEND;TZID=Europe/Paris;VALUE=DATE:20170227
SEQUENCE:0
TRANSP:OPAQUE
END:VEVENT
END:VCALENDAR