BEGIN:VCALENDAR
VERSION:2.0
PRODID:-//jEvents 2.0 for Joomla//EN
CALSCALE:GREGORIAN
METHOD:PUBLISH
BEGIN:VTIMEZONE
TZID:Europe/Paris
BEGIN:STANDARD
DTSTART:20160303T000000
RDATE:20160327T030000
TZOFFSETFROM:+0200
TZOFFSETTO:+0100
TZNAME:Europe/Paris CET
END:STANDARD
BEGIN:STANDARD
DTSTART:20161030T020000
RDATE:20170326T030000
TZOFFSETFROM:+0200
TZOFFSETTO:+0100
TZNAME:Europe/Paris CET
END:STANDARD
BEGIN:STANDARD
DTSTART:20171029T020000
RDATE:20180325T030000
TZOFFSETFROM:+0200
TZOFFSETTO:+0100
TZNAME:Europe/Paris CET
END:STANDARD
BEGIN:STANDARD
DTSTART:20181028T020000
RDATE:20190331T030000
TZOFFSETFROM:+0200
TZOFFSETTO:+0100
TZNAME:Europe/Paris CET
END:STANDARD
BEGIN:STANDARD
DTSTART:20191027T020000
RDATE:20200329T030000
TZOFFSETFROM:+0200
TZOFFSETTO:+0100
TZNAME:Europe/Paris CET
END:STANDARD
BEGIN:STANDARD
DTSTART:20201025T020000
RDATE:20210328T030000
TZOFFSETFROM:+0200
TZOFFSETTO:+0100
TZNAME:Europe/Paris CET
END:STANDARD
BEGIN:STANDARD
DTSTART:20211031T020000
RDATE:20220327T030000
TZOFFSETFROM:+0200
TZOFFSETTO:+0100
TZNAME:Europe/Paris CET
END:STANDARD
BEGIN:STANDARD
DTSTART:20221030T020000
RDATE:20230326T030000
TZOFFSETFROM:+0200
TZOFFSETTO:+0100
TZNAME:Europe/Paris CET
END:STANDARD
BEGIN:STANDARD
DTSTART:20231029T020000
RDATE:20240331T030000
TZOFFSETFROM:+0200
TZOFFSETTO:+0100
TZNAME:Europe/Paris CET
END:STANDARD
BEGIN:STANDARD
DTSTART:20241027T020000
RDATE:20250330T030000
TZOFFSETFROM:+0200
TZOFFSETTO:+0100
TZNAME:Europe/Paris CET
END:STANDARD
BEGIN:STANDARD
DTSTART:20251026T020000
RDATE:20260329T030000
TZOFFSETFROM:+0200
TZOFFSETTO:+0100
TZNAME:Europe/Paris CET
END:STANDARD
BEGIN:STANDARD
DTSTART:20261025T020000
RDATE:20270328T030000
TZOFFSETFROM:+0200
TZOFFSETTO:+0100
TZNAME:Europe/Paris CET
END:STANDARD
BEGIN:DAYLIGHT
DTSTART:20160327T030000
RDATE:20161030T020000
TZOFFSETFROM:+0100
TZOFFSETTO:+0200
TZNAME:Europe/Paris CEST
END:DAYLIGHT
BEGIN:DAYLIGHT
DTSTART:20170326T030000
RDATE:20171029T020000
TZOFFSETFROM:+0100
TZOFFSETTO:+0200
TZNAME:Europe/Paris CEST
END:DAYLIGHT
BEGIN:DAYLIGHT
DTSTART:20180325T030000
RDATE:20181028T020000
TZOFFSETFROM:+0100
TZOFFSETTO:+0200
TZNAME:Europe/Paris CEST
END:DAYLIGHT
BEGIN:DAYLIGHT
DTSTART:20190331T030000
RDATE:20191027T020000
TZOFFSETFROM:+0100
TZOFFSETTO:+0200
TZNAME:Europe/Paris CEST
END:DAYLIGHT
BEGIN:DAYLIGHT
DTSTART:20200329T030000
RDATE:20201025T020000
TZOFFSETFROM:+0100
TZOFFSETTO:+0200
TZNAME:Europe/Paris CEST
END:DAYLIGHT
BEGIN:DAYLIGHT
DTSTART:20210328T030000
RDATE:20211031T020000
TZOFFSETFROM:+0100
TZOFFSETTO:+0200
TZNAME:Europe/Paris CEST
END:DAYLIGHT
BEGIN:DAYLIGHT
DTSTART:20220327T030000
RDATE:20221030T020000
TZOFFSETFROM:+0100
TZOFFSETTO:+0200
TZNAME:Europe/Paris CEST
END:DAYLIGHT
BEGIN:DAYLIGHT
DTSTART:20230326T030000
RDATE:20231029T020000
TZOFFSETFROM:+0100
TZOFFSETTO:+0200
TZNAME:Europe/Paris CEST
END:DAYLIGHT
BEGIN:DAYLIGHT
DTSTART:20240331T030000
RDATE:20241027T020000
TZOFFSETFROM:+0100
TZOFFSETTO:+0200
TZNAME:Europe/Paris CEST
END:DAYLIGHT
BEGIN:DAYLIGHT
DTSTART:20250330T030000
RDATE:20251026T020000
TZOFFSETFROM:+0100
TZOFFSETTO:+0200
TZNAME:Europe/Paris CEST
END:DAYLIGHT
BEGIN:DAYLIGHT
DTSTART:20260329T030000
RDATE:20261025T020000
TZOFFSETFROM:+0100
TZOFFSETTO:+0200
TZNAME:Europe/Paris CEST
END:DAYLIGHT
END:VTIMEZONE
BEGIN:VEVENT
UID:b2435ff90d3a7fb46b1651d5b2af0afd
CATEGORIES:Compétition Biathlon
CREATED:20161202T134851
SUMMARY:Jeux du Biathlon
URL;VALUE=URI:https://skivosges.net/agenda/export-synchronisation/detailevenement/738/-/j
 eux-du-biathlon?tmpl=component
DESCRIPTION:<!-- #gskiepreuve code généré par le plugin jevents pour GskiEpreuves. Ne p
 as modifier cette ligne, ni tout le contenu suivant  #gskiepreuve --><div c
 lass="gski-evenement_infos"><div class="gski-evenement-nom">Jeux du Biathlo
 n</div><div class="gski-evenement-report"></div><ul class="gski-evenement-l
 iste-infos"><li>Codex évenement BMVT0040</li><li>Organisateur : </li></ul><
 div class="gski-evenement-infos-2"><div class="gski-evenement-info-inscript
 ions"><div class="gski-evenement-inscriptions-periodes">Période d'inscripti
 on à l'evènement du samedi 25 février 2017 à 01:00 au jeudi 02 mars 2017 à 
 13:00 <span class="gski-evenement-inscriptions-impossibles">(Inscriptions i
 mpossibles).</span><div class="gski-evenement-inscriptions-types-titres">Le
  type de titres Fédéraux autorisé n'est pas défini. Veuillez contacter l'or
 ganisateur et lui signaler le problème.</div></div></div><div class="gski-e
 venement-epreuves"><div class="gski-evenement-epreuves-titres">Epreuves :</
 div><ul class="gski-evenement-epreuves-list"><li><div class="gski-epreuve-d
 ate">Le samedi 04 mars 2017</div><ul class="gski-epreuve-liste-infos"><li>C
 odex épreuve BMVM0041</li><li>Individuel</li></ul></li><li><div class="gski
 -epreuve-date">Le samedi 04 mars 2017</div><ul class="gski-epreuve-liste-in
 fos"><li>Codex épreuve BMVF0041</li><li>Individuel</li></ul></li></ul></div
 ><div class="gskiepreuves-links"><ul><li><a href="/index.php?option=com_jev
 ents&task=icalevent.detail&evid=733&Itemid=6283">Voir les informations dans
  l'agenda...</a></li></ul></div></div"><!-- #/gskiepreuve fin du dode génér
 é par le plugin jevents pour GskiEpreuves. . Ne pas modifier cette ligne, n
 i tout le contenu précedant.  #/gskiepreuve --> <a href="https://skivosges.
 net/agenda/export-synchronisation/detailevenement/738/-/jeux-du-biathlon?tm
 pl=component">Cet évènement a été importé depuis :https://skivosges.net/age
 nda/export-synchronisation/detailevenement/738/-/jeux-du-biathlon?tmpl=comp
 onent</a>
X-ALT-DESC;FMTTYPE=text/html:<!-- #gskiepreuve code généré par le plugin jevents pour GskiEpreuves. Ne p
 as modifier cette ligne, ni tout le contenu suivant  #gskiepreuve --><div c
 lass="gski-evenement_infos"><div class="gski-evenement-nom">Jeux du Biathlo
 n</div><div class="gski-evenement-report"></div><ul class="gski-evenement-l
 iste-infos"><li>Codex évenement BMVT0040</li><li>Organisateur : </li></ul><
 div class="gski-evenement-infos-2"><div class="gski-evenement-info-inscript
 ions"><div class="gski-evenement-inscriptions-periodes">Période d'inscripti
 on à l'evènement du samedi 25 février 2017 à 01:00 au jeudi 02 mars 2017 à 
 13:00 <span class="gski-evenement-inscriptions-impossibles">(Inscriptions i
 mpossibles).</span><div class="gski-evenement-inscriptions-types-titres">Le
  type de titres Fédéraux autorisé n'est pas défini. Veuillez contacter l'or
 ganisateur et lui signaler le problème.</div></div></div><div class="gski-e
 venement-epreuves"><div class="gski-evenement-epreuves-titres">Epreuves :</
 div><ul class="gski-evenement-epreuves-list"><li><div class="gski-epreuve-d
 ate">Le samedi 04 mars 2017</div><ul class="gski-epreuve-liste-infos"><li>C
 odex épreuve BMVM0041</li><li>Individuel</li></ul></li><li><div class="gski
 -epreuve-date">Le samedi 04 mars 2017</div><ul class="gski-epreuve-liste-in
 fos"><li>Codex épreuve BMVF0041</li><li>Individuel</li></ul></li></ul></div
 ><div class="gskiepreuves-links"><ul><li><a href="https://skivosges.net/ind
 ex.php?option=com_jevents&task=icalevent.detail&evid=733&Itemid=6283">Voir 
 les informations dans l'agenda...</a></li></ul></div></div"><!-- #/gskiepre
 uve fin du dode généré par le plugin jevents pour GskiEpreuves. . Ne pas mo
 difier cette ligne, ni tout le contenu précedant.  #/gskiepreuve --> <a hre
 f="https://skivosges.net/agenda/export-synchronisation/detailevenement/738/
 -/jeux-du-biathlon?tmpl=component">Cet évènement a été importé depuis :http
 s://skivosges.net/agenda/export-synchronisation/detailevenement/738/-/jeux-
 du-biathlon?tmpl=component</a>DTSTAMP:20260420T221357
DTSTART;TZID=Europe/Paris;VALUE=DATE:20170304
DTEND;TZID=Europe/Paris;VALUE=DATE:20170305
SEQUENCE:0
TRANSP:OPAQUE
END:VEVENT
END:VCALENDAR