BEGIN:VCALENDAR
VERSION:2.0
PRODID:-//jEvents 2.0 for Joomla//EN
CALSCALE:GREGORIAN
METHOD:PUBLISH
BEGIN:VTIMEZONE
TZID:Europe/Paris
BEGIN:STANDARD
DTSTART:20130104T080000
RDATE:20130331T030000
TZOFFSETFROM:+0200
TZOFFSETTO:+0100
TZNAME:Europe/Paris CET
END:STANDARD
BEGIN:STANDARD
DTSTART:20131027T020000
RDATE:20140330T030000
TZOFFSETFROM:+0200
TZOFFSETTO:+0100
TZNAME:Europe/Paris CET
END:STANDARD
BEGIN:STANDARD
DTSTART:20141026T020000
RDATE:20150329T030000
TZOFFSETFROM:+0200
TZOFFSETTO:+0100
TZNAME:Europe/Paris CET
END:STANDARD
BEGIN:STANDARD
DTSTART:20151025T020000
RDATE:20160327T030000
TZOFFSETFROM:+0200
TZOFFSETTO:+0100
TZNAME:Europe/Paris CET
END:STANDARD
BEGIN:STANDARD
DTSTART:20161030T020000
RDATE:20170326T030000
TZOFFSETFROM:+0200
TZOFFSETTO:+0100
TZNAME:Europe/Paris CET
END:STANDARD
BEGIN:STANDARD
DTSTART:20171029T020000
RDATE:20180325T030000
TZOFFSETFROM:+0200
TZOFFSETTO:+0100
TZNAME:Europe/Paris CET
END:STANDARD
BEGIN:STANDARD
DTSTART:20181028T020000
RDATE:20190331T030000
TZOFFSETFROM:+0200
TZOFFSETTO:+0100
TZNAME:Europe/Paris CET
END:STANDARD
BEGIN:STANDARD
DTSTART:20191027T020000
RDATE:20200329T030000
TZOFFSETFROM:+0200
TZOFFSETTO:+0100
TZNAME:Europe/Paris CET
END:STANDARD
BEGIN:STANDARD
DTSTART:20201025T020000
RDATE:20210328T030000
TZOFFSETFROM:+0200
TZOFFSETTO:+0100
TZNAME:Europe/Paris CET
END:STANDARD
BEGIN:STANDARD
DTSTART:20211031T020000
RDATE:20220327T030000
TZOFFSETFROM:+0200
TZOFFSETTO:+0100
TZNAME:Europe/Paris CET
END:STANDARD
BEGIN:STANDARD
DTSTART:20221030T020000
RDATE:20230326T030000
TZOFFSETFROM:+0200
TZOFFSETTO:+0100
TZNAME:Europe/Paris CET
END:STANDARD
BEGIN:STANDARD
DTSTART:20231029T020000
RDATE:20240331T030000
TZOFFSETFROM:+0200
TZOFFSETTO:+0100
TZNAME:Europe/Paris CET
END:STANDARD
BEGIN:STANDARD
DTSTART:20241027T020000
RDATE:20250330T030000
TZOFFSETFROM:+0200
TZOFFSETTO:+0100
TZNAME:Europe/Paris CET
END:STANDARD
BEGIN:STANDARD
DTSTART:20251026T020000
RDATE:20260329T030000
TZOFFSETFROM:+0200
TZOFFSETTO:+0100
TZNAME:Europe/Paris CET
END:STANDARD
BEGIN:STANDARD
DTSTART:20261025T020000
RDATE:20270328T030000
TZOFFSETFROM:+0200
TZOFFSETTO:+0100
TZNAME:Europe/Paris CET
END:STANDARD
BEGIN:DAYLIGHT
DTSTART:20130331T030000
RDATE:20131027T020000
TZOFFSETFROM:+0100
TZOFFSETTO:+0200
TZNAME:Europe/Paris CEST
END:DAYLIGHT
BEGIN:DAYLIGHT
DTSTART:20140330T030000
RDATE:20141026T020000
TZOFFSETFROM:+0100
TZOFFSETTO:+0200
TZNAME:Europe/Paris CEST
END:DAYLIGHT
BEGIN:DAYLIGHT
DTSTART:20150329T030000
RDATE:20151025T020000
TZOFFSETFROM:+0100
TZOFFSETTO:+0200
TZNAME:Europe/Paris CEST
END:DAYLIGHT
BEGIN:DAYLIGHT
DTSTART:20160327T030000
RDATE:20161030T020000
TZOFFSETFROM:+0100
TZOFFSETTO:+0200
TZNAME:Europe/Paris CEST
END:DAYLIGHT
BEGIN:DAYLIGHT
DTSTART:20170326T030000
RDATE:20171029T020000
TZOFFSETFROM:+0100
TZOFFSETTO:+0200
TZNAME:Europe/Paris CEST
END:DAYLIGHT
BEGIN:DAYLIGHT
DTSTART:20180325T030000
RDATE:20181028T020000
TZOFFSETFROM:+0100
TZOFFSETTO:+0200
TZNAME:Europe/Paris CEST
END:DAYLIGHT
BEGIN:DAYLIGHT
DTSTART:20190331T030000
RDATE:20191027T020000
TZOFFSETFROM:+0100
TZOFFSETTO:+0200
TZNAME:Europe/Paris CEST
END:DAYLIGHT
BEGIN:DAYLIGHT
DTSTART:20200329T030000
RDATE:20201025T020000
TZOFFSETFROM:+0100
TZOFFSETTO:+0200
TZNAME:Europe/Paris CEST
END:DAYLIGHT
BEGIN:DAYLIGHT
DTSTART:20210328T030000
RDATE:20211031T020000
TZOFFSETFROM:+0100
TZOFFSETTO:+0200
TZNAME:Europe/Paris CEST
END:DAYLIGHT
BEGIN:DAYLIGHT
DTSTART:20220327T030000
RDATE:20221030T020000
TZOFFSETFROM:+0100
TZOFFSETTO:+0200
TZNAME:Europe/Paris CEST
END:DAYLIGHT
BEGIN:DAYLIGHT
DTSTART:20230326T030000
RDATE:20231029T020000
TZOFFSETFROM:+0100
TZOFFSETTO:+0200
TZNAME:Europe/Paris CEST
END:DAYLIGHT
BEGIN:DAYLIGHT
DTSTART:20240331T030000
RDATE:20241027T020000
TZOFFSETFROM:+0100
TZOFFSETTO:+0200
TZNAME:Europe/Paris CEST
END:DAYLIGHT
BEGIN:DAYLIGHT
DTSTART:20250330T030000
RDATE:20251026T020000
TZOFFSETFROM:+0100
TZOFFSETTO:+0200
TZNAME:Europe/Paris CEST
END:DAYLIGHT
BEGIN:DAYLIGHT
DTSTART:20260329T030000
RDATE:20261025T020000
TZOFFSETFROM:+0100
TZOFFSETTO:+0200
TZNAME:Europe/Paris CEST
END:DAYLIGHT
END:VTIMEZONE
BEGIN:VEVENT
UID:0df247d1e78c573952a3cec8ee3763cb
CATEGORIES:Circuit Alsace Jeunes (alpin)
CREATED:20131203T122100
SUMMARY:CAJ coupe clinique du ski et crédit agricole **REPORTE**
URL;VALUE=URI:https://skivosges.net/agenda/export-synchronisation/detailevenement/74/-/ca
 j-coupe-clinique-du-ski-et-credit-agricole-reporte?tmpl=component
DESCRIPTION:CAJ coupe clinique du ski et crédit agricole (Epreuve reportée) \n(Coupe d'
 Alsace Jeunes)\n\nLieu : MARKSTEIN \nPiste : stade\nOrganisateur : SKI CLUB
  SAUSHEIM  (14231 SKI CLUB SAUSHEIM)\nEmail : RegularLabs.EmailProtector.un
 Cloak("ep_edb326a0");\nTelecopie : 06.76.97.40.91\n\ndépart 12h30\n\nInscri
 ptions en cours sur ce site\n - AMVF1021  Slalom (Coupe de Bronze) U10 Fill
 es\n  CAJ U10 à U14 Cpe de la Clinique du Ski et du Crédit Agricole/ Cpe de
  Bronze \n - AMVM1021  Slalom (Coupe de Bronze) U10 Garçons\n  CAJ U10 à U1
 4 Cpe de la Clinique du Ski et du Crédit Agricole/ Cpe de Bronze \n - AMVF1
 022  Slalom (Coupe de Bronze) U12 Filles\n  CAJ U10 à U14 Cpe de la Cliniqu
 e du Ski et du Crédit Agricole/ Cpe de Bronze \n - AMVM1022  Slalom (Coupe 
 de Bronze) U12 Garçons\n  CAJ U10 à U14 Cpe de la Clinique du Ski et du Cré
 dit Agricole/ Cpe de Bronze \n - AMVF1023  Slalom (Coupe de Bronze) U14 Fil
 les\n  CAJ U10 à U14 Cpe de la Clinique du Ski et du Crédit Agricole/ Cpe d
 e Bronze \n - AMVM1023  Slalom (Coupe de Bronze) U14 Garçons\n  CAJ U10 à U
 14 Cpe de la Clinique du Ski et du Crédit Agricole/ Cpe de Bronze  Cet évèn
 ement a été importé depuis :https://skivosges.net/agenda/export-synchronisa
 tion/detailevenement/74/-/caj-coupe-clinique-du-ski-et-credit-agricole-repo
 rte?tmpl=component (https://skivosges.net/agenda/export-synchronisation/det
 ailevenement/74/-/caj-coupe-clinique-du-ski-et-credit-agricole-reporte?tmpl
 =component)
X-ALT-DESC;FMTTYPE=text/html:<strong>CAJ coupe clinique du ski et crédit agricole</strong> <font class="
 attention4">(Epreuve reportée)</font> <br /><i>(Coupe d'Alsace Jeunes)</i><
 br /><br />Lieu : MARKSTEIN <br />Piste : stade<br />Organisateur : SKI CLU
 B SAUSHEIM  <small>(14231 SKI CLUB SAUSHEIM)</small><br />Email : <!-- Cett
 e adresse électronique est protégée contre les robots spammeurs. --><span c
 lass="cloaked_email ep_edb326a0"><span data-ep-b="" data-ep-a="b&#46;ha"><s
 pan data-ep-b="o&#46;&#102;&#114;" data-ep-a="bere"><span data-ep-b="&#110;
 a&#100;&#111;" data-ep-a="r&#64;&#119;&#97;"></span></span></span></span><s
 cript>RegularLabs.EmailProtector.unCloak("ep_edb326a0");</script><br />Tele
 copie : 06.76.97.40.91<br /><br />départ 12h30<br /><br />Inscriptions en c
 ours sur ce site<ul type="disc"><li>AMVF1021  Slalom <nobr><i>(Coupe de Bro
 nze)</i></nobr> <nobr>U10</nobr> Filles<br />&nbsp;&nbsp;CAJ U10 à U14 Cpe 
 de la Clinique du Ski et du Crédit Agricole/ Cpe de Bronze </li><li>AMVM102
 1  Slalom <nobr><i>(Coupe de Bronze)</i></nobr> <nobr>U10</nobr> Garçons<br
  />&nbsp;&nbsp;CAJ U10 à U14 Cpe de la Clinique du Ski et du Crédit Agricol
 e/ Cpe de Bronze </li><li>AMVF1022  Slalom <nobr><i>(Coupe de Bronze)</i></
 nobr> <nobr>U12</nobr> Filles<br />&nbsp;&nbsp;CAJ U10 à U14 Cpe de la Clin
 ique du Ski et du Crédit Agricole/ Cpe de Bronze </li><li>AMVM1022  Slalom 
 <nobr><i>(Coupe de Bronze)</i></nobr> <nobr>U12</nobr> Garçons<br />&nbsp;&
 nbsp;CAJ U10 à U14 Cpe de la Clinique du Ski et du Crédit Agricole/ Cpe de 
 Bronze </li><li>AMVF1023  Slalom <nobr><i>(Coupe de Bronze)</i></nobr> <nob
 r>U14</nobr> Filles<br />&nbsp;&nbsp;CAJ U10 à U14 Cpe de la Clinique du Sk
 i et du Crédit Agricole/ Cpe de Bronze </li><li>AMVM1023  Slalom <nobr><i>(
 Coupe de Bronze)</i></nobr> <nobr>U14</nobr> Garçons<br />&nbsp;&nbsp;CAJ U
 10 à U14 Cpe de la Clinique du Ski et du Crédit Agricole/ Cpe de Bronze </l
 i></ul> <a href="https://skivosges.net/agenda/export-synchronisation/detail
 evenement/74/-/caj-coupe-clinique-du-ski-et-credit-agricole-reporte?tmpl=co
 mponent">Cet évènement a été importé depuis :https://skivosges.net/agenda/e
 xport-synchronisation/detailevenement/74/-/caj-coupe-clinique-du-ski-et-cre
 dit-agricole-reporte?tmpl=component</a>DTSTAMP:20260423T142029
DTSTART;TZID=Europe/Paris:20140105T080000
DTEND;TZID=Europe/Paris:20140105T170000
SEQUENCE:0
TRANSP:OPAQUE
END:VEVENT
END:VCALENDAR