BEGIN:VCALENDAR
VERSION:2.0
PRODID:-//jEvents 2.0 for Joomla//EN
CALSCALE:GREGORIAN
METHOD:PUBLISH
BEGIN:VTIMEZONE
TZID:Europe/Paris
BEGIN:STANDARD
DTSTART:20160304T000000
RDATE:20160327T030000
TZOFFSETFROM:+0200
TZOFFSETTO:+0100
TZNAME:Europe/Paris CET
END:STANDARD
BEGIN:STANDARD
DTSTART:20161030T020000
RDATE:20170326T030000
TZOFFSETFROM:+0200
TZOFFSETTO:+0100
TZNAME:Europe/Paris CET
END:STANDARD
BEGIN:STANDARD
DTSTART:20171029T020000
RDATE:20180325T030000
TZOFFSETFROM:+0200
TZOFFSETTO:+0100
TZNAME:Europe/Paris CET
END:STANDARD
BEGIN:STANDARD
DTSTART:20181028T020000
RDATE:20190331T030000
TZOFFSETFROM:+0200
TZOFFSETTO:+0100
TZNAME:Europe/Paris CET
END:STANDARD
BEGIN:STANDARD
DTSTART:20191027T020000
RDATE:20200329T030000
TZOFFSETFROM:+0200
TZOFFSETTO:+0100
TZNAME:Europe/Paris CET
END:STANDARD
BEGIN:STANDARD
DTSTART:20201025T020000
RDATE:20210328T030000
TZOFFSETFROM:+0200
TZOFFSETTO:+0100
TZNAME:Europe/Paris CET
END:STANDARD
BEGIN:STANDARD
DTSTART:20211031T020000
RDATE:20220327T030000
TZOFFSETFROM:+0200
TZOFFSETTO:+0100
TZNAME:Europe/Paris CET
END:STANDARD
BEGIN:STANDARD
DTSTART:20221030T020000
RDATE:20230326T030000
TZOFFSETFROM:+0200
TZOFFSETTO:+0100
TZNAME:Europe/Paris CET
END:STANDARD
BEGIN:STANDARD
DTSTART:20231029T020000
RDATE:20240331T030000
TZOFFSETFROM:+0200
TZOFFSETTO:+0100
TZNAME:Europe/Paris CET
END:STANDARD
BEGIN:STANDARD
DTSTART:20241027T020000
RDATE:20250330T030000
TZOFFSETFROM:+0200
TZOFFSETTO:+0100
TZNAME:Europe/Paris CET
END:STANDARD
BEGIN:STANDARD
DTSTART:20251026T020000
RDATE:20260329T030000
TZOFFSETFROM:+0200
TZOFFSETTO:+0100
TZNAME:Europe/Paris CET
END:STANDARD
BEGIN:STANDARD
DTSTART:20261025T020000
RDATE:20270328T030000
TZOFFSETFROM:+0200
TZOFFSETTO:+0100
TZNAME:Europe/Paris CET
END:STANDARD
BEGIN:DAYLIGHT
DTSTART:20160327T030000
RDATE:20161030T020000
TZOFFSETFROM:+0100
TZOFFSETTO:+0200
TZNAME:Europe/Paris CEST
END:DAYLIGHT
BEGIN:DAYLIGHT
DTSTART:20170326T030000
RDATE:20171029T020000
TZOFFSETFROM:+0100
TZOFFSETTO:+0200
TZNAME:Europe/Paris CEST
END:DAYLIGHT
BEGIN:DAYLIGHT
DTSTART:20180325T030000
RDATE:20181028T020000
TZOFFSETFROM:+0100
TZOFFSETTO:+0200
TZNAME:Europe/Paris CEST
END:DAYLIGHT
BEGIN:DAYLIGHT
DTSTART:20190331T030000
RDATE:20191027T020000
TZOFFSETFROM:+0100
TZOFFSETTO:+0200
TZNAME:Europe/Paris CEST
END:DAYLIGHT
BEGIN:DAYLIGHT
DTSTART:20200329T030000
RDATE:20201025T020000
TZOFFSETFROM:+0100
TZOFFSETTO:+0200
TZNAME:Europe/Paris CEST
END:DAYLIGHT
BEGIN:DAYLIGHT
DTSTART:20210328T030000
RDATE:20211031T020000
TZOFFSETFROM:+0100
TZOFFSETTO:+0200
TZNAME:Europe/Paris CEST
END:DAYLIGHT
BEGIN:DAYLIGHT
DTSTART:20220327T030000
RDATE:20221030T020000
TZOFFSETFROM:+0100
TZOFFSETTO:+0200
TZNAME:Europe/Paris CEST
END:DAYLIGHT
BEGIN:DAYLIGHT
DTSTART:20230326T030000
RDATE:20231029T020000
TZOFFSETFROM:+0100
TZOFFSETTO:+0200
TZNAME:Europe/Paris CEST
END:DAYLIGHT
BEGIN:DAYLIGHT
DTSTART:20240331T030000
RDATE:20241027T020000
TZOFFSETFROM:+0100
TZOFFSETTO:+0200
TZNAME:Europe/Paris CEST
END:DAYLIGHT
BEGIN:DAYLIGHT
DTSTART:20250330T030000
RDATE:20251026T020000
TZOFFSETFROM:+0100
TZOFFSETTO:+0200
TZNAME:Europe/Paris CEST
END:DAYLIGHT
BEGIN:DAYLIGHT
DTSTART:20260329T030000
RDATE:20261025T020000
TZOFFSETFROM:+0100
TZOFFSETTO:+0200
TZNAME:Europe/Paris CEST
END:DAYLIGHT
END:VTIMEZONE
BEGIN:VEVENT
UID:db111064b4af41aed34e8cdc1b0d0032
CATEGORIES:Circuit Massif Jeunes (alpin)
CREATED:20161202T134851
SUMMARY:GPJ Coupe d´Argent  Grand Prix de St. AMARIN
URL;VALUE=URI:https://skivosges.net/agenda/export-synchronisation/detailevenement/742/-/g
 pj-coupe-dargent-grand-prix-de-st-amarin?tmpl=component
DESCRIPTION:<!-- #gskiepreuve code généré par le plugin jevents pour GskiEpreuves. Ne p
 as modifier cette ligne, ni tout le contenu suivant  #gskiepreuve --><div c
 lass="gski-evenement_infos"><div class="gski-evenement-nom">GPJ Coupe d´Arg
 ent  Grand Prix de St. AMARIN</div><div class="gski-evenement-report"></div
 ><ul class="gski-evenement-liste-infos"><li>Codex évenement AMVT0570</li><l
 i>Circuit : Grand Prix Jeunes</li><li>Lieu : MARKSTEIN</li><li>Station : MA
 RKSTEIN</li><li>Organisateur : 14058 SKI CLUB EDELWEISS SAINT AMARIN</li><l
 i>Courriel : <!-- Cette adresse électronique est protégée contre les robots
  spammeurs. --><span class="cloaked_email ep_096f83a3"><span data-ep-a="&#1
 15;&#107;&#105;&#46;" data-ep-b="&#114;&#108;"><span data-ep-a="&#101;&#100
 ;el" data-ep-b="ee&#46;&#102;"><span data-ep-a="w&#101;i&#115;" data-ep-b="
 &#115;&#64;&#102;&#114;"></span></span></span></span><script>RegularLabs.Em
 ailProtector.unCloak("ep_096f83a3");</script></li><li>Téléphone : 06 28 36 
 22 53</li></ul><div class="gski-evenement-infos-2"><div class="gski-eveneme
 nt-info-inscriptions"><div class="gski-evenement-inscriptions-periodes">Pér
 iode d'inscription à l'evènement du dimanche 26 février 2017 à 01:00 au ven
 dredi 03 mars 2017 à 17:00 <span class="gski-evenement-inscriptions-impossi
 bles">(Inscriptions impossibles).</span><div class="gski-evenement-inscript
 ions-types-titres">Le type de titres Fédéraux autorisé n'est pas défini. Ve
 uillez contacter l'organisateur et lui signaler le problème.</div></div></d
 iv><div class="gski-evenement-epreuves"><div class="gski-evenement-epreuves
 -titres">Epreuves :</div><ul class="gski-evenement-epreuves-list"><li><div 
 class="gski-epreuve-date">Le dimanche 05 mars 2017</div><ul class="gski-epr
 euve-liste-infos"><li>Codex épreuve AMVM0571</li><li>Slalom</li><li>Circuit
  : Grand Prix Jeunes</li></ul></li><li><div class="gski-epreuve-date">Le di
 manche 05 mars 2017</div><ul class="gski-epreuve-liste-infos"><li>Codex épr
 euve AMVF0571</li><li>Slalom</li><li>Circuit : Grand Prix Jeunes</li></ul><
 /li><li><div class="gski-epreuve-date">Le dimanche 05 mars 2017</div><ul cl
 ass="gski-epreuve-liste-infos"><li>Codex épreuve AMVM0572</li><li>Slalom</l
 i><li>Circuit : Grand Prix Jeunes</li></ul></li><li><div class="gski-epreuv
 e-date">Le dimanche 05 mars 2017</div><ul class="gski-epreuve-liste-infos">
 <li>Codex épreuve AMVF0572</li><li>Slalom</li><li>Circuit : Grand Prix Jeun
 es</li></ul></li></ul></div><div class="gskiepreuves-links"><ul><li><a href
 ="/index.php?option=com_jevents&task=icalevent.detail&evid=737&Itemid=6283"
 >Voir les informations dans l'agenda...</a></li><li><a href="/index.php?opt
 ion=com_gskiepreuves&view=afficheresultats&format_option=tous&filter[search
 ]=AMVT0570&filter[date_debut]=05-03-2017&filter[date_fin]=05-03-2017&code_a
 ctivite=ALP&Itemid=6283">Vers les résultats...</a></li></ul></div></div"><!
 -- #/gskiepreuve fin du dode généré par le plugin jevents pour GskiEpreuves
 . . Ne pas modifier cette ligne, ni tout le contenu précedant.  #/gskiepreu
 ve --> <a href="https://skivosges.net/agenda/export-synchronisation/detaile
 venement/742/-/gpj-coupe-dargent-grand-prix-de-st-amarin?tmpl=component">Ce
 t évènement a été importé depuis :https://skivosges.net/agenda/export-synch
 ronisation/detailevenement/742/-/gpj-coupe-dargent-grand-prix-de-st-amarin?
 tmpl=component</a>
X-ALT-DESC;FMTTYPE=text/html:<!-- #gskiepreuve code généré par le plugin jevents pour GskiEpreuves. Ne p
 as modifier cette ligne, ni tout le contenu suivant  #gskiepreuve --><div c
 lass="gski-evenement_infos"><div class="gski-evenement-nom">GPJ Coupe d´Arg
 ent  Grand Prix de St. AMARIN</div><div class="gski-evenement-report"></div
 ><ul class="gski-evenement-liste-infos"><li>Codex évenement AMVT0570</li><l
 i>Circuit : Grand Prix Jeunes</li><li>Lieu : MARKSTEIN</li><li>Station : MA
 RKSTEIN</li><li>Organisateur : 14058 SKI CLUB EDELWEISS SAINT AMARIN</li><l
 i>Courriel : <!-- Cette adresse électronique est protégée contre les robots
  spammeurs. --><span class="cloaked_email ep_096f83a3"><span data-ep-a="&#1
 15;&#107;&#105;&#46;" data-ep-b="&#114;&#108;"><span data-ep-a="&#101;&#100
 ;el" data-ep-b="ee&#46;&#102;"><span data-ep-a="w&#101;i&#115;" data-ep-b="
 &#115;&#64;&#102;&#114;"></span></span></span></span><script>RegularLabs.Em
 ailProtector.unCloak("ep_096f83a3");</script></li><li>Téléphone : 06 28 36 
 22 53</li></ul><div class="gski-evenement-infos-2"><div class="gski-eveneme
 nt-info-inscriptions"><div class="gski-evenement-inscriptions-periodes">Pér
 iode d'inscription à l'evènement du dimanche 26 février 2017 à 01:00 au ven
 dredi 03 mars 2017 à 17:00 <span class="gski-evenement-inscriptions-impossi
 bles">(Inscriptions impossibles).</span><div class="gski-evenement-inscript
 ions-types-titres">Le type de titres Fédéraux autorisé n'est pas défini. Ve
 uillez contacter l'organisateur et lui signaler le problème.</div></div></d
 iv><div class="gski-evenement-epreuves"><div class="gski-evenement-epreuves
 -titres">Epreuves :</div><ul class="gski-evenement-epreuves-list"><li><div 
 class="gski-epreuve-date">Le dimanche 05 mars 2017</div><ul class="gski-epr
 euve-liste-infos"><li>Codex épreuve AMVM0571</li><li>Slalom</li><li>Circuit
  : Grand Prix Jeunes</li></ul></li><li><div class="gski-epreuve-date">Le di
 manche 05 mars 2017</div><ul class="gski-epreuve-liste-infos"><li>Codex épr
 euve AMVF0571</li><li>Slalom</li><li>Circuit : Grand Prix Jeunes</li></ul><
 /li><li><div class="gski-epreuve-date">Le dimanche 05 mars 2017</div><ul cl
 ass="gski-epreuve-liste-infos"><li>Codex épreuve AMVM0572</li><li>Slalom</l
 i><li>Circuit : Grand Prix Jeunes</li></ul></li><li><div class="gski-epreuv
 e-date">Le dimanche 05 mars 2017</div><ul class="gski-epreuve-liste-infos">
 <li>Codex épreuve AMVF0572</li><li>Slalom</li><li>Circuit : Grand Prix Jeun
 es</li></ul></li></ul></div><div class="gskiepreuves-links"><ul><li><a href
 ="https://skivosges.net/index.php?option=com_jevents&task=icalevent.detail&
 evid=737&Itemid=6283">Voir les informations dans l'agenda...</a></li><li><a
  href="https://skivosges.net/index.php?option=com_gskiepreuves&view=affiche
 resultats&format_option=tous&filter[search]=AMVT0570&filter[date_debut]=05-
 03-2017&filter[date_fin]=05-03-2017&code_activite=ALP&Itemid=6283">Vers les
  résultats...</a></li></ul></div></div"><!-- #/gskiepreuve fin du dode géné
 ré par le plugin jevents pour GskiEpreuves. . Ne pas modifier cette ligne, 
 ni tout le contenu précedant.  #/gskiepreuve --> <a href="https://skivosges
 .net/agenda/export-synchronisation/detailevenement/742/-/gpj-coupe-dargent-
 grand-prix-de-st-amarin?tmpl=component">Cet évènement a été importé depuis 
 :https://skivosges.net/agenda/export-synchronisation/detailevenement/742/-/
 gpj-coupe-dargent-grand-prix-de-st-amarin?tmpl=component</a>DTSTAMP:20260421T051153
DTSTART;TZID=Europe/Paris;VALUE=DATE:20170305
DTEND;TZID=Europe/Paris;VALUE=DATE:20170306
SEQUENCE:0
TRANSP:OPAQUE
END:VEVENT
END:VCALENDAR