BEGIN:VCALENDAR
VERSION:2.0
PRODID:-//jEvents 2.0 for Joomla//EN
CALSCALE:GREGORIAN
METHOD:PUBLISH
BEGIN:VTIMEZONE
TZID:Europe/Paris
BEGIN:STANDARD
DTSTART:20160317T000000
RDATE:20160327T030000
TZOFFSETFROM:+0200
TZOFFSETTO:+0100
TZNAME:Europe/Paris CET
END:STANDARD
BEGIN:STANDARD
DTSTART:20161030T020000
RDATE:20170326T030000
TZOFFSETFROM:+0200
TZOFFSETTO:+0100
TZNAME:Europe/Paris CET
END:STANDARD
BEGIN:STANDARD
DTSTART:20171029T020000
RDATE:20180325T030000
TZOFFSETFROM:+0200
TZOFFSETTO:+0100
TZNAME:Europe/Paris CET
END:STANDARD
BEGIN:STANDARD
DTSTART:20181028T020000
RDATE:20190331T030000
TZOFFSETFROM:+0200
TZOFFSETTO:+0100
TZNAME:Europe/Paris CET
END:STANDARD
BEGIN:STANDARD
DTSTART:20191027T020000
RDATE:20200329T030000
TZOFFSETFROM:+0200
TZOFFSETTO:+0100
TZNAME:Europe/Paris CET
END:STANDARD
BEGIN:STANDARD
DTSTART:20201025T020000
RDATE:20210328T030000
TZOFFSETFROM:+0200
TZOFFSETTO:+0100
TZNAME:Europe/Paris CET
END:STANDARD
BEGIN:STANDARD
DTSTART:20211031T020000
RDATE:20220327T030000
TZOFFSETFROM:+0200
TZOFFSETTO:+0100
TZNAME:Europe/Paris CET
END:STANDARD
BEGIN:STANDARD
DTSTART:20221030T020000
RDATE:20230326T030000
TZOFFSETFROM:+0200
TZOFFSETTO:+0100
TZNAME:Europe/Paris CET
END:STANDARD
BEGIN:STANDARD
DTSTART:20231029T020000
RDATE:20240331T030000
TZOFFSETFROM:+0200
TZOFFSETTO:+0100
TZNAME:Europe/Paris CET
END:STANDARD
BEGIN:STANDARD
DTSTART:20241027T020000
RDATE:20250330T030000
TZOFFSETFROM:+0200
TZOFFSETTO:+0100
TZNAME:Europe/Paris CET
END:STANDARD
BEGIN:STANDARD
DTSTART:20251026T020000
RDATE:20260329T030000
TZOFFSETFROM:+0200
TZOFFSETTO:+0100
TZNAME:Europe/Paris CET
END:STANDARD
BEGIN:STANDARD
DTSTART:20261025T020000
RDATE:20270328T030000
TZOFFSETFROM:+0200
TZOFFSETTO:+0100
TZNAME:Europe/Paris CET
END:STANDARD
BEGIN:DAYLIGHT
DTSTART:20160327T030000
RDATE:20161030T020000
TZOFFSETFROM:+0100
TZOFFSETTO:+0200
TZNAME:Europe/Paris CEST
END:DAYLIGHT
BEGIN:DAYLIGHT
DTSTART:20170326T030000
RDATE:20171029T020000
TZOFFSETFROM:+0100
TZOFFSETTO:+0200
TZNAME:Europe/Paris CEST
END:DAYLIGHT
BEGIN:DAYLIGHT
DTSTART:20180325T030000
RDATE:20181028T020000
TZOFFSETFROM:+0100
TZOFFSETTO:+0200
TZNAME:Europe/Paris CEST
END:DAYLIGHT
BEGIN:DAYLIGHT
DTSTART:20190331T030000
RDATE:20191027T020000
TZOFFSETFROM:+0100
TZOFFSETTO:+0200
TZNAME:Europe/Paris CEST
END:DAYLIGHT
BEGIN:DAYLIGHT
DTSTART:20200329T030000
RDATE:20201025T020000
TZOFFSETFROM:+0100
TZOFFSETTO:+0200
TZNAME:Europe/Paris CEST
END:DAYLIGHT
BEGIN:DAYLIGHT
DTSTART:20210328T030000
RDATE:20211031T020000
TZOFFSETFROM:+0100
TZOFFSETTO:+0200
TZNAME:Europe/Paris CEST
END:DAYLIGHT
BEGIN:DAYLIGHT
DTSTART:20220327T030000
RDATE:20221030T020000
TZOFFSETFROM:+0100
TZOFFSETTO:+0200
TZNAME:Europe/Paris CEST
END:DAYLIGHT
BEGIN:DAYLIGHT
DTSTART:20230326T030000
RDATE:20231029T020000
TZOFFSETFROM:+0100
TZOFFSETTO:+0200
TZNAME:Europe/Paris CEST
END:DAYLIGHT
BEGIN:DAYLIGHT
DTSTART:20240331T030000
RDATE:20241027T020000
TZOFFSETFROM:+0100
TZOFFSETTO:+0200
TZNAME:Europe/Paris CEST
END:DAYLIGHT
BEGIN:DAYLIGHT
DTSTART:20250330T030000
RDATE:20251026T020000
TZOFFSETFROM:+0100
TZOFFSETTO:+0200
TZNAME:Europe/Paris CEST
END:DAYLIGHT
BEGIN:DAYLIGHT
DTSTART:20260329T030000
RDATE:20261025T020000
TZOFFSETFROM:+0100
TZOFFSETTO:+0200
TZNAME:Europe/Paris CEST
END:DAYLIGHT
END:VTIMEZONE
BEGIN:VEVENT
UID:46cd7e552450001a95d081dc31eee536
CATEGORIES:Circuit Massif Adultes (alpin)
CREATED:20161202T134851
SUMMARY:GPA   U16 à Masters GP Techniski - Mémorial J et Ph Degermann *** ANNULE(E) ***
URL;VALUE=URI:https://skivosges.net/agenda/export-synchronisation/detailevenement/765/-/g
 pa-u16-a-masters-gp-techniski-memorial-j-et-ph-degermann-annule-e?tmpl=comp
 onent
DESCRIPTION:<!-- #gskiepreuve code généré par le plugin jevents pour GskiEpreuves. Ne p
 as modifier cette ligne, ni tout le contenu suivant  #gskiepreuve --><div c
 lass="gski-evenement_infos"><div class="gski-evenement-nom">GPA   U16 à Mas
 ters GP Techniski - Mémorial J et Ph Degermann</div><div class="gski-evenem
 ent-report"> <font class="gskiattention">(Epreuve annulée)</font></div><ul 
 class="gski-evenement-liste-infos"><li>Codex évenement AMVT0750</li><li>Cir
 cuit : Grand Prix Adultes</li><li>Lieu : LE BONHOMME</li><li>Station : LE B
 ONHOMME</li><li>COM_GSKIEPREUVES_EPREUVE_PISTEMontjoie</li><li>Organisateur
  : 14003 SKI CLUB BARR</li><li>Courriel : <!-- Cette adresse électronique e
 st protégée contre les robots spammeurs. --><span class="cloaked_email ep_4
 6a888e0"><span data-ep-a="w&#105;e&#115;&#46;" data-ep-b=""><span data-ep-a
 ="&#99;&#104;r&#105;s" data-ep-b="&#108;&#46;com"><span data-ep-b="&#64;&#1
 03;m&#97;&#105;" data-ep-a="&#116;op&#104;e"></span></span></span></span><s
 cript>RegularLabs.EmailProtector.unCloak("ep_46a888e0");</script></li><li><
 span class="gski-evenement-obs">Autres informations : Slalom sur Montjoie s
 i les conditions le permettent. La d&eacute;cision sera prise vendredi.</sp
 an></li></ul><div class="gski-evenement-infos-2"><div class="gski-evenement
 -info-inscriptions"><div class="gski-evenement-inscriptions-periodes">Pério
 de d'inscription à l'evènement du samedi 11 mars 2017 à 01:00 au vendredi 1
 7 mars 2017 à 19:00 <span class="gski-evenement-inscriptions-impossibles">(
 Inscriptions impossibles).</span><div class="gski-evenement-inscriptions-ty
 pes-titres">Le type de titres Fédéraux autorisé n'est pas défini. Veuillez 
 contacter l'organisateur et lui signaler le problème.</div></div></div><div
  class="gski-evenement-epreuves"><div class="gski-evenement-epreuves-titres
 ">Epreuves :</div><ul class="gski-evenement-epreuves-list"><li><div class="
 gski-epreuve-date">Le samedi 18 mars 2017</div><ul class="gski-epreuve-list
 e-infos"><li>Codex épreuve AMVM0751</li><li>Slalom Geant</li><li>Circuit : 
 Grand Prix Adultes</li></ul></li><li><div class="gski-epreuve-date">Le same
 di 18 mars 2017</div><ul class="gski-epreuve-liste-infos"><li>Codex épreuve
  AMVF0751</li><li>Slalom Geant</li><li>Circuit : Grand Prix Adultes</li></u
 l></li><li><div class="gski-epreuve-date">Le samedi 18 mars 2017</div><ul c
 lass="gski-epreuve-liste-infos"><li>Codex épreuve AMVM0752</li><li>Slalom G
 eant</li><li>Circuit : Grand Prix Adultes</li></ul></li><li><div class="gsk
 i-epreuve-date">Le samedi 18 mars 2017</div><ul class="gski-epreuve-liste-i
 nfos"><li>Codex épreuve AMVF0752</li><li>Slalom Geant</li><li>Circuit : Gra
 nd Prix Adultes</li></ul></li></ul></div><div class="gskiepreuves-links"><u
 l><li><a href="/index.php?option=com_jevents&task=icalevent.detail&evid=760
 &Itemid=6283">Voir les informations dans l'agenda...</a></li></ul></div></d
 iv"><!-- #/gskiepreuve fin du dode généré par le plugin jevents pour GskiEp
 reuves. . Ne pas modifier cette ligne, ni tout le contenu précedant.  #/gsk
 iepreuve --> <a href="https://skivosges.net/agenda/export-synchronisation/d
 etailevenement/765/-/gpa-u16-a-masters-gp-techniski-memorial-j-et-ph-degerm
 ann-annule-e?tmpl=component">Cet évènement a été importé depuis :https://sk
 ivosges.net/agenda/export-synchronisation/detailevenement/765/-/gpa-u16-a-m
 asters-gp-techniski-memorial-j-et-ph-degermann-annule-e?tmpl=component</a>
X-ALT-DESC;FMTTYPE=text/html:<!-- #gskiepreuve code généré par le plugin jevents pour GskiEpreuves. Ne p
 as modifier cette ligne, ni tout le contenu suivant  #gskiepreuve --><div c
 lass="gski-evenement_infos"><div class="gski-evenement-nom">GPA   U16 à Mas
 ters GP Techniski - Mémorial J et Ph Degermann</div><div class="gski-evenem
 ent-report"> <font class="gskiattention">(Epreuve annulée)</font></div><ul 
 class="gski-evenement-liste-infos"><li>Codex évenement AMVT0750</li><li>Cir
 cuit : Grand Prix Adultes</li><li>Lieu : LE BONHOMME</li><li>Station : LE B
 ONHOMME</li><li>COM_GSKIEPREUVES_EPREUVE_PISTEMontjoie</li><li>Organisateur
  : 14003 SKI CLUB BARR</li><li>Courriel : <!-- Cette adresse électronique e
 st protégée contre les robots spammeurs. --><span class="cloaked_email ep_4
 6a888e0"><span data-ep-a="w&#105;e&#115;&#46;" data-ep-b=""><span data-ep-a
 ="&#99;&#104;r&#105;s" data-ep-b="&#108;&#46;com"><span data-ep-b="&#64;&#1
 03;m&#97;&#105;" data-ep-a="&#116;op&#104;e"></span></span></span></span><s
 cript>RegularLabs.EmailProtector.unCloak("ep_46a888e0");</script></li><li><
 span class="gski-evenement-obs">Autres informations : Slalom sur Montjoie s
 i les conditions le permettent. La d&eacute;cision sera prise vendredi.</sp
 an></li></ul><div class="gski-evenement-infos-2"><div class="gski-evenement
 -info-inscriptions"><div class="gski-evenement-inscriptions-periodes">Pério
 de d'inscription à l'evènement du samedi 11 mars 2017 à 01:00 au vendredi 1
 7 mars 2017 à 19:00 <span class="gski-evenement-inscriptions-impossibles">(
 Inscriptions impossibles).</span><div class="gski-evenement-inscriptions-ty
 pes-titres">Le type de titres Fédéraux autorisé n'est pas défini. Veuillez 
 contacter l'organisateur et lui signaler le problème.</div></div></div><div
  class="gski-evenement-epreuves"><div class="gski-evenement-epreuves-titres
 ">Epreuves :</div><ul class="gski-evenement-epreuves-list"><li><div class="
 gski-epreuve-date">Le samedi 18 mars 2017</div><ul class="gski-epreuve-list
 e-infos"><li>Codex épreuve AMVM0751</li><li>Slalom Geant</li><li>Circuit : 
 Grand Prix Adultes</li></ul></li><li><div class="gski-epreuve-date">Le same
 di 18 mars 2017</div><ul class="gski-epreuve-liste-infos"><li>Codex épreuve
  AMVF0751</li><li>Slalom Geant</li><li>Circuit : Grand Prix Adultes</li></u
 l></li><li><div class="gski-epreuve-date">Le samedi 18 mars 2017</div><ul c
 lass="gski-epreuve-liste-infos"><li>Codex épreuve AMVM0752</li><li>Slalom G
 eant</li><li>Circuit : Grand Prix Adultes</li></ul></li><li><div class="gsk
 i-epreuve-date">Le samedi 18 mars 2017</div><ul class="gski-epreuve-liste-i
 nfos"><li>Codex épreuve AMVF0752</li><li>Slalom Geant</li><li>Circuit : Gra
 nd Prix Adultes</li></ul></li></ul></div><div class="gskiepreuves-links"><u
 l><li><a href="https://skivosges.net/index.php?option=com_jevents&task=ical
 event.detail&evid=760&Itemid=6283">Voir les informations dans l'agenda...</
 a></li></ul></div></div"><!-- #/gskiepreuve fin du dode généré par le plugi
 n jevents pour GskiEpreuves. . Ne pas modifier cette ligne, ni tout le cont
 enu précedant.  #/gskiepreuve --> <a href="https://skivosges.net/agenda/exp
 ort-synchronisation/detailevenement/765/-/gpa-u16-a-masters-gp-techniski-me
 morial-j-et-ph-degermann-annule-e?tmpl=component">Cet évènement a été impor
 té depuis :https://skivosges.net/agenda/export-synchronisation/detailevenem
 ent/765/-/gpa-u16-a-masters-gp-techniski-memorial-j-et-ph-degermann-annule-
 e?tmpl=component</a>DTSTAMP:20260420T184540
DTSTART;TZID=Europe/Paris;VALUE=DATE:20170318
DTEND;TZID=Europe/Paris;VALUE=DATE:20170319
SEQUENCE:0
TRANSP:OPAQUE
END:VEVENT
END:VCALENDAR