BEGIN:VCALENDAR
VERSION:2.0
PRODID:-//jEvents 2.0 for Joomla//EN
CALSCALE:GREGORIAN
METHOD:PUBLISH
BEGIN:VTIMEZONE
TZID:Europe/Paris
BEGIN:STANDARD
DTSTART:20160318T000000
RDATE:20160327T030000
TZOFFSETFROM:+0200
TZOFFSETTO:+0100
TZNAME:Europe/Paris CET
END:STANDARD
BEGIN:STANDARD
DTSTART:20161030T020000
RDATE:20170326T030000
TZOFFSETFROM:+0200
TZOFFSETTO:+0100
TZNAME:Europe/Paris CET
END:STANDARD
BEGIN:STANDARD
DTSTART:20171029T020000
RDATE:20180325T030000
TZOFFSETFROM:+0200
TZOFFSETTO:+0100
TZNAME:Europe/Paris CET
END:STANDARD
BEGIN:STANDARD
DTSTART:20181028T020000
RDATE:20190331T030000
TZOFFSETFROM:+0200
TZOFFSETTO:+0100
TZNAME:Europe/Paris CET
END:STANDARD
BEGIN:STANDARD
DTSTART:20191027T020000
RDATE:20200329T030000
TZOFFSETFROM:+0200
TZOFFSETTO:+0100
TZNAME:Europe/Paris CET
END:STANDARD
BEGIN:STANDARD
DTSTART:20201025T020000
RDATE:20210328T030000
TZOFFSETFROM:+0200
TZOFFSETTO:+0100
TZNAME:Europe/Paris CET
END:STANDARD
BEGIN:STANDARD
DTSTART:20211031T020000
RDATE:20220327T030000
TZOFFSETFROM:+0200
TZOFFSETTO:+0100
TZNAME:Europe/Paris CET
END:STANDARD
BEGIN:STANDARD
DTSTART:20221030T020000
RDATE:20230326T030000
TZOFFSETFROM:+0200
TZOFFSETTO:+0100
TZNAME:Europe/Paris CET
END:STANDARD
BEGIN:STANDARD
DTSTART:20231029T020000
RDATE:20240331T030000
TZOFFSETFROM:+0200
TZOFFSETTO:+0100
TZNAME:Europe/Paris CET
END:STANDARD
BEGIN:STANDARD
DTSTART:20241027T020000
RDATE:20250330T030000
TZOFFSETFROM:+0200
TZOFFSETTO:+0100
TZNAME:Europe/Paris CET
END:STANDARD
BEGIN:STANDARD
DTSTART:20251026T020000
RDATE:20260329T030000
TZOFFSETFROM:+0200
TZOFFSETTO:+0100
TZNAME:Europe/Paris CET
END:STANDARD
BEGIN:STANDARD
DTSTART:20261025T020000
RDATE:20270328T030000
TZOFFSETFROM:+0200
TZOFFSETTO:+0100
TZNAME:Europe/Paris CET
END:STANDARD
BEGIN:DAYLIGHT
DTSTART:20160327T030000
RDATE:20161030T020000
TZOFFSETFROM:+0100
TZOFFSETTO:+0200
TZNAME:Europe/Paris CEST
END:DAYLIGHT
BEGIN:DAYLIGHT
DTSTART:20170326T030000
RDATE:20171029T020000
TZOFFSETFROM:+0100
TZOFFSETTO:+0200
TZNAME:Europe/Paris CEST
END:DAYLIGHT
BEGIN:DAYLIGHT
DTSTART:20180325T030000
RDATE:20181028T020000
TZOFFSETFROM:+0100
TZOFFSETTO:+0200
TZNAME:Europe/Paris CEST
END:DAYLIGHT
BEGIN:DAYLIGHT
DTSTART:20190331T030000
RDATE:20191027T020000
TZOFFSETFROM:+0100
TZOFFSETTO:+0200
TZNAME:Europe/Paris CEST
END:DAYLIGHT
BEGIN:DAYLIGHT
DTSTART:20200329T030000
RDATE:20201025T020000
TZOFFSETFROM:+0100
TZOFFSETTO:+0200
TZNAME:Europe/Paris CEST
END:DAYLIGHT
BEGIN:DAYLIGHT
DTSTART:20210328T030000
RDATE:20211031T020000
TZOFFSETFROM:+0100
TZOFFSETTO:+0200
TZNAME:Europe/Paris CEST
END:DAYLIGHT
BEGIN:DAYLIGHT
DTSTART:20220327T030000
RDATE:20221030T020000
TZOFFSETFROM:+0100
TZOFFSETTO:+0200
TZNAME:Europe/Paris CEST
END:DAYLIGHT
BEGIN:DAYLIGHT
DTSTART:20230326T030000
RDATE:20231029T020000
TZOFFSETFROM:+0100
TZOFFSETTO:+0200
TZNAME:Europe/Paris CEST
END:DAYLIGHT
BEGIN:DAYLIGHT
DTSTART:20240331T030000
RDATE:20241027T020000
TZOFFSETFROM:+0100
TZOFFSETTO:+0200
TZNAME:Europe/Paris CEST
END:DAYLIGHT
BEGIN:DAYLIGHT
DTSTART:20250330T030000
RDATE:20251026T020000
TZOFFSETFROM:+0100
TZOFFSETTO:+0200
TZNAME:Europe/Paris CEST
END:DAYLIGHT
BEGIN:DAYLIGHT
DTSTART:20260329T030000
RDATE:20261025T020000
TZOFFSETFROM:+0100
TZOFFSETTO:+0200
TZNAME:Europe/Paris CEST
END:DAYLIGHT
END:VTIMEZONE
BEGIN:VEVENT
UID:9711866810b976f42be78431ac8d2b1e
CATEGORIES:Circuit Massif Jeunes (alpin)
CREATED:20161202T134851
SUMMARY:GPJ     U12 et U14  Grand Prix Bernadette Valroff
URL;VALUE=URI:https://skivosges.net/agenda/export-synchronisation/detailevenement/769/-/g
 pj-u12-et-u14-grand-prix-bernadette-valroff?tmpl=component
DESCRIPTION:<!-- #gskiepreuve code généré par le plugin jevents pour GskiEpreuves. Ne p
 as modifier cette ligne, ni tout le contenu suivant  #gskiepreuve --><div c
 lass="gski-evenement_infos"><div class="gski-evenement-nom">GPJ     U12 et 
 U14  Grand Prix Bernadette Valroff</div><div class="gski-evenement-report">
 </div><ul class="gski-evenement-liste-infos"><li>Codex évenement AMVT0770</
 li><li>Circuit : Grand Prix Jeunes</li><li>Lieu : FRERE JOSEPH</li><li>Stat
 ion : FRERE JOSEPH</li><li>COM_GSKIEPREUVES_EPREUVE_PISTETHERESE LEDUC</li>
 <li>Organisateur : </li><li>Courriel : <!-- Cette adresse électronique est 
 protégée contre les robots spammeurs. --><span class="cloaked_email ep_0955
 fced"><span data-ep-a="&#115;&#116;e&#112;&#104;" data-ep-b="&#108;&#101;&#
 46;fr"><span data-ep-b="&#114;&#105;c&#97;&#98;" data-ep-a="&#97;&#110;&#10
 1;&#46;g"><span data-ep-b="&#64;&#110;&#117;m&#101;" data-ep-a="ig&#97;&#11
 0;&#116;"></span></span></span></span><script>RegularLabs.EmailProtector.un
 Cloak("ep_0955fced");</script></li></ul><div class="gski-evenement-infos-2"
 ><div class="gski-evenement-info-inscriptions"><div class="gski-evenement-i
 nscriptions-periodes">Période d'inscription à l'evènement du dimanche 12 ma
 rs 2017 à 01:00 au vendredi 17 mars 2017 à 17:00 <span class="gski-evenemen
 t-inscriptions-impossibles">(Inscriptions impossibles).</span><div class="g
 ski-evenement-inscriptions-types-titres">Le type de titres Fédéraux autoris
 é n'est pas défini. Veuillez contacter l'organisateur et lui signaler le pr
 oblème.</div></div></div><div class="gski-evenement-epreuves"><div class="g
 ski-evenement-epreuves-titres">Epreuves :</div><ul class="gski-evenement-ep
 reuves-list"><li><div class="gski-epreuve-date">Le dimanche 19 mars 2017</d
 iv><ul class="gski-epreuve-liste-infos"><li>Codex épreuve AMVM0771</li><li>
 Slalom Geant</li><li>Circuit : Grand Prix Jeunes</li></ul></li><li><div cla
 ss="gski-epreuve-date">Le dimanche 19 mars 2017</div><ul class="gski-epreuv
 e-liste-infos"><li>Codex épreuve AMVF0771</li><li>Slalom Geant</li><li>Circ
 uit : Grand Prix Jeunes</li></ul></li><li><div class="gski-epreuve-date">Le
  dimanche 19 mars 2017</div><ul class="gski-epreuve-liste-infos"><li>Codex 
 épreuve AMVM0772</li><li>Slalom Geant</li><li>Circuit : Grand Prix Jeunes</
 li></ul></li><li><div class="gski-epreuve-date">Le dimanche 19 mars 2017</d
 iv><ul class="gski-epreuve-liste-infos"><li>Codex épreuve AMVF0772</li><li>
 Slalom Geant</li><li>Circuit : Grand Prix Jeunes</li></ul></li></ul></div><
 div class="gskiepreuves-links"><ul><li><a href="/index.php?option=com_jeven
 ts&task=icalevent.detail&evid=764&Itemid=6283">Voir les informations dans l
 'agenda...</a></li><li><a href="/index.php?option=com_gskiepreuves&view=aff
 icheresultats&format_option=tous&filter[search]=AMVT0770&filter[date_debut]
 =19-03-2017&filter[date_fin]=19-03-2017&code_activite=ALP&Itemid=6283">Vers
  les résultats...</a></li></ul></div></div"><!-- #/gskiepreuve fin du dode 
 généré par le plugin jevents pour GskiEpreuves. . Ne pas modifier cette lig
 ne, ni tout le contenu précedant.  #/gskiepreuve --> <a href="https://skivo
 sges.net/agenda/export-synchronisation/detailevenement/769/-/gpj-u12-et-u14
 -grand-prix-bernadette-valroff?tmpl=component">Cet évènement a été importé 
 depuis :https://skivosges.net/agenda/export-synchronisation/detailevenement
 /769/-/gpj-u12-et-u14-grand-prix-bernadette-valroff?tmpl=component</a>
X-ALT-DESC;FMTTYPE=text/html:<!-- #gskiepreuve code généré par le plugin jevents pour GskiEpreuves. Ne p
 as modifier cette ligne, ni tout le contenu suivant  #gskiepreuve --><div c
 lass="gski-evenement_infos"><div class="gski-evenement-nom">GPJ     U12 et 
 U14  Grand Prix Bernadette Valroff</div><div class="gski-evenement-report">
 </div><ul class="gski-evenement-liste-infos"><li>Codex évenement AMVT0770</
 li><li>Circuit : Grand Prix Jeunes</li><li>Lieu : FRERE JOSEPH</li><li>Stat
 ion : FRERE JOSEPH</li><li>COM_GSKIEPREUVES_EPREUVE_PISTETHERESE LEDUC</li>
 <li>Organisateur : </li><li>Courriel : <!-- Cette adresse électronique est 
 protégée contre les robots spammeurs. --><span class="cloaked_email ep_0955
 fced"><span data-ep-a="&#115;&#116;e&#112;&#104;" data-ep-b="&#108;&#101;&#
 46;fr"><span data-ep-b="&#114;&#105;c&#97;&#98;" data-ep-a="&#97;&#110;&#10
 1;&#46;g"><span data-ep-b="&#64;&#110;&#117;m&#101;" data-ep-a="ig&#97;&#11
 0;&#116;"></span></span></span></span><script>RegularLabs.EmailProtector.un
 Cloak("ep_0955fced");</script></li></ul><div class="gski-evenement-infos-2"
 ><div class="gski-evenement-info-inscriptions"><div class="gski-evenement-i
 nscriptions-periodes">Période d'inscription à l'evènement du dimanche 12 ma
 rs 2017 à 01:00 au vendredi 17 mars 2017 à 17:00 <span class="gski-evenemen
 t-inscriptions-impossibles">(Inscriptions impossibles).</span><div class="g
 ski-evenement-inscriptions-types-titres">Le type de titres Fédéraux autoris
 é n'est pas défini. Veuillez contacter l'organisateur et lui signaler le pr
 oblème.</div></div></div><div class="gski-evenement-epreuves"><div class="g
 ski-evenement-epreuves-titres">Epreuves :</div><ul class="gski-evenement-ep
 reuves-list"><li><div class="gski-epreuve-date">Le dimanche 19 mars 2017</d
 iv><ul class="gski-epreuve-liste-infos"><li>Codex épreuve AMVM0771</li><li>
 Slalom Geant</li><li>Circuit : Grand Prix Jeunes</li></ul></li><li><div cla
 ss="gski-epreuve-date">Le dimanche 19 mars 2017</div><ul class="gski-epreuv
 e-liste-infos"><li>Codex épreuve AMVF0771</li><li>Slalom Geant</li><li>Circ
 uit : Grand Prix Jeunes</li></ul></li><li><div class="gski-epreuve-date">Le
  dimanche 19 mars 2017</div><ul class="gski-epreuve-liste-infos"><li>Codex 
 épreuve AMVM0772</li><li>Slalom Geant</li><li>Circuit : Grand Prix Jeunes</
 li></ul></li><li><div class="gski-epreuve-date">Le dimanche 19 mars 2017</d
 iv><ul class="gski-epreuve-liste-infos"><li>Codex épreuve AMVF0772</li><li>
 Slalom Geant</li><li>Circuit : Grand Prix Jeunes</li></ul></li></ul></div><
 div class="gskiepreuves-links"><ul><li><a href="https://skivosges.net/index
 .php?option=com_jevents&task=icalevent.detail&evid=764&Itemid=6283">Voir le
 s informations dans l'agenda...</a></li><li><a href="https://skivosges.net/
 index.php?option=com_gskiepreuves&view=afficheresultats&format_option=tous&
 filter[search]=AMVT0770&filter[date_debut]=19-03-2017&filter[date_fin]=19-0
 3-2017&code_activite=ALP&Itemid=6283">Vers les résultats...</a></li></ul></
 div></div"><!-- #/gskiepreuve fin du dode généré par le plugin jevents pour
  GskiEpreuves. . Ne pas modifier cette ligne, ni tout le contenu précedant.
   #/gskiepreuve --> <a href="https://skivosges.net/agenda/export-synchronis
 ation/detailevenement/769/-/gpj-u12-et-u14-grand-prix-bernadette-valroff?tm
 pl=component">Cet évènement a été importé depuis :https://skivosges.net/age
 nda/export-synchronisation/detailevenement/769/-/gpj-u12-et-u14-grand-prix-
 bernadette-valroff?tmpl=component</a>DTSTAMP:20260420T221353
DTSTART;TZID=Europe/Paris;VALUE=DATE:20170319
DTEND;TZID=Europe/Paris;VALUE=DATE:20170320
SEQUENCE:0
TRANSP:OPAQUE
END:VEVENT
END:VCALENDAR