BEGIN:VCALENDAR
VERSION:2.0
PRODID:-//jEvents 2.0 for Joomla//EN
CALSCALE:GREGORIAN
METHOD:PUBLISH
BEGIN:VTIMEZONE
TZID:Europe/Paris
BEGIN:STANDARD
DTSTART:20160325T000000
RDATE:20160327T030000
TZOFFSETFROM:+0200
TZOFFSETTO:+0100
TZNAME:Europe/Paris CET
END:STANDARD
BEGIN:STANDARD
DTSTART:20161030T020000
RDATE:20170326T030000
TZOFFSETFROM:+0200
TZOFFSETTO:+0100
TZNAME:Europe/Paris CET
END:STANDARD
BEGIN:STANDARD
DTSTART:20171029T020000
RDATE:20180325T030000
TZOFFSETFROM:+0200
TZOFFSETTO:+0100
TZNAME:Europe/Paris CET
END:STANDARD
BEGIN:STANDARD
DTSTART:20181028T020000
RDATE:20190331T030000
TZOFFSETFROM:+0200
TZOFFSETTO:+0100
TZNAME:Europe/Paris CET
END:STANDARD
BEGIN:STANDARD
DTSTART:20191027T020000
RDATE:20200329T030000
TZOFFSETFROM:+0200
TZOFFSETTO:+0100
TZNAME:Europe/Paris CET
END:STANDARD
BEGIN:STANDARD
DTSTART:20201025T020000
RDATE:20210328T030000
TZOFFSETFROM:+0200
TZOFFSETTO:+0100
TZNAME:Europe/Paris CET
END:STANDARD
BEGIN:STANDARD
DTSTART:20211031T020000
RDATE:20220327T030000
TZOFFSETFROM:+0200
TZOFFSETTO:+0100
TZNAME:Europe/Paris CET
END:STANDARD
BEGIN:STANDARD
DTSTART:20221030T020000
RDATE:20230326T030000
TZOFFSETFROM:+0200
TZOFFSETTO:+0100
TZNAME:Europe/Paris CET
END:STANDARD
BEGIN:STANDARD
DTSTART:20231029T020000
RDATE:20240331T030000
TZOFFSETFROM:+0200
TZOFFSETTO:+0100
TZNAME:Europe/Paris CET
END:STANDARD
BEGIN:STANDARD
DTSTART:20241027T020000
RDATE:20250330T030000
TZOFFSETFROM:+0200
TZOFFSETTO:+0100
TZNAME:Europe/Paris CET
END:STANDARD
BEGIN:STANDARD
DTSTART:20251026T020000
RDATE:20260329T030000
TZOFFSETFROM:+0200
TZOFFSETTO:+0100
TZNAME:Europe/Paris CET
END:STANDARD
BEGIN:STANDARD
DTSTART:20261025T020000
RDATE:20270328T030000
TZOFFSETFROM:+0200
TZOFFSETTO:+0100
TZNAME:Europe/Paris CET
END:STANDARD
BEGIN:DAYLIGHT
DTSTART:20160327T030000
RDATE:20161030T020000
TZOFFSETFROM:+0100
TZOFFSETTO:+0200
TZNAME:Europe/Paris CEST
END:DAYLIGHT
BEGIN:DAYLIGHT
DTSTART:20170326T030000
RDATE:20171029T020000
TZOFFSETFROM:+0100
TZOFFSETTO:+0200
TZNAME:Europe/Paris CEST
END:DAYLIGHT
BEGIN:DAYLIGHT
DTSTART:20180325T030000
RDATE:20181028T020000
TZOFFSETFROM:+0100
TZOFFSETTO:+0200
TZNAME:Europe/Paris CEST
END:DAYLIGHT
BEGIN:DAYLIGHT
DTSTART:20190331T030000
RDATE:20191027T020000
TZOFFSETFROM:+0100
TZOFFSETTO:+0200
TZNAME:Europe/Paris CEST
END:DAYLIGHT
BEGIN:DAYLIGHT
DTSTART:20200329T030000
RDATE:20201025T020000
TZOFFSETFROM:+0100
TZOFFSETTO:+0200
TZNAME:Europe/Paris CEST
END:DAYLIGHT
BEGIN:DAYLIGHT
DTSTART:20210328T030000
RDATE:20211031T020000
TZOFFSETFROM:+0100
TZOFFSETTO:+0200
TZNAME:Europe/Paris CEST
END:DAYLIGHT
BEGIN:DAYLIGHT
DTSTART:20220327T030000
RDATE:20221030T020000
TZOFFSETFROM:+0100
TZOFFSETTO:+0200
TZNAME:Europe/Paris CEST
END:DAYLIGHT
BEGIN:DAYLIGHT
DTSTART:20230326T030000
RDATE:20231029T020000
TZOFFSETFROM:+0100
TZOFFSETTO:+0200
TZNAME:Europe/Paris CEST
END:DAYLIGHT
BEGIN:DAYLIGHT
DTSTART:20240331T030000
RDATE:20241027T020000
TZOFFSETFROM:+0100
TZOFFSETTO:+0200
TZNAME:Europe/Paris CEST
END:DAYLIGHT
BEGIN:DAYLIGHT
DTSTART:20250330T030000
RDATE:20251026T020000
TZOFFSETFROM:+0100
TZOFFSETTO:+0200
TZNAME:Europe/Paris CEST
END:DAYLIGHT
BEGIN:DAYLIGHT
DTSTART:20260329T030000
RDATE:20261025T020000
TZOFFSETFROM:+0100
TZOFFSETTO:+0200
TZNAME:Europe/Paris CEST
END:DAYLIGHT
END:VTIMEZONE
BEGIN:VEVENT
UID:879c0580ea7b56eace0b026ccd391e19
CATEGORIES:Circuit Massif Adultes (alpin)
CREATED:20161202T134852
SUMMARY:GPA   U16 à Masters GP SCOSEG-SPECK **REPORTE**
URL;VALUE=URI:https://skivosges.net/agenda/export-synchronisation/detailevenement/776/-/g
 pa-u16-a-masters-gp-scoseg-speck-reporte?tmpl=component
DESCRIPTION:<!-- #gskiepreuve code généré par le plugin jevents pour GskiEpreuves. Ne p
 as modifier cette ligne, ni tout le contenu suivant  #gskiepreuve --><div c
 lass="gski-evenement_infos"><div class="gski-evenement-nom">GPA   U16 à Mas
 ters GP SCOSEG-SPECK</div><div class="gski-evenement-report"> <font class="
 gskiattention">(Epreuve reportée, date à determiner)</font></div><ul class=
 "gski-evenement-liste-infos"><li>Codex évenement AMVT0820</li><li>Circuit :
  Grand Prix Adultes</li><li>Lieu : MARKSTEIN</li><li>Station : MARKSTEIN</l
 i><li>COM_GSKIEPREUVES_EPREUVE_PISTEStade de Slalom</li><li>Organisateur : 
 14356 S.C.O.S.E.G. GUEBWILLER</li><li>Courriel : <!-- Cette adresse électro
 nique est protégée contre les robots spammeurs. --><span class="cloaked_ema
 il ep_e5e70261"><span data-ep-a="&#103;e&#110;&#103;" data-ep-b="&#102;&#11
 4;"><span data-ep-b="&#100;oo&#46;" data-ep-a=".c&#108;&#97;"><span data-ep
 -b="wa&#110;&#97;" data-ep-a="ude&#64;"></span></span></span></span><script
 >RegularLabs.EmailProtector.unCloak("ep_e5e70261");</script></li><li>Téléph
 one : 0381997362</li></ul><div class="gski-evenement-infos-2"><div class="g
 ski-evenement-info-inscriptions"><div class="gski-evenement-inscriptions-pe
 riodes">Période d'inscription à l'evènement du dimanche 19 mars 2017 à 01:0
 0 au vendredi 24 mars 2017 à 13:00 <span class="gski-evenement-inscriptions
 -impossibles">(Inscriptions impossibles).</span><div class="gski-evenement-
 inscriptions-types-titres">Le type de titres Fédéraux autorisé n'est pas dé
 fini. Veuillez contacter l'organisateur et lui signaler le problème.</div><
 /div></div><div class="gski-evenement-epreuves"><div class="gski-evenement-
 epreuves-titres">Epreuves :</div><ul class="gski-evenement-epreuves-list"><
 li><div class="gski-epreuve-date">Le dimanche 26 mars 2017</div><ul class="
 gski-epreuve-liste-infos"><li>Codex épreuve AMVM0821</li><li>Slalom</li><li
 >Circuit : Grand Prix Adultes</li></ul></li><li><div class="gski-epreuve-da
 te">Le dimanche 26 mars 2017</div><ul class="gski-epreuve-liste-infos"><li>
 Codex épreuve AMVF0821</li><li>Slalom</li><li>Circuit : Grand Prix Adultes<
 /li></ul></li><li><div class="gski-epreuve-date">Le dimanche 26 mars 2017</
 div><ul class="gski-epreuve-liste-infos"><li>Codex épreuve AMVM0822</li><li
 >Slalom</li><li>Circuit : Grand Prix Adultes</li></ul></li><li><div class="
 gski-epreuve-date">Le dimanche 26 mars 2017</div><ul class="gski-epreuve-li
 ste-infos"><li>Codex épreuve AMVF0822</li><li>Slalom</li><li>Circuit : Gran
 d Prix Adultes</li></ul></li></ul></div><div class="gskiepreuves-links"><ul
 ><li><a href="/index.php?option=com_jevents&task=icalevent.detail&evid=771&
 Itemid=6283">Voir les informations dans l'agenda...</a></li></ul></div></di
 v"><!-- #/gskiepreuve fin du dode généré par le plugin jevents pour GskiEpr
 euves. . Ne pas modifier cette ligne, ni tout le contenu précedant.  #/gski
 epreuve --> <a href="https://skivosges.net/agenda/export-synchronisation/de
 tailevenement/776/-/gpa-u16-a-masters-gp-scoseg-speck-reporte?tmpl=componen
 t">Cet évènement a été importé depuis :https://skivosges.net/agenda/export-
 synchronisation/detailevenement/776/-/gpa-u16-a-masters-gp-scoseg-speck-rep
 orte?tmpl=component</a>
X-ALT-DESC;FMTTYPE=text/html:<!-- #gskiepreuve code généré par le plugin jevents pour GskiEpreuves. Ne p
 as modifier cette ligne, ni tout le contenu suivant  #gskiepreuve --><div c
 lass="gski-evenement_infos"><div class="gski-evenement-nom">GPA   U16 à Mas
 ters GP SCOSEG-SPECK</div><div class="gski-evenement-report"> <font class="
 gskiattention">(Epreuve reportée, date à determiner)</font></div><ul class=
 "gski-evenement-liste-infos"><li>Codex évenement AMVT0820</li><li>Circuit :
  Grand Prix Adultes</li><li>Lieu : MARKSTEIN</li><li>Station : MARKSTEIN</l
 i><li>COM_GSKIEPREUVES_EPREUVE_PISTEStade de Slalom</li><li>Organisateur : 
 14356 S.C.O.S.E.G. GUEBWILLER</li><li>Courriel : <!-- Cette adresse électro
 nique est protégée contre les robots spammeurs. --><span class="cloaked_ema
 il ep_e5e70261"><span data-ep-a="&#103;e&#110;&#103;" data-ep-b="&#102;&#11
 4;"><span data-ep-b="&#100;oo&#46;" data-ep-a=".c&#108;&#97;"><span data-ep
 -b="wa&#110;&#97;" data-ep-a="ude&#64;"></span></span></span></span><script
 >RegularLabs.EmailProtector.unCloak("ep_e5e70261");</script></li><li>Téléph
 one : 0381997362</li></ul><div class="gski-evenement-infos-2"><div class="g
 ski-evenement-info-inscriptions"><div class="gski-evenement-inscriptions-pe
 riodes">Période d'inscription à l'evènement du dimanche 19 mars 2017 à 01:0
 0 au vendredi 24 mars 2017 à 13:00 <span class="gski-evenement-inscriptions
 -impossibles">(Inscriptions impossibles).</span><div class="gski-evenement-
 inscriptions-types-titres">Le type de titres Fédéraux autorisé n'est pas dé
 fini. Veuillez contacter l'organisateur et lui signaler le problème.</div><
 /div></div><div class="gski-evenement-epreuves"><div class="gski-evenement-
 epreuves-titres">Epreuves :</div><ul class="gski-evenement-epreuves-list"><
 li><div class="gski-epreuve-date">Le dimanche 26 mars 2017</div><ul class="
 gski-epreuve-liste-infos"><li>Codex épreuve AMVM0821</li><li>Slalom</li><li
 >Circuit : Grand Prix Adultes</li></ul></li><li><div class="gski-epreuve-da
 te">Le dimanche 26 mars 2017</div><ul class="gski-epreuve-liste-infos"><li>
 Codex épreuve AMVF0821</li><li>Slalom</li><li>Circuit : Grand Prix Adultes<
 /li></ul></li><li><div class="gski-epreuve-date">Le dimanche 26 mars 2017</
 div><ul class="gski-epreuve-liste-infos"><li>Codex épreuve AMVM0822</li><li
 >Slalom</li><li>Circuit : Grand Prix Adultes</li></ul></li><li><div class="
 gski-epreuve-date">Le dimanche 26 mars 2017</div><ul class="gski-epreuve-li
 ste-infos"><li>Codex épreuve AMVF0822</li><li>Slalom</li><li>Circuit : Gran
 d Prix Adultes</li></ul></li></ul></div><div class="gskiepreuves-links"><ul
 ><li><a href="https://skivosges.net/index.php?option=com_jevents&task=icale
 vent.detail&evid=771&Itemid=6283">Voir les informations dans l'agenda...</a
 ></li></ul></div></div"><!-- #/gskiepreuve fin du dode généré par le plugin
  jevents pour GskiEpreuves. . Ne pas modifier cette ligne, ni tout le conte
 nu précedant.  #/gskiepreuve --> <a href="https://skivosges.net/agenda/expo
 rt-synchronisation/detailevenement/776/-/gpa-u16-a-masters-gp-scoseg-speck-
 reporte?tmpl=component">Cet évènement a été importé depuis :https://skivosg
 es.net/agenda/export-synchronisation/detailevenement/776/-/gpa-u16-a-master
 s-gp-scoseg-speck-reporte?tmpl=component</a>DTSTAMP:20260420T184629
DTSTART;TZID=Europe/Paris;VALUE=DATE:20170326
DTEND;TZID=Europe/Paris;VALUE=DATE:20170327
SEQUENCE:0
TRANSP:OPAQUE
END:VEVENT
END:VCALENDAR