BEGIN:VCALENDAR
VERSION:2.0
PRODID:-//jEvents 2.0 for Joomla//EN
CALSCALE:GREGORIAN
METHOD:PUBLISH
BEGIN:VTIMEZONE
TZID:Europe/Paris
BEGIN:STANDARD
DTSTART:20160129T000000
RDATE:20160327T030000
TZOFFSETFROM:+0200
TZOFFSETTO:+0100
TZNAME:Europe/Paris CET
END:STANDARD
BEGIN:STANDARD
DTSTART:20161030T020000
RDATE:20170326T030000
TZOFFSETFROM:+0200
TZOFFSETTO:+0100
TZNAME:Europe/Paris CET
END:STANDARD
BEGIN:STANDARD
DTSTART:20171029T020000
RDATE:20180325T030000
TZOFFSETFROM:+0200
TZOFFSETTO:+0100
TZNAME:Europe/Paris CET
END:STANDARD
BEGIN:STANDARD
DTSTART:20181028T020000
RDATE:20190331T030000
TZOFFSETFROM:+0200
TZOFFSETTO:+0100
TZNAME:Europe/Paris CET
END:STANDARD
BEGIN:STANDARD
DTSTART:20191027T020000
RDATE:20200329T030000
TZOFFSETFROM:+0200
TZOFFSETTO:+0100
TZNAME:Europe/Paris CET
END:STANDARD
BEGIN:STANDARD
DTSTART:20201025T020000
RDATE:20210328T030000
TZOFFSETFROM:+0200
TZOFFSETTO:+0100
TZNAME:Europe/Paris CET
END:STANDARD
BEGIN:STANDARD
DTSTART:20211031T020000
RDATE:20220327T030000
TZOFFSETFROM:+0200
TZOFFSETTO:+0100
TZNAME:Europe/Paris CET
END:STANDARD
BEGIN:STANDARD
DTSTART:20221030T020000
RDATE:20230326T030000
TZOFFSETFROM:+0200
TZOFFSETTO:+0100
TZNAME:Europe/Paris CET
END:STANDARD
BEGIN:STANDARD
DTSTART:20231029T020000
RDATE:20240331T030000
TZOFFSETFROM:+0200
TZOFFSETTO:+0100
TZNAME:Europe/Paris CET
END:STANDARD
BEGIN:STANDARD
DTSTART:20241027T020000
RDATE:20250330T030000
TZOFFSETFROM:+0200
TZOFFSETTO:+0100
TZNAME:Europe/Paris CET
END:STANDARD
BEGIN:STANDARD
DTSTART:20251026T020000
RDATE:20260329T030000
TZOFFSETFROM:+0200
TZOFFSETTO:+0100
TZNAME:Europe/Paris CET
END:STANDARD
BEGIN:STANDARD
DTSTART:20261025T020000
RDATE:20270328T030000
TZOFFSETFROM:+0200
TZOFFSETTO:+0100
TZNAME:Europe/Paris CET
END:STANDARD
BEGIN:DAYLIGHT
DTSTART:20160327T030000
RDATE:20161030T020000
TZOFFSETFROM:+0100
TZOFFSETTO:+0200
TZNAME:Europe/Paris CEST
END:DAYLIGHT
BEGIN:DAYLIGHT
DTSTART:20170326T030000
RDATE:20171029T020000
TZOFFSETFROM:+0100
TZOFFSETTO:+0200
TZNAME:Europe/Paris CEST
END:DAYLIGHT
BEGIN:DAYLIGHT
DTSTART:20180325T030000
RDATE:20181028T020000
TZOFFSETFROM:+0100
TZOFFSETTO:+0200
TZNAME:Europe/Paris CEST
END:DAYLIGHT
BEGIN:DAYLIGHT
DTSTART:20190331T030000
RDATE:20191027T020000
TZOFFSETFROM:+0100
TZOFFSETTO:+0200
TZNAME:Europe/Paris CEST
END:DAYLIGHT
BEGIN:DAYLIGHT
DTSTART:20200329T030000
RDATE:20201025T020000
TZOFFSETFROM:+0100
TZOFFSETTO:+0200
TZNAME:Europe/Paris CEST
END:DAYLIGHT
BEGIN:DAYLIGHT
DTSTART:20210328T030000
RDATE:20211031T020000
TZOFFSETFROM:+0100
TZOFFSETTO:+0200
TZNAME:Europe/Paris CEST
END:DAYLIGHT
BEGIN:DAYLIGHT
DTSTART:20220327T030000
RDATE:20221030T020000
TZOFFSETFROM:+0100
TZOFFSETTO:+0200
TZNAME:Europe/Paris CEST
END:DAYLIGHT
BEGIN:DAYLIGHT
DTSTART:20230326T030000
RDATE:20231029T020000
TZOFFSETFROM:+0100
TZOFFSETTO:+0200
TZNAME:Europe/Paris CEST
END:DAYLIGHT
BEGIN:DAYLIGHT
DTSTART:20240331T030000
RDATE:20241027T020000
TZOFFSETFROM:+0100
TZOFFSETTO:+0200
TZNAME:Europe/Paris CEST
END:DAYLIGHT
BEGIN:DAYLIGHT
DTSTART:20250330T030000
RDATE:20251026T020000
TZOFFSETFROM:+0100
TZOFFSETTO:+0200
TZNAME:Europe/Paris CEST
END:DAYLIGHT
BEGIN:DAYLIGHT
DTSTART:20260329T030000
RDATE:20261025T020000
TZOFFSETFROM:+0100
TZOFFSETTO:+0200
TZNAME:Europe/Paris CEST
END:DAYLIGHT
END:VTIMEZONE
BEGIN:VEVENT
UID:6717a58521f78483d37cecbc08cae985
CATEGORIES:Circuit Massif Adultes (alpin)
CREATED:20170126T193524
SUMMARY:GPA   U16 à Masters
URL;VALUE=URI:https://skivosges.net/agenda/export-synchronisation/detailevenement/795/-/g
 pa-u16-a-masters?tmpl=component
DESCRIPTION:GPA   U16 à Masters\n - Codex évenement AMVT0160\n - Circuit : Grand Prix A
 dultes\n - Lieu : GERARDMER\n - Station : GERARDMER\n - COM_GSKIEPREUVES_EP
 REUVE_PISTESTADE DE SLALOM\n - Organisateur : 14089 GERARDMER SKI ALPIN\n -
  Courriel : RegularLabs.EmailProtector.unCloak("ep_7c8bb857");\n - Téléphon
 e : 03 29 60 98 04\n - Autres informations : DEPART 13H45 SUR LE STADE DE S
 LALOMPériode d'inscription à l'evènement du mercredi 04 janvier 2017 à 01:0
 0 au vendredi 27 janvier 2017 à 18:00 (Inscriptions impossibles).Le type de
  titres Fédéraux autorisé n'est pas défini. Veuillez contacter l'organisate
 ur et lui signaler le problème.\n - Voir les informations dans l'agenda... 
 (/index.php?option=com_jevents&amp;task=icalevent.detail&amp;evid=790&amp;I
 temid=6283)\n - Vers les résultats... (/index.php?option=com_gskiepreuves&a
 mp;view=afficheresultats&amp;format_option=tous&amp;filter[search]=AMVT0160
 &amp;filter[date_debut]=29-01-2017&amp;filter[date_fin]=29-01-2017&amp;code
 _activite=ALP&amp;Itemid=6283) Cet évènement a été importé depuis :https://
 skivosges.net/agenda/export-synchronisation/detailevenement/795/-/gpa-u16-a
 -masters?tmpl=component
X-ALT-DESC;FMTTYPE=text/html:<!-- #gskiepreuve code généré par le plugin jevents pour GskiEpreuves. Ne p
 as modifier cette ligne, ni tout le contenu suivant  #gskiepreuve --><div c
 lass="gski-evenement_infos"><div class="gski-evenement-nom">GPA   U16 à Mas
 ters</div><div class="gski-evenement-report"></div><ul class="gski-evenemen
 t-liste-infos"><li>Codex évenement AMVT0160</li><li>Circuit : Grand Prix Ad
 ultes</li><li>Lieu : GERARDMER</li><li>Station : GERARDMER</li><li>COM_GSKI
 EPREUVES_EPREUVE_PISTESTADE DE SLALOM</li><li>Organisateur : 14089 GERARDME
 R SKI ALPIN</li><li>Courriel : <!-- Cette adresse électronique est protégée
  contre les robots spammeurs. --><span class="cloaked_email ep_7c8bb857"><s
 pan data-ep-b="&#102;&#114;" data-ep-a="as&#103;s&#107;"><span data-ep-b="a
 do&#111;&#46;" data-ep-a="i&#46;ge&#114;"><span data-ep-a="&#97;rdm&#101;" 
 data-ep-b="&#114;&#64;&#119;&#97;n"></span></span></span></span><script>Reg
 ularLabs.EmailProtector.unCloak("ep_7c8bb857");</script></li><li>Téléphone 
 : 03 29 60 98 04</li><li><span class="gski-evenement-obs">Autres informatio
 ns : DEPART 13H45 SUR LE STADE DE SLALOM</span></li></ul><div class="gski-e
 venement-infos-2"><div class="gski-evenement-info-inscriptions"><div class=
 "gski-evenement-inscriptions-periodes">Période d'inscription à l'evènement 
 du mercredi 04 janvier 2017 à 01:00 au vendredi 27 janvier 2017 à 18:00 <sp
 an class="gski-evenement-inscriptions-impossibles">(Inscriptions impossible
 s).</span><div class="gski-evenement-inscriptions-types-titres">Le type de 
 titres Fédéraux autorisé n'est pas défini. Veuillez contacter l'organisateu
 r et lui signaler le problème.</div></div></div><div class="gskiepreuves-li
 nks"><ul><li><a href="https://skivosges.net/index.php?option=com_jevents&ta
 sk=icalevent.detail&evid=790&Itemid=6283">Voir les informations dans l'agen
 da...</a></li><li><a href="https://skivosges.net/index.php?option=com_gskie
 preuves&view=afficheresultats&format_option=tous&filter[search]=AMVT0160&fi
 lter[date_debut]=29-01-2017&filter[date_fin]=29-01-2017&code_activite=ALP&I
 temid=6283">Vers les résultats...</a></li></ul></div></div"><!-- #/gskiepre
 uve fin du dode généré par le plugin jevents pour GskiEpreuves. . Ne pas mo
 difier cette ligne, ni tout le contenu précedant.  #/gskiepreuve --> <a hre
 f="https://skivosges.net/agenda/export-synchronisation/detailevenement/795/
 -/gpa-u16-a-masters?tmpl=component">Cet évènement a été importé depuis :htt
 ps://skivosges.net/agenda/export-synchronisation/detailevenement/795/-/gpa-
 u16-a-masters?tmpl=component</a>DTSTAMP:20260420T183653
DTSTART;TZID=Europe/Paris;VALUE=DATE:20170129
DTEND;TZID=Europe/Paris;VALUE=DATE:20170130
SEQUENCE:0
TRANSP:OPAQUE
END:VEVENT
END:VCALENDAR