BEGIN:VCALENDAR
VERSION:2.0
PRODID:-//jEvents 2.0 for Joomla//EN
CALSCALE:GREGORIAN
METHOD:PUBLISH
BEGIN:VTIMEZONE
TZID:Europe/Paris
BEGIN:STANDARD
DTSTART:20160117T000000
RDATE:20160327T030000
TZOFFSETFROM:+0200
TZOFFSETTO:+0100
TZNAME:Europe/Paris CET
END:STANDARD
BEGIN:STANDARD
DTSTART:20161030T020000
RDATE:20170326T030000
TZOFFSETFROM:+0200
TZOFFSETTO:+0100
TZNAME:Europe/Paris CET
END:STANDARD
BEGIN:STANDARD
DTSTART:20171029T020000
RDATE:20180325T030000
TZOFFSETFROM:+0200
TZOFFSETTO:+0100
TZNAME:Europe/Paris CET
END:STANDARD
BEGIN:STANDARD
DTSTART:20181028T020000
RDATE:20190331T030000
TZOFFSETFROM:+0200
TZOFFSETTO:+0100
TZNAME:Europe/Paris CET
END:STANDARD
BEGIN:STANDARD
DTSTART:20191027T020000
RDATE:20200329T030000
TZOFFSETFROM:+0200
TZOFFSETTO:+0100
TZNAME:Europe/Paris CET
END:STANDARD
BEGIN:STANDARD
DTSTART:20201025T020000
RDATE:20210328T030000
TZOFFSETFROM:+0200
TZOFFSETTO:+0100
TZNAME:Europe/Paris CET
END:STANDARD
BEGIN:STANDARD
DTSTART:20211031T020000
RDATE:20220327T030000
TZOFFSETFROM:+0200
TZOFFSETTO:+0100
TZNAME:Europe/Paris CET
END:STANDARD
BEGIN:STANDARD
DTSTART:20221030T020000
RDATE:20230326T030000
TZOFFSETFROM:+0200
TZOFFSETTO:+0100
TZNAME:Europe/Paris CET
END:STANDARD
BEGIN:STANDARD
DTSTART:20231029T020000
RDATE:20240331T030000
TZOFFSETFROM:+0200
TZOFFSETTO:+0100
TZNAME:Europe/Paris CET
END:STANDARD
BEGIN:STANDARD
DTSTART:20241027T020000
RDATE:20250330T030000
TZOFFSETFROM:+0200
TZOFFSETTO:+0100
TZNAME:Europe/Paris CET
END:STANDARD
BEGIN:STANDARD
DTSTART:20251026T020000
RDATE:20260329T030000
TZOFFSETFROM:+0200
TZOFFSETTO:+0100
TZNAME:Europe/Paris CET
END:STANDARD
BEGIN:STANDARD
DTSTART:20261025T020000
RDATE:20270328T030000
TZOFFSETFROM:+0200
TZOFFSETTO:+0100
TZNAME:Europe/Paris CET
END:STANDARD
BEGIN:DAYLIGHT
DTSTART:20160327T030000
RDATE:20161030T020000
TZOFFSETFROM:+0100
TZOFFSETTO:+0200
TZNAME:Europe/Paris CEST
END:DAYLIGHT
BEGIN:DAYLIGHT
DTSTART:20170326T030000
RDATE:20171029T020000
TZOFFSETFROM:+0100
TZOFFSETTO:+0200
TZNAME:Europe/Paris CEST
END:DAYLIGHT
BEGIN:DAYLIGHT
DTSTART:20180325T030000
RDATE:20181028T020000
TZOFFSETFROM:+0100
TZOFFSETTO:+0200
TZNAME:Europe/Paris CEST
END:DAYLIGHT
BEGIN:DAYLIGHT
DTSTART:20190331T030000
RDATE:20191027T020000
TZOFFSETFROM:+0100
TZOFFSETTO:+0200
TZNAME:Europe/Paris CEST
END:DAYLIGHT
BEGIN:DAYLIGHT
DTSTART:20200329T030000
RDATE:20201025T020000
TZOFFSETFROM:+0100
TZOFFSETTO:+0200
TZNAME:Europe/Paris CEST
END:DAYLIGHT
BEGIN:DAYLIGHT
DTSTART:20210328T030000
RDATE:20211031T020000
TZOFFSETFROM:+0100
TZOFFSETTO:+0200
TZNAME:Europe/Paris CEST
END:DAYLIGHT
BEGIN:DAYLIGHT
DTSTART:20220327T030000
RDATE:20221030T020000
TZOFFSETFROM:+0100
TZOFFSETTO:+0200
TZNAME:Europe/Paris CEST
END:DAYLIGHT
BEGIN:DAYLIGHT
DTSTART:20230326T030000
RDATE:20231029T020000
TZOFFSETFROM:+0100
TZOFFSETTO:+0200
TZNAME:Europe/Paris CEST
END:DAYLIGHT
BEGIN:DAYLIGHT
DTSTART:20240331T030000
RDATE:20241027T020000
TZOFFSETFROM:+0100
TZOFFSETTO:+0200
TZNAME:Europe/Paris CEST
END:DAYLIGHT
BEGIN:DAYLIGHT
DTSTART:20250330T030000
RDATE:20251026T020000
TZOFFSETFROM:+0100
TZOFFSETTO:+0200
TZNAME:Europe/Paris CEST
END:DAYLIGHT
BEGIN:DAYLIGHT
DTSTART:20260329T030000
RDATE:20261025T020000
TZOFFSETFROM:+0100
TZOFFSETTO:+0200
TZNAME:Europe/Paris CEST
END:DAYLIGHT
END:VTIMEZONE
BEGIN:VEVENT
UID:a86886bc5cef45223a1b216c35a3a3a9
CATEGORIES:Compétition Ski Alpin
CREATED:20170126T194229
SUMMARY:UGSEL Lorraine
URL;VALUE=URI:https://skivosges.net/agenda/export-synchronisation/detailevenement/796/-/u
 gsel-lorraine?tmpl=component
DESCRIPTION:UGSEL Lorraine\n - Codex évenement AMVT0220\n - Lieu : GERARDMER\n - Statio
 n : GERARDMER\n - Organisateur : 14089 GERARDMER SKI ALPIN\n - Courriel : R
 egularLabs.EmailProtector.unCloak("ep_958b9b91");\n - Téléphone : 03 29 60 
 98 04Période d'inscription à l'evènement du mardi 10 janvier 2017 à 01:00 a
 u dimanche 15 janvier 2017 à 13:00 (Inscriptions impossibles).Le type de ti
 tres Fédéraux autorisé n'est pas défini. Veuillez contacter l'organisateur 
 et lui signaler le problème.Epreuves :\n - Le mardi 17 janvier 2017\n - Cod
 ex épreuve AMVM0221\n - Slalom Geant\n - Le mardi 17 janvier 2017\n - Codex
  épreuve AMVF0221\n - Slalom Geant\n - Voir les informations dans l'agenda.
 .. (/index.php?option=com_jevents&amp;task=icalevent.detail&amp;evid=791&am
 p;Itemid=6283)\n - Vers les résultats... (/index.php?option=com_gskiepreuve
 s&amp;view=afficheresultats&amp;format_option=tous&amp;filter[search]=AMVT0
 220&amp;filter[date_debut]=14-01-2017&amp;filter[date_fin]=14-01-2017&amp;c
 ode_activite=ALP&amp;Itemid=6283) Cet évènement a été importé depuis :https
 ://skivosges.net/agenda/export-synchronisation/detailevenement/796/-/ugsel-
 lorraine?tmpl=component (https://skivosges.net/agenda/export-synchronisatio
 n/detailevenement/796/-/ugsel-lorraine?tmpl=component)
X-ALT-DESC;FMTTYPE=text/html:<!-- #gskiepreuve code généré par le plugin jevents pour GskiEpreuves. Ne p
 as modifier cette ligne, ni tout le contenu suivant  #gskiepreuve --><div c
 lass="gski-evenement_infos"><div class="gski-evenement-nom">UGSEL Lorraine<
 /div><div class="gski-evenement-report"></div><ul class="gski-evenement-lis
 te-infos"><li>Codex évenement AMVT0220</li><li>Lieu : GERARDMER</li><li>Sta
 tion : GERARDMER</li><li>Organisateur : 14089 GERARDMER SKI ALPIN</li><li>C
 ourriel : <!-- Cette adresse électronique est protégée contre les robots sp
 ammeurs. --><span class="cloaked_email ep_958b9b91"><span data-ep-b="&#102;
 &#114;" data-ep-a="a&#115;&#103;&#115;&#107;"><span data-ep-a="&#105;&#46;&
 #103;&#101;&#114;" data-ep-b="&#97;&#100;oo&#46;"><span data-ep-a="ar&#100;
 &#109;&#101;" data-ep-b="&#114;&#64;w&#97;&#110;"></span></span></span></sp
 an><script>RegularLabs.EmailProtector.unCloak("ep_958b9b91");</script></li>
 <li>Téléphone : 03 29 60 98 04</li></ul><div class="gski-evenement-infos-2"
 ><div class="gski-evenement-info-inscriptions"><div class="gski-evenement-i
 nscriptions-periodes">Période d'inscription à l'evènement du mardi 10 janvi
 er 2017 à 01:00 au dimanche 15 janvier 2017 à 13:00 <span class="gski-evene
 ment-inscriptions-impossibles">(Inscriptions impossibles).</span><div class
 ="gski-evenement-inscriptions-types-titres">Le type de titres Fédéraux auto
 risé n'est pas défini. Veuillez contacter l'organisateur et lui signaler le
  problème.</div></div></div><div class="gski-evenement-epreuves"><div class
 ="gski-evenement-epreuves-titres">Epreuves :</div><ul class="gski-evenement
 -epreuves-list"><li><div class="gski-epreuve-date">Le mardi 17 janvier 2017
 </div><ul class="gski-epreuve-liste-infos"><li>Codex épreuve AMVM0221</li><
 li>Slalom Geant</li></ul></li><li><div class="gski-epreuve-date">Le mardi 1
 7 janvier 2017</div><ul class="gski-epreuve-liste-infos"><li>Codex épreuve 
 AMVF0221</li><li>Slalom Geant</li></ul></li></ul></div><div class="gskiepre
 uves-links"><ul><li><a href="https://skivosges.net/index.php?option=com_jev
 ents&task=icalevent.detail&evid=791&Itemid=6283">Voir les informations dans
  l'agenda...</a></li><li><a href="https://skivosges.net/index.php?option=co
 m_gskiepreuves&view=afficheresultats&format_option=tous&filter[search]=AMVT
 0220&filter[date_debut]=14-01-2017&filter[date_fin]=14-01-2017&code_activit
 e=ALP&Itemid=6283">Vers les résultats...</a></li></ul></div></div"><!-- #/g
 skiepreuve fin du dode généré par le plugin jevents pour GskiEpreuves. . Ne
  pas modifier cette ligne, ni tout le contenu précedant.  #/gskiepreuve -->
  <a href="https://skivosges.net/agenda/export-synchronisation/detaileveneme
 nt/796/-/ugsel-lorraine?tmpl=component">Cet évènement a été importé depuis 
 :https://skivosges.net/agenda/export-synchronisation/detailevenement/796/-/
 ugsel-lorraine?tmpl=component</a>DTSTAMP:20260420T183839
DTSTART;TZID=Europe/Paris;VALUE=DATE:20170117
DTEND;TZID=Europe/Paris;VALUE=DATE:20170118
SEQUENCE:0
TRANSP:OPAQUE
END:VEVENT
END:VCALENDAR