BEGIN:VCALENDAR
VERSION:2.0
PRODID:-//jEvents 2.0 for Joomla//EN
CALSCALE:GREGORIAN
METHOD:PUBLISH
BEGIN:VTIMEZONE
TZID:Europe/Paris
BEGIN:STANDARD
DTSTART:20160211T000000
RDATE:20160327T030000
TZOFFSETFROM:+0200
TZOFFSETTO:+0100
TZNAME:Europe/Paris CET
END:STANDARD
BEGIN:STANDARD
DTSTART:20161030T020000
RDATE:20170326T030000
TZOFFSETFROM:+0200
TZOFFSETTO:+0100
TZNAME:Europe/Paris CET
END:STANDARD
BEGIN:STANDARD
DTSTART:20171029T020000
RDATE:20180325T030000
TZOFFSETFROM:+0200
TZOFFSETTO:+0100
TZNAME:Europe/Paris CET
END:STANDARD
BEGIN:STANDARD
DTSTART:20181028T020000
RDATE:20190331T030000
TZOFFSETFROM:+0200
TZOFFSETTO:+0100
TZNAME:Europe/Paris CET
END:STANDARD
BEGIN:STANDARD
DTSTART:20191027T020000
RDATE:20200329T030000
TZOFFSETFROM:+0200
TZOFFSETTO:+0100
TZNAME:Europe/Paris CET
END:STANDARD
BEGIN:STANDARD
DTSTART:20201025T020000
RDATE:20210328T030000
TZOFFSETFROM:+0200
TZOFFSETTO:+0100
TZNAME:Europe/Paris CET
END:STANDARD
BEGIN:STANDARD
DTSTART:20211031T020000
RDATE:20220327T030000
TZOFFSETFROM:+0200
TZOFFSETTO:+0100
TZNAME:Europe/Paris CET
END:STANDARD
BEGIN:STANDARD
DTSTART:20221030T020000
RDATE:20230326T030000
TZOFFSETFROM:+0200
TZOFFSETTO:+0100
TZNAME:Europe/Paris CET
END:STANDARD
BEGIN:STANDARD
DTSTART:20231029T020000
RDATE:20240331T030000
TZOFFSETFROM:+0200
TZOFFSETTO:+0100
TZNAME:Europe/Paris CET
END:STANDARD
BEGIN:STANDARD
DTSTART:20241027T020000
RDATE:20250330T030000
TZOFFSETFROM:+0200
TZOFFSETTO:+0100
TZNAME:Europe/Paris CET
END:STANDARD
BEGIN:STANDARD
DTSTART:20251026T020000
RDATE:20260329T030000
TZOFFSETFROM:+0200
TZOFFSETTO:+0100
TZNAME:Europe/Paris CET
END:STANDARD
BEGIN:STANDARD
DTSTART:20261025T020000
RDATE:20270328T030000
TZOFFSETFROM:+0200
TZOFFSETTO:+0100
TZNAME:Europe/Paris CET
END:STANDARD
BEGIN:DAYLIGHT
DTSTART:20160327T030000
RDATE:20161030T020000
TZOFFSETFROM:+0100
TZOFFSETTO:+0200
TZNAME:Europe/Paris CEST
END:DAYLIGHT
BEGIN:DAYLIGHT
DTSTART:20170326T030000
RDATE:20171029T020000
TZOFFSETFROM:+0100
TZOFFSETTO:+0200
TZNAME:Europe/Paris CEST
END:DAYLIGHT
BEGIN:DAYLIGHT
DTSTART:20180325T030000
RDATE:20181028T020000
TZOFFSETFROM:+0100
TZOFFSETTO:+0200
TZNAME:Europe/Paris CEST
END:DAYLIGHT
BEGIN:DAYLIGHT
DTSTART:20190331T030000
RDATE:20191027T020000
TZOFFSETFROM:+0100
TZOFFSETTO:+0200
TZNAME:Europe/Paris CEST
END:DAYLIGHT
BEGIN:DAYLIGHT
DTSTART:20200329T030000
RDATE:20201025T020000
TZOFFSETFROM:+0100
TZOFFSETTO:+0200
TZNAME:Europe/Paris CEST
END:DAYLIGHT
BEGIN:DAYLIGHT
DTSTART:20210328T030000
RDATE:20211031T020000
TZOFFSETFROM:+0100
TZOFFSETTO:+0200
TZNAME:Europe/Paris CEST
END:DAYLIGHT
BEGIN:DAYLIGHT
DTSTART:20220327T030000
RDATE:20221030T020000
TZOFFSETFROM:+0100
TZOFFSETTO:+0200
TZNAME:Europe/Paris CEST
END:DAYLIGHT
BEGIN:DAYLIGHT
DTSTART:20230326T030000
RDATE:20231029T020000
TZOFFSETFROM:+0100
TZOFFSETTO:+0200
TZNAME:Europe/Paris CEST
END:DAYLIGHT
BEGIN:DAYLIGHT
DTSTART:20240331T030000
RDATE:20241027T020000
TZOFFSETFROM:+0100
TZOFFSETTO:+0200
TZNAME:Europe/Paris CEST
END:DAYLIGHT
BEGIN:DAYLIGHT
DTSTART:20250330T030000
RDATE:20251026T020000
TZOFFSETFROM:+0100
TZOFFSETTO:+0200
TZNAME:Europe/Paris CEST
END:DAYLIGHT
BEGIN:DAYLIGHT
DTSTART:20260329T030000
RDATE:20261025T020000
TZOFFSETFROM:+0100
TZOFFSETTO:+0200
TZNAME:Europe/Paris CEST
END:DAYLIGHT
END:VTIMEZONE
BEGIN:VEVENT
UID:2b831fb82e80c9eaaae0b32d209d50fb
CATEGORIES:Circuit Alsace Jeunes (alpin)
CREATED:20170207T212057
SUMMARY:CAJ Coupe du Lac Blanc U8 / U14
URL;VALUE=URI:https://skivosges.net/agenda/export-synchronisation/detailevenement/800/-/c
 aj-coupe-du-lac-blanc-u8-u14?tmpl=component
DESCRIPTION:<!-- #gskiepreuve code généré par le plugin jevents pour GskiEpreuves. Ne p
 as modifier cette ligne, ni tout le contenu suivant  #gskiepreuve --><div c
 lass="gski-evenement_infos"><div class="gski-evenement-nom">CAJ Coupe du La
 c Blanc U8 / U14</div><div class="gski-evenement-report"></div><ul class="g
 ski-evenement-liste-infos"><li>Codex évenement AMVT0170</li><li>Circuit : C
 oupe d'Alsace Jeunes</li><li>Lieu : LAC BLANC</li><li>Station : MARKSTEIN</
 li><li>COM_GSKIEPREUVES_EPREUVE_PISTEStade</li><li>Organisateur : 14081 SKI
  CLUB ROSSBERG</li><li>Courriel : <!-- Cette adresse électronique est proté
 gée contre les robots spammeurs. --><span class="cloaked_email ep_146fe4aa"
 ><span data-ep-a="co&#117;&#114;" data-ep-b=""><span data-ep-b="&#46;&#99;o
 &#109;" data-ep-a="&#115;&#101;&#115;&#64;"><span data-ep-b="nsk&#105;" dat
 a-ep-a="t&#104;&#97;&#110;"></span></span></span></span><script>RegularLabs
 .EmailProtector.unCloak("ep_146fe4aa");</script></li><li>Téléphone :  06 89
  79 38 39</li><li><span class="gski-evenement-obs">Autres informations : GE
 ANT 1er  d&eacute;part 9h30 &lt;br&gt;Condition Tarif Forfait :&lt;br&gt;Le
 s comp&eacute;titeurs et les encadrants b&eacute;n&eacute;ficient d&rsquo;u
 ne remise de 10% sur le tarif du jour, en fonction de leur cat&eacute;gorie
  (enfant, &eacute;tudiant, adulte), &agrave; condition  :&lt;br&gt;- de se 
 pr&eacute;senter &agrave; la caisse avec le dossard du comp&eacute;titeur,&
 lt;br&gt;- que le forfait de l&rsquo;accompagnant soit achet&eacute; en m&e
 circ;me temps que celui du comp&eacute;titeur,</span></li></ul><div class="
 gski-evenement-infos-2"><div class="gski-evenement-info-inscriptions"><div 
 class="gski-evenement-inscriptions-periodes">Période d'inscription à l'evèn
 ement du mercredi 08 février 2017 à 01:00 au vendredi 10 février 2017 à 15:
 30 <span class="gski-evenement-inscriptions-impossibles">(Inscriptions impo
 ssibles).</span><div class="gski-evenement-inscriptions-types-titres">Le ty
 pe de titres Fédéraux autorisé n'est pas défini. Veuillez contacter l'organ
 isateur et lui signaler le problème.</div></div></div><div class="gskiepreu
 ves-links"><ul><li><a href="/index.php?option=com_jevents&task=icalevent.de
 tail&evid=795&Itemid=6283">Voir les informations dans l'agenda...</a></li><
 li><a href="/index.php?option=com_gskiepreuves&view=afficheresultats&format
 _option=tous&filter[search]=AMVT0170&filter[date_debut]=11-02-2017&filter[d
 ate_fin]=11-02-2017&code_activite=ALP&Itemid=6283">Vers les résultats...</a
 ></li></ul></div></div"><!-- #/gskiepreuve fin du dode généré par le plugin
  jevents pour GskiEpreuves. . Ne pas modifier cette ligne, ni tout le conte
 nu précedant.  #/gskiepreuve --> <a href="https://skivosges.net/agenda/expo
 rt-synchronisation/detailevenement/800/-/caj-coupe-du-lac-blanc-u8-u14?tmpl
 =component">Cet évènement a été importé depuis :https://skivosges.net/agend
 a/export-synchronisation/detailevenement/800/-/caj-coupe-du-lac-blanc-u8-u1
 4?tmpl=component</a>
X-ALT-DESC;FMTTYPE=text/html:<!-- #gskiepreuve code généré par le plugin jevents pour GskiEpreuves. Ne p
 as modifier cette ligne, ni tout le contenu suivant  #gskiepreuve --><div c
 lass="gski-evenement_infos"><div class="gski-evenement-nom">CAJ Coupe du La
 c Blanc U8 / U14</div><div class="gski-evenement-report"></div><ul class="g
 ski-evenement-liste-infos"><li>Codex évenement AMVT0170</li><li>Circuit : C
 oupe d'Alsace Jeunes</li><li>Lieu : LAC BLANC</li><li>Station : MARKSTEIN</
 li><li>COM_GSKIEPREUVES_EPREUVE_PISTEStade</li><li>Organisateur : 14081 SKI
  CLUB ROSSBERG</li><li>Courriel : <!-- Cette adresse électronique est proté
 gée contre les robots spammeurs. --><span class="cloaked_email ep_146fe4aa"
 ><span data-ep-a="co&#117;&#114;" data-ep-b=""><span data-ep-b="&#46;&#99;o
 &#109;" data-ep-a="&#115;&#101;&#115;&#64;"><span data-ep-b="nsk&#105;" dat
 a-ep-a="t&#104;&#97;&#110;"></span></span></span></span><script>RegularLabs
 .EmailProtector.unCloak("ep_146fe4aa");</script></li><li>Téléphone :  06 89
  79 38 39</li><li><span class="gski-evenement-obs">Autres informations : GE
 ANT 1er  d&eacute;part 9h30 &lt;br&gt;Condition Tarif Forfait :&lt;br&gt;Le
 s comp&eacute;titeurs et les encadrants b&eacute;n&eacute;ficient d&rsquo;u
 ne remise de 10% sur le tarif du jour, en fonction de leur cat&eacute;gorie
  (enfant, &eacute;tudiant, adulte), &agrave; condition  :&lt;br&gt;- de se 
 pr&eacute;senter &agrave; la caisse avec le dossard du comp&eacute;titeur,&
 lt;br&gt;- que le forfait de l&rsquo;accompagnant soit achet&eacute; en m&e
 circ;me temps que celui du comp&eacute;titeur,</span></li></ul><div class="
 gski-evenement-infos-2"><div class="gski-evenement-info-inscriptions"><div 
 class="gski-evenement-inscriptions-periodes">Période d'inscription à l'evèn
 ement du mercredi 08 février 2017 à 01:00 au vendredi 10 février 2017 à 15:
 30 <span class="gski-evenement-inscriptions-impossibles">(Inscriptions impo
 ssibles).</span><div class="gski-evenement-inscriptions-types-titres">Le ty
 pe de titres Fédéraux autorisé n'est pas défini. Veuillez contacter l'organ
 isateur et lui signaler le problème.</div></div></div><div class="gskiepreu
 ves-links"><ul><li><a href="https://skivosges.net/index.php?option=com_jeve
 nts&task=icalevent.detail&evid=795&Itemid=6283">Voir les informations dans 
 l'agenda...</a></li><li><a href="https://skivosges.net/index.php?option=com
 _gskiepreuves&view=afficheresultats&format_option=tous&filter[search]=AMVT0
 170&filter[date_debut]=11-02-2017&filter[date_fin]=11-02-2017&code_activite
 =ALP&Itemid=6283">Vers les résultats...</a></li></ul></div></div"><!-- #/gs
 kiepreuve fin du dode généré par le plugin jevents pour GskiEpreuves. . Ne 
 pas modifier cette ligne, ni tout le contenu précedant.  #/gskiepreuve --> 
 <a href="https://skivosges.net/agenda/export-synchronisation/detailevenemen
 t/800/-/caj-coupe-du-lac-blanc-u8-u14?tmpl=component">Cet évènement a été i
 mporté depuis :https://skivosges.net/agenda/export-synchronisation/detailev
 enement/800/-/caj-coupe-du-lac-blanc-u8-u14?tmpl=component</a>DTSTAMP:20260421T051215
DTSTART;TZID=Europe/Paris;VALUE=DATE:20170211
DTEND;TZID=Europe/Paris;VALUE=DATE:20170212
SEQUENCE:0
TRANSP:OPAQUE
END:VEVENT
END:VCALENDAR