BEGIN:VCALENDAR
VERSION:2.0
PRODID:-//jEvents 2.0 for Joomla//EN
CALSCALE:GREGORIAN
METHOD:PUBLISH
BEGIN:VTIMEZONE
TZID:Europe/Paris
BEGIN:STANDARD
DTSTART:20160212T000000
RDATE:20160327T030000
TZOFFSETFROM:+0200
TZOFFSETTO:+0100
TZNAME:Europe/Paris CET
END:STANDARD
BEGIN:STANDARD
DTSTART:20161030T020000
RDATE:20170326T030000
TZOFFSETFROM:+0200
TZOFFSETTO:+0100
TZNAME:Europe/Paris CET
END:STANDARD
BEGIN:STANDARD
DTSTART:20171029T020000
RDATE:20180325T030000
TZOFFSETFROM:+0200
TZOFFSETTO:+0100
TZNAME:Europe/Paris CET
END:STANDARD
BEGIN:STANDARD
DTSTART:20181028T020000
RDATE:20190331T030000
TZOFFSETFROM:+0200
TZOFFSETTO:+0100
TZNAME:Europe/Paris CET
END:STANDARD
BEGIN:STANDARD
DTSTART:20191027T020000
RDATE:20200329T030000
TZOFFSETFROM:+0200
TZOFFSETTO:+0100
TZNAME:Europe/Paris CET
END:STANDARD
BEGIN:STANDARD
DTSTART:20201025T020000
RDATE:20210328T030000
TZOFFSETFROM:+0200
TZOFFSETTO:+0100
TZNAME:Europe/Paris CET
END:STANDARD
BEGIN:STANDARD
DTSTART:20211031T020000
RDATE:20220327T030000
TZOFFSETFROM:+0200
TZOFFSETTO:+0100
TZNAME:Europe/Paris CET
END:STANDARD
BEGIN:STANDARD
DTSTART:20221030T020000
RDATE:20230326T030000
TZOFFSETFROM:+0200
TZOFFSETTO:+0100
TZNAME:Europe/Paris CET
END:STANDARD
BEGIN:STANDARD
DTSTART:20231029T020000
RDATE:20240331T030000
TZOFFSETFROM:+0200
TZOFFSETTO:+0100
TZNAME:Europe/Paris CET
END:STANDARD
BEGIN:STANDARD
DTSTART:20241027T020000
RDATE:20250330T030000
TZOFFSETFROM:+0200
TZOFFSETTO:+0100
TZNAME:Europe/Paris CET
END:STANDARD
BEGIN:STANDARD
DTSTART:20251026T020000
RDATE:20260329T030000
TZOFFSETFROM:+0200
TZOFFSETTO:+0100
TZNAME:Europe/Paris CET
END:STANDARD
BEGIN:STANDARD
DTSTART:20261025T020000
RDATE:20270328T030000
TZOFFSETFROM:+0200
TZOFFSETTO:+0100
TZNAME:Europe/Paris CET
END:STANDARD
BEGIN:DAYLIGHT
DTSTART:20160327T030000
RDATE:20161030T020000
TZOFFSETFROM:+0100
TZOFFSETTO:+0200
TZNAME:Europe/Paris CEST
END:DAYLIGHT
BEGIN:DAYLIGHT
DTSTART:20170326T030000
RDATE:20171029T020000
TZOFFSETFROM:+0100
TZOFFSETTO:+0200
TZNAME:Europe/Paris CEST
END:DAYLIGHT
BEGIN:DAYLIGHT
DTSTART:20180325T030000
RDATE:20181028T020000
TZOFFSETFROM:+0100
TZOFFSETTO:+0200
TZNAME:Europe/Paris CEST
END:DAYLIGHT
BEGIN:DAYLIGHT
DTSTART:20190331T030000
RDATE:20191027T020000
TZOFFSETFROM:+0100
TZOFFSETTO:+0200
TZNAME:Europe/Paris CEST
END:DAYLIGHT
BEGIN:DAYLIGHT
DTSTART:20200329T030000
RDATE:20201025T020000
TZOFFSETFROM:+0100
TZOFFSETTO:+0200
TZNAME:Europe/Paris CEST
END:DAYLIGHT
BEGIN:DAYLIGHT
DTSTART:20210328T030000
RDATE:20211031T020000
TZOFFSETFROM:+0100
TZOFFSETTO:+0200
TZNAME:Europe/Paris CEST
END:DAYLIGHT
BEGIN:DAYLIGHT
DTSTART:20220327T030000
RDATE:20221030T020000
TZOFFSETFROM:+0100
TZOFFSETTO:+0200
TZNAME:Europe/Paris CEST
END:DAYLIGHT
BEGIN:DAYLIGHT
DTSTART:20230326T030000
RDATE:20231029T020000
TZOFFSETFROM:+0100
TZOFFSETTO:+0200
TZNAME:Europe/Paris CEST
END:DAYLIGHT
BEGIN:DAYLIGHT
DTSTART:20240331T030000
RDATE:20241027T020000
TZOFFSETFROM:+0100
TZOFFSETTO:+0200
TZNAME:Europe/Paris CEST
END:DAYLIGHT
BEGIN:DAYLIGHT
DTSTART:20250330T030000
RDATE:20251026T020000
TZOFFSETFROM:+0100
TZOFFSETTO:+0200
TZNAME:Europe/Paris CEST
END:DAYLIGHT
BEGIN:DAYLIGHT
DTSTART:20260329T030000
RDATE:20261025T020000
TZOFFSETFROM:+0100
TZOFFSETTO:+0200
TZNAME:Europe/Paris CEST
END:DAYLIGHT
END:VTIMEZONE
BEGIN:VEVENT
UID:0a65b584d389a1f00c87a25f04e8ca47
CATEGORIES:Circuit Alsace Jeunes (alpin)
CREATED:20170207T212057
SUMMARY:CAJ Coupe de bronze et micro Coupe
URL;VALUE=URI:https://skivosges.net/agenda/export-synchronisation/detailevenement/801/-/c
 aj-coupe-de-bronze-et-micro-coupe?tmpl=component
DESCRIPTION:<!-- #gskiepreuve code généré par le plugin jevents pour GskiEpreuves. Ne p
 as modifier cette ligne, ni tout le contenu suivant  #gskiepreuve --><div c
 lass="gski-evenement_infos"><div class="gski-evenement-nom">CAJ Coupe de br
 onze et micro Coupe</div><div class="gski-evenement-report"></div><ul class
 ="gski-evenement-liste-infos"><li>Codex évenement AMVT0110</li><li>Circuit 
 : Coupe d'Alsace Jeunes</li><li>Lieu : MARKSTEIN</li><li>Station : MARKSTEI
 N</li><li>Organisateur : 14231 SKI CLUB SAUSHEIM</li><li>Courriel : <!-- Ce
 tte adresse électronique est protégée contre les robots spammeurs. --><span
  class="cloaked_email ep_4f93b368"><span data-ep-a="b&#46;&#104;&#97;" data
 -ep-b=""><span data-ep-a="&#98;&#101;&#114;&#101;" data-ep-b="&#111;&#46;&#
 102;&#114;"><span data-ep-a="&#114;&#64;&#119;&#97;" data-ep-b="&#110;&#97;
 &#100;o"></span></span></span></span><script>RegularLabs.EmailProtector.unC
 loak("ep_4f93b368");</script></li><li>Téléphone :  </li></ul><div class="gs
 ki-evenement-infos-2"><div class="gski-evenement-info-inscriptions"><div cl
 ass="gski-evenement-inscriptions-periodes">Période d'inscription à l'evènem
 ent du mardi 07 février 2017 à 01:00 au vendredi 10 février 2017 à 22:00 <s
 pan class="gski-evenement-inscriptions-impossibles">(Inscriptions impossibl
 es).</span><div class="gski-evenement-inscriptions-types-titres">Le type de
  titres Fédéraux autorisé n'est pas défini. Veuillez contacter l'organisate
 ur et lui signaler le problème.</div></div></div><div class="gskiepreuves-l
 inks"><ul><li><a href="/index.php?option=com_jevents&task=icalevent.detail&
 evid=796&Itemid=6283">Voir les informations dans l'agenda...</a></li><li><a
  href="/index.php?option=com_gskiepreuves&view=afficheresultats&format_opti
 on=tous&filter[search]=AMVT0110&filter[date_debut]=12-02-2017&filter[date_f
 in]=12-02-2017&code_activite=ALP&Itemid=6283">Vers les résultats...</a></li
 ></ul></div></div"><!-- #/gskiepreuve fin du dode généré par le plugin jeve
 nts pour GskiEpreuves. . Ne pas modifier cette ligne, ni tout le contenu pr
 écedant.  #/gskiepreuve --> <a href="https://skivosges.net/agenda/export-sy
 nchronisation/detailevenement/801/-/caj-coupe-de-bronze-et-micro-coupe?tmpl
 =component">Cet évènement a été importé depuis :https://skivosges.net/agend
 a/export-synchronisation/detailevenement/801/-/caj-coupe-de-bronze-et-micro
 -coupe?tmpl=component</a>
X-ALT-DESC;FMTTYPE=text/html:<!-- #gskiepreuve code généré par le plugin jevents pour GskiEpreuves. Ne p
 as modifier cette ligne, ni tout le contenu suivant  #gskiepreuve --><div c
 lass="gski-evenement_infos"><div class="gski-evenement-nom">CAJ Coupe de br
 onze et micro Coupe</div><div class="gski-evenement-report"></div><ul class
 ="gski-evenement-liste-infos"><li>Codex évenement AMVT0110</li><li>Circuit 
 : Coupe d'Alsace Jeunes</li><li>Lieu : MARKSTEIN</li><li>Station : MARKSTEI
 N</li><li>Organisateur : 14231 SKI CLUB SAUSHEIM</li><li>Courriel : <!-- Ce
 tte adresse électronique est protégée contre les robots spammeurs. --><span
  class="cloaked_email ep_4f93b368"><span data-ep-a="b&#46;&#104;&#97;" data
 -ep-b=""><span data-ep-a="&#98;&#101;&#114;&#101;" data-ep-b="&#111;&#46;&#
 102;&#114;"><span data-ep-a="&#114;&#64;&#119;&#97;" data-ep-b="&#110;&#97;
 &#100;o"></span></span></span></span><script>RegularLabs.EmailProtector.unC
 loak("ep_4f93b368");</script></li><li>Téléphone :  </li></ul><div class="gs
 ki-evenement-infos-2"><div class="gski-evenement-info-inscriptions"><div cl
 ass="gski-evenement-inscriptions-periodes">Période d'inscription à l'evènem
 ent du mardi 07 février 2017 à 01:00 au vendredi 10 février 2017 à 22:00 <s
 pan class="gski-evenement-inscriptions-impossibles">(Inscriptions impossibl
 es).</span><div class="gski-evenement-inscriptions-types-titres">Le type de
  titres Fédéraux autorisé n'est pas défini. Veuillez contacter l'organisate
 ur et lui signaler le problème.</div></div></div><div class="gskiepreuves-l
 inks"><ul><li><a href="https://skivosges.net/index.php?option=com_jevents&t
 ask=icalevent.detail&evid=796&Itemid=6283">Voir les informations dans l'age
 nda...</a></li><li><a href="https://skivosges.net/index.php?option=com_gski
 epreuves&view=afficheresultats&format_option=tous&filter[search]=AMVT0110&f
 ilter[date_debut]=12-02-2017&filter[date_fin]=12-02-2017&code_activite=ALP&
 Itemid=6283">Vers les résultats...</a></li></ul></div></div"><!-- #/gskiepr
 euve fin du dode généré par le plugin jevents pour GskiEpreuves. . Ne pas m
 odifier cette ligne, ni tout le contenu précedant.  #/gskiepreuve --> <a hr
 ef="https://skivosges.net/agenda/export-synchronisation/detailevenement/801
 /-/caj-coupe-de-bronze-et-micro-coupe?tmpl=component">Cet évènement a été i
 mporté depuis :https://skivosges.net/agenda/export-synchronisation/detailev
 enement/801/-/caj-coupe-de-bronze-et-micro-coupe?tmpl=component</a>DTSTAMP:20260420T221350
DTSTART;TZID=Europe/Paris;VALUE=DATE:20170212
DTEND;TZID=Europe/Paris;VALUE=DATE:20170213
SEQUENCE:0
TRANSP:OPAQUE
END:VEVENT
END:VCALENDAR