BEGIN:VCALENDAR
VERSION:2.0
PRODID:-//jEvents 2.0 for Joomla//EN
CALSCALE:GREGORIAN
METHOD:PUBLISH
BEGIN:VTIMEZONE
TZID:Europe/Paris
BEGIN:STANDARD
DTSTART:20160302T000000
RDATE:20160327T030000
TZOFFSETFROM:+0200
TZOFFSETTO:+0100
TZNAME:Europe/Paris CET
END:STANDARD
BEGIN:STANDARD
DTSTART:20161030T020000
RDATE:20170326T030000
TZOFFSETFROM:+0200
TZOFFSETTO:+0100
TZNAME:Europe/Paris CET
END:STANDARD
BEGIN:STANDARD
DTSTART:20171029T020000
RDATE:20180325T030000
TZOFFSETFROM:+0200
TZOFFSETTO:+0100
TZNAME:Europe/Paris CET
END:STANDARD
BEGIN:STANDARD
DTSTART:20181028T020000
RDATE:20190331T030000
TZOFFSETFROM:+0200
TZOFFSETTO:+0100
TZNAME:Europe/Paris CET
END:STANDARD
BEGIN:STANDARD
DTSTART:20191027T020000
RDATE:20200329T030000
TZOFFSETFROM:+0200
TZOFFSETTO:+0100
TZNAME:Europe/Paris CET
END:STANDARD
BEGIN:STANDARD
DTSTART:20201025T020000
RDATE:20210328T030000
TZOFFSETFROM:+0200
TZOFFSETTO:+0100
TZNAME:Europe/Paris CET
END:STANDARD
BEGIN:STANDARD
DTSTART:20211031T020000
RDATE:20220327T030000
TZOFFSETFROM:+0200
TZOFFSETTO:+0100
TZNAME:Europe/Paris CET
END:STANDARD
BEGIN:STANDARD
DTSTART:20221030T020000
RDATE:20230326T030000
TZOFFSETFROM:+0200
TZOFFSETTO:+0100
TZNAME:Europe/Paris CET
END:STANDARD
BEGIN:STANDARD
DTSTART:20231029T020000
RDATE:20240331T030000
TZOFFSETFROM:+0200
TZOFFSETTO:+0100
TZNAME:Europe/Paris CET
END:STANDARD
BEGIN:STANDARD
DTSTART:20241027T020000
RDATE:20250330T030000
TZOFFSETFROM:+0200
TZOFFSETTO:+0100
TZNAME:Europe/Paris CET
END:STANDARD
BEGIN:STANDARD
DTSTART:20251026T020000
RDATE:20260329T030000
TZOFFSETFROM:+0200
TZOFFSETTO:+0100
TZNAME:Europe/Paris CET
END:STANDARD
BEGIN:STANDARD
DTSTART:20261025T020000
RDATE:20270328T030000
TZOFFSETFROM:+0200
TZOFFSETTO:+0100
TZNAME:Europe/Paris CET
END:STANDARD
BEGIN:DAYLIGHT
DTSTART:20160327T030000
RDATE:20161030T020000
TZOFFSETFROM:+0100
TZOFFSETTO:+0200
TZNAME:Europe/Paris CEST
END:DAYLIGHT
BEGIN:DAYLIGHT
DTSTART:20170326T030000
RDATE:20171029T020000
TZOFFSETFROM:+0100
TZOFFSETTO:+0200
TZNAME:Europe/Paris CEST
END:DAYLIGHT
BEGIN:DAYLIGHT
DTSTART:20180325T030000
RDATE:20181028T020000
TZOFFSETFROM:+0100
TZOFFSETTO:+0200
TZNAME:Europe/Paris CEST
END:DAYLIGHT
BEGIN:DAYLIGHT
DTSTART:20190331T030000
RDATE:20191027T020000
TZOFFSETFROM:+0100
TZOFFSETTO:+0200
TZNAME:Europe/Paris CEST
END:DAYLIGHT
BEGIN:DAYLIGHT
DTSTART:20200329T030000
RDATE:20201025T020000
TZOFFSETFROM:+0100
TZOFFSETTO:+0200
TZNAME:Europe/Paris CEST
END:DAYLIGHT
BEGIN:DAYLIGHT
DTSTART:20210328T030000
RDATE:20211031T020000
TZOFFSETFROM:+0100
TZOFFSETTO:+0200
TZNAME:Europe/Paris CEST
END:DAYLIGHT
BEGIN:DAYLIGHT
DTSTART:20220327T030000
RDATE:20221030T020000
TZOFFSETFROM:+0100
TZOFFSETTO:+0200
TZNAME:Europe/Paris CEST
END:DAYLIGHT
BEGIN:DAYLIGHT
DTSTART:20230326T030000
RDATE:20231029T020000
TZOFFSETFROM:+0100
TZOFFSETTO:+0200
TZNAME:Europe/Paris CEST
END:DAYLIGHT
BEGIN:DAYLIGHT
DTSTART:20240331T030000
RDATE:20241027T020000
TZOFFSETFROM:+0100
TZOFFSETTO:+0200
TZNAME:Europe/Paris CEST
END:DAYLIGHT
BEGIN:DAYLIGHT
DTSTART:20250330T030000
RDATE:20251026T020000
TZOFFSETFROM:+0100
TZOFFSETTO:+0200
TZNAME:Europe/Paris CEST
END:DAYLIGHT
BEGIN:DAYLIGHT
DTSTART:20260329T030000
RDATE:20261025T020000
TZOFFSETFROM:+0100
TZOFFSETTO:+0200
TZNAME:Europe/Paris CEST
END:DAYLIGHT
END:VTIMEZONE
BEGIN:VEVENT
UID:3557f4a2dc66f06455a0fb2281006814
CATEGORIES:Circuit Massif Masters (alpin)
CREATED:20170228T084732
SUMMARY:GPM de la Brasserie de la Schlucht
URL;VALUE=URI:https://skivosges.net/agenda/export-synchronisation/detailevenement/807/-/g
 pm-de-la-brasserie-de-la-schlucht?tmpl=component
DESCRIPTION:<!-- #gskiepreuve code généré par le plugin jevents pour GskiEpreuves. Ne p
 as modifier cette ligne, ni tout le contenu suivant  #gskiepreuve --><div c
 lass="gski-evenement_infos"><div class="gski-evenement-nom">GPM de la Brass
 erie de la Schlucht</div><div class="gski-evenement-report"></div><ul class
 ="gski-evenement-liste-infos"><li>Codex évenement AMVT0960</li><li>Circuit 
 : Grand Prix Masters</li><li>Lieu : LA BRESSE</li><li>Station : LA BRESSE</
 li><li>COM_GSKIEPREUVES_EPREUVE_PISTEStade du Petit Artimont</li><li>Organi
 sateur : 14024 LA BRESSAUDE SECTION SKI</li><li>Courriel : <!-- Cette adres
 se électronique est protégée contre les robots spammeurs. --><span class="c
 loaked_email ep_f841ebb1"><span data-ep-a="o&#100;&#105;&#108;&#101;" data-
 ep-b="&#102;&#114;"><span data-ep-b="&#97;nge&#46;" data-ep-a="&#46;&#109;&
 #117;&#110;&#115;"><span data-ep-b="&#108;&#98;&#64;&#111;r" data-ep-a="&#9
 9;&#104;.s&#99;"></span></span></span></span><script>RegularLabs.EmailProte
 ctor.unCloak("ep_f841ebb1");</script></li><li>Téléphone : 0608855252</li><l
 i><span class="gski-evenement-obs">Autres informations : Comp&eacute;tition
  avanc&eacute;e &agrave; vendredi 3 en nocturne. Attention 1er d&eacute;par
 t report&eacute; &agrave; 19 heures&lt;br&gt;Cl&ocirc;ture des inscriptions
  le jeudi 2 mars &agrave; 17 heures&lt;br&gt;La comp&eacute;tition comptera
  pour le Championnat des Vosges Masters V&eacute;t&eacute;rans&lt;br&gt;Tar
 if rouge remis&eacute; -20% sur pr&eacute;sentation du dossard&lt;br&gt;R&e
 acute;cup&eacute;ration des dossards au self &agrave; partir de 18 heures</
 span></li></ul><div class="gski-evenement-infos-2"><div class="gski-eveneme
 nt-info-inscriptions"><div class="gski-evenement-inscriptions-periodes">Pér
 iode d'inscription à l'evènement du samedi 25 février 2017 à 01:00 au jeudi
  02 mars 2017 à 18:00 <span class="gski-evenement-inscriptions-impossibles"
 >(Inscriptions impossibles).</span><div class="gski-evenement-inscriptions-
 types-titres">Le type de titres Fédéraux autorisé n'est pas défini. Veuille
 z contacter l'organisateur et lui signaler le problème.</div></div></div><d
 iv class="gskiepreuves-links"><ul><li><a href="/index.php?option=com_jevent
 s&task=icalevent.detail&evid=802&Itemid=6283">Voir les informations dans l'
 agenda...</a></li><li><a href="/index.php?option=com_gskiepreuves&view=affi
 cheresultats&format_option=tous&filter[search]=AMVT0960&filter[date_debut]=
 03-03-2017&filter[date_fin]=03-03-2017&code_activite=ALP&Itemid=6283">Vers 
 les résultats...</a></li></ul></div></div"><!-- #/gskiepreuve fin du dode g
 énéré par le plugin jevents pour GskiEpreuves. . Ne pas modifier cette lign
 e, ni tout le contenu précedant.  #/gskiepreuve --> <a href="https://skivos
 ges.net/agenda/export-synchronisation/detailevenement/807/-/gpm-de-la-brass
 erie-de-la-schlucht?tmpl=component">Cet évènement a été importé depuis :htt
 ps://skivosges.net/agenda/export-synchronisation/detailevenement/807/-/gpm-
 de-la-brasserie-de-la-schlucht?tmpl=component</a>
X-ALT-DESC;FMTTYPE=text/html:<!-- #gskiepreuve code généré par le plugin jevents pour GskiEpreuves. Ne p
 as modifier cette ligne, ni tout le contenu suivant  #gskiepreuve --><div c
 lass="gski-evenement_infos"><div class="gski-evenement-nom">GPM de la Brass
 erie de la Schlucht</div><div class="gski-evenement-report"></div><ul class
 ="gski-evenement-liste-infos"><li>Codex évenement AMVT0960</li><li>Circuit 
 : Grand Prix Masters</li><li>Lieu : LA BRESSE</li><li>Station : LA BRESSE</
 li><li>COM_GSKIEPREUVES_EPREUVE_PISTEStade du Petit Artimont</li><li>Organi
 sateur : 14024 LA BRESSAUDE SECTION SKI</li><li>Courriel : <!-- Cette adres
 se électronique est protégée contre les robots spammeurs. --><span class="c
 loaked_email ep_f841ebb1"><span data-ep-a="o&#100;&#105;&#108;&#101;" data-
 ep-b="&#102;&#114;"><span data-ep-b="&#97;nge&#46;" data-ep-a="&#46;&#109;&
 #117;&#110;&#115;"><span data-ep-b="&#108;&#98;&#64;&#111;r" data-ep-a="&#9
 9;&#104;.s&#99;"></span></span></span></span><script>RegularLabs.EmailProte
 ctor.unCloak("ep_f841ebb1");</script></li><li>Téléphone : 0608855252</li><l
 i><span class="gski-evenement-obs">Autres informations : Comp&eacute;tition
  avanc&eacute;e &agrave; vendredi 3 en nocturne. Attention 1er d&eacute;par
 t report&eacute; &agrave; 19 heures&lt;br&gt;Cl&ocirc;ture des inscriptions
  le jeudi 2 mars &agrave; 17 heures&lt;br&gt;La comp&eacute;tition comptera
  pour le Championnat des Vosges Masters V&eacute;t&eacute;rans&lt;br&gt;Tar
 if rouge remis&eacute; -20% sur pr&eacute;sentation du dossard&lt;br&gt;R&e
 acute;cup&eacute;ration des dossards au self &agrave; partir de 18 heures</
 span></li></ul><div class="gski-evenement-infos-2"><div class="gski-eveneme
 nt-info-inscriptions"><div class="gski-evenement-inscriptions-periodes">Pér
 iode d'inscription à l'evènement du samedi 25 février 2017 à 01:00 au jeudi
  02 mars 2017 à 18:00 <span class="gski-evenement-inscriptions-impossibles"
 >(Inscriptions impossibles).</span><div class="gski-evenement-inscriptions-
 types-titres">Le type de titres Fédéraux autorisé n'est pas défini. Veuille
 z contacter l'organisateur et lui signaler le problème.</div></div></div><d
 iv class="gskiepreuves-links"><ul><li><a href="https://skivosges.net/index.
 php?option=com_jevents&task=icalevent.detail&evid=802&Itemid=6283">Voir les
  informations dans l'agenda...</a></li><li><a href="https://skivosges.net/i
 ndex.php?option=com_gskiepreuves&view=afficheresultats&format_option=tous&f
 ilter[search]=AMVT0960&filter[date_debut]=03-03-2017&filter[date_fin]=03-03
 -2017&code_activite=ALP&Itemid=6283">Vers les résultats...</a></li></ul></d
 iv></div"><!-- #/gskiepreuve fin du dode généré par le plugin jevents pour 
 GskiEpreuves. . Ne pas modifier cette ligne, ni tout le contenu précedant. 
  #/gskiepreuve --> <a href="https://skivosges.net/agenda/export-synchronisa
 tion/detailevenement/807/-/gpm-de-la-brasserie-de-la-schlucht?tmpl=componen
 t">Cet évènement a été importé depuis :https://skivosges.net/agenda/export-
 synchronisation/detailevenement/807/-/gpm-de-la-brasserie-de-la-schlucht?tm
 pl=component</a>DTSTAMP:20260421T051203
DTSTART;TZID=Europe/Paris;VALUE=DATE:20170303
DTEND;TZID=Europe/Paris;VALUE=DATE:20170304
SEQUENCE:0
TRANSP:OPAQUE
END:VEVENT
END:VCALENDAR