BEGIN:VCALENDAR
VERSION:2.0
PRODID:-//jEvents 2.0 for Joomla//EN
CALSCALE:GREGORIAN
METHOD:PUBLISH
BEGIN:VTIMEZONE
TZID:Europe/Paris
BEGIN:STANDARD
DTSTART:20160204T000000
RDATE:20160327T030000
TZOFFSETFROM:+0200
TZOFFSETTO:+0100
TZNAME:Europe/Paris CET
END:STANDARD
BEGIN:STANDARD
DTSTART:20161030T020000
RDATE:20170326T030000
TZOFFSETFROM:+0200
TZOFFSETTO:+0100
TZNAME:Europe/Paris CET
END:STANDARD
BEGIN:STANDARD
DTSTART:20171029T020000
RDATE:20180325T030000
TZOFFSETFROM:+0200
TZOFFSETTO:+0100
TZNAME:Europe/Paris CET
END:STANDARD
BEGIN:STANDARD
DTSTART:20181028T020000
RDATE:20190331T030000
TZOFFSETFROM:+0200
TZOFFSETTO:+0100
TZNAME:Europe/Paris CET
END:STANDARD
BEGIN:STANDARD
DTSTART:20191027T020000
RDATE:20200329T030000
TZOFFSETFROM:+0200
TZOFFSETTO:+0100
TZNAME:Europe/Paris CET
END:STANDARD
BEGIN:STANDARD
DTSTART:20201025T020000
RDATE:20210328T030000
TZOFFSETFROM:+0200
TZOFFSETTO:+0100
TZNAME:Europe/Paris CET
END:STANDARD
BEGIN:STANDARD
DTSTART:20211031T020000
RDATE:20220327T030000
TZOFFSETFROM:+0200
TZOFFSETTO:+0100
TZNAME:Europe/Paris CET
END:STANDARD
BEGIN:STANDARD
DTSTART:20221030T020000
RDATE:20230326T030000
TZOFFSETFROM:+0200
TZOFFSETTO:+0100
TZNAME:Europe/Paris CET
END:STANDARD
BEGIN:STANDARD
DTSTART:20231029T020000
RDATE:20240331T030000
TZOFFSETFROM:+0200
TZOFFSETTO:+0100
TZNAME:Europe/Paris CET
END:STANDARD
BEGIN:STANDARD
DTSTART:20241027T020000
RDATE:20250330T030000
TZOFFSETFROM:+0200
TZOFFSETTO:+0100
TZNAME:Europe/Paris CET
END:STANDARD
BEGIN:STANDARD
DTSTART:20251026T020000
RDATE:20260329T030000
TZOFFSETFROM:+0200
TZOFFSETTO:+0100
TZNAME:Europe/Paris CET
END:STANDARD
BEGIN:STANDARD
DTSTART:20261025T020000
RDATE:20270328T030000
TZOFFSETFROM:+0200
TZOFFSETTO:+0100
TZNAME:Europe/Paris CET
END:STANDARD
BEGIN:DAYLIGHT
DTSTART:20160327T030000
RDATE:20161030T020000
TZOFFSETFROM:+0100
TZOFFSETTO:+0200
TZNAME:Europe/Paris CEST
END:DAYLIGHT
BEGIN:DAYLIGHT
DTSTART:20170326T030000
RDATE:20171029T020000
TZOFFSETFROM:+0100
TZOFFSETTO:+0200
TZNAME:Europe/Paris CEST
END:DAYLIGHT
BEGIN:DAYLIGHT
DTSTART:20180325T030000
RDATE:20181028T020000
TZOFFSETFROM:+0100
TZOFFSETTO:+0200
TZNAME:Europe/Paris CEST
END:DAYLIGHT
BEGIN:DAYLIGHT
DTSTART:20190331T030000
RDATE:20191027T020000
TZOFFSETFROM:+0100
TZOFFSETTO:+0200
TZNAME:Europe/Paris CEST
END:DAYLIGHT
BEGIN:DAYLIGHT
DTSTART:20200329T030000
RDATE:20201025T020000
TZOFFSETFROM:+0100
TZOFFSETTO:+0200
TZNAME:Europe/Paris CEST
END:DAYLIGHT
BEGIN:DAYLIGHT
DTSTART:20210328T030000
RDATE:20211031T020000
TZOFFSETFROM:+0100
TZOFFSETTO:+0200
TZNAME:Europe/Paris CEST
END:DAYLIGHT
BEGIN:DAYLIGHT
DTSTART:20220327T030000
RDATE:20221030T020000
TZOFFSETFROM:+0100
TZOFFSETTO:+0200
TZNAME:Europe/Paris CEST
END:DAYLIGHT
BEGIN:DAYLIGHT
DTSTART:20230326T030000
RDATE:20231029T020000
TZOFFSETFROM:+0100
TZOFFSETTO:+0200
TZNAME:Europe/Paris CEST
END:DAYLIGHT
BEGIN:DAYLIGHT
DTSTART:20240331T030000
RDATE:20241027T020000
TZOFFSETFROM:+0100
TZOFFSETTO:+0200
TZNAME:Europe/Paris CEST
END:DAYLIGHT
BEGIN:DAYLIGHT
DTSTART:20250330T030000
RDATE:20251026T020000
TZOFFSETFROM:+0100
TZOFFSETTO:+0200
TZNAME:Europe/Paris CEST
END:DAYLIGHT
BEGIN:DAYLIGHT
DTSTART:20260329T030000
RDATE:20261025T020000
TZOFFSETFROM:+0100
TZOFFSETTO:+0200
TZNAME:Europe/Paris CEST
END:DAYLIGHT
END:VTIMEZONE
BEGIN:VEVENT
UID:ae56b271f83320b820bc954128778c45
CATEGORIES:Combiné Nordique
CREATED:20170920T182830
SUMMARY:Critérium National U15
URL;VALUE=URI:https://skivosges.net/agenda/export-synchronisation/detailevenement/817/-/c
 riterium-national-u15?tmpl=component
DESCRIPTION:Critérium National U15\n - Codex évenement CNAT0070\n - Station : LA BRESSE
  LISPACH\n - Organisateur : 14024 LA BRESSAUDE SECTION SKIPériode d'inscrip
 tion à l'evènement du samedi 28 janvier 2017 à 01:00 au jeudi 02 février 20
 17 à 13:00 (Inscriptions impossibles).Inscriptions ouvertes aux detenteurs 
 des titres Fédéraux valides suivants : Licenciés CompétiteursEpreuves :\n -
  Le samedi 04 février 2017\n - Codex épreuve CNAM0071\n - (S)\n - Catégorie
 (s) : U9 a U15 (Garçons)\n - Le samedi 04 février 2017\n - Codex épreuve CN
 AF0071\n - (S)\n - Catégorie(s) : U9 a U15 (Filles)\n - Le samedi 04 févrie
 r 2017\n - Codex épreuve CNAM0072\n - (POURS)\n - Catégorie(s) : U9 a U15 (
 Garçons)\n - Le samedi 04 février 2017\n - Codex épreuve CNAF0072\n - (POUR
 S)\n - Catégorie(s) : U9 a U15 (Filles)\n - Le samedi 04 février 2017\n - C
 odex épreuve CNAM0073\n - (K)\n - Catégorie(s) : U9 a U15 (Garçons)\n - Le 
 samedi 04 février 2017\n - Codex épreuve CNAF0073\n - (K)\n - Catégorie(s) 
 : U9 a U15 (Filles)\n - Voir les informations dans l'agenda... (/index.php?
 option=com_jevents&amp;task=icalevent.detail&amp;evid=812&amp;Itemid=6283) 
 Cet évènement a été importé depuis :https://skivosges.net/agenda/export-syn
 chronisation/detailevenement/817/-/criterium-national-u15?tmpl=component
X-ALT-DESC;FMTTYPE=text/html:<!-- #gskiepreuve code généré par le plugin jevents pour GskiEpreuves. Ne p
 as modifier cette ligne, ni tout le contenu suivant  #gskiepreuve --><div c
 lass="gski-evenement_infos"><div class="gski-evenement-nom">Critérium Natio
 nal U15</div><div class="gski-evenement-report"></div><ul class="gski-evene
 ment-liste-infos"><li>Codex évenement CNAT0070</li><li>Station : LA BRESSE 
 LISPACH</li><li>Organisateur : 14024 LA BRESSAUDE SECTION SKI</li></ul><div
  class="gski-evenement-infos-2"><div class="gski-evenement-info-inscription
 s"><div class="gski-evenement-inscriptions-periodes">Période d'inscription 
 à l'evènement du samedi 28 janvier 2017 à 01:00 au jeudi 02 février 2017 à 
 13:00 <span class="gski-evenement-inscriptions-impossibles">(Inscriptions i
 mpossibles).</span><div class="gski-evenement-inscriptions-types-titres">In
 scriptions ouvertes aux detenteurs des titres Fédéraux valides suivants : L
 icenciés Compétiteurs</div></div></div><div class="gski-evenement-epreuves"
 ><div class="gski-evenement-epreuves-titres">Epreuves :</div><ul class="gsk
 i-evenement-epreuves-list"><li><div class="gski-epreuve-date">Le samedi 04 
 février 2017</div><ul class="gski-epreuve-liste-infos"><li>Codex épreuve CN
 AM0071</li><li>(S)</li><li>Catégorie(s) : U9 a U15 (Garçons)</li></ul></li>
 <li><div class="gski-epreuve-date">Le samedi 04 février 2017</div><ul class
 ="gski-epreuve-liste-infos"><li>Codex épreuve CNAF0071</li><li>(S)</li><li>
 Catégorie(s) : U9 a U15 (Filles)</li></ul></li><li><div class="gski-epreuve
 -date">Le samedi 04 février 2017</div><ul class="gski-epreuve-liste-infos">
 <li>Codex épreuve CNAM0072</li><li>(POURS)</li><li>Catégorie(s) : U9 a U15 
 (Garçons)</li></ul></li><li><div class="gski-epreuve-date">Le samedi 04 fév
 rier 2017</div><ul class="gski-epreuve-liste-infos"><li>Codex épreuve CNAF0
 072</li><li>(POURS)</li><li>Catégorie(s) : U9 a U15 (Filles)</li></ul></li>
 <li><div class="gski-epreuve-date">Le samedi 04 février 2017</div><ul class
 ="gski-epreuve-liste-infos"><li>Codex épreuve CNAM0073</li><li>(K)</li><li>
 Catégorie(s) : U9 a U15 (Garçons)</li></ul></li><li><div class="gski-epreuv
 e-date">Le samedi 04 février 2017</div><ul class="gski-epreuve-liste-infos"
 ><li>Codex épreuve CNAF0073</li><li>(K)</li><li>Catégorie(s) : U9 a U15 (Fi
 lles)</li></ul></li></ul></div><div class="gskiepreuves-links"><ul><li><a h
 ref="https://skivosges.net/index.php?option=com_jevents&task=icalevent.deta
 il&evid=812&Itemid=6283">Voir les informations dans l'agenda...</a></li></u
 l></div></div"><!-- #/gskiepreuve fin du dode généré par le plugin jevents 
 pour GskiEpreuves. . Ne pas modifier cette ligne, ni tout le contenu préced
 ant.  #/gskiepreuve --> <a href="https://skivosges.net/agenda/export-synchr
 onisation/detailevenement/817/-/criterium-national-u15?tmpl=component">Cet 
 évènement a été importé depuis :https://skivosges.net/agenda/export-synchro
 nisation/detailevenement/817/-/criterium-national-u15?tmpl=component</a>DTSTAMP:20260421T014255
DTSTART;TZID=Europe/Paris;VALUE=DATE:20170204
DTEND;TZID=Europe/Paris;VALUE=DATE:20170206
SEQUENCE:0
TRANSP:OPAQUE
END:VEVENT
END:VCALENDAR