BEGIN:VCALENDAR
VERSION:2.0
PRODID:-//jEvents 2.0 for Joomla//EN
CALSCALE:GREGORIAN
METHOD:PUBLISH
BEGIN:VTIMEZONE
TZID:Europe/Paris
BEGIN:STANDARD
DTSTART:20161030T020000
RDATE:20170326T030000
TZOFFSETFROM:+0200
TZOFFSETTO:+0100
TZNAME:Europe/Paris CET
END:STANDARD
BEGIN:STANDARD
DTSTART:20171029T020000
RDATE:20180325T030000
TZOFFSETFROM:+0200
TZOFFSETTO:+0100
TZNAME:Europe/Paris CET
END:STANDARD
BEGIN:STANDARD
DTSTART:20181028T020000
RDATE:20190331T030000
TZOFFSETFROM:+0200
TZOFFSETTO:+0100
TZNAME:Europe/Paris CET
END:STANDARD
BEGIN:STANDARD
DTSTART:20191027T020000
RDATE:20200329T030000
TZOFFSETFROM:+0200
TZOFFSETTO:+0100
TZNAME:Europe/Paris CET
END:STANDARD
BEGIN:STANDARD
DTSTART:20201025T020000
RDATE:20210328T030000
TZOFFSETFROM:+0200
TZOFFSETTO:+0100
TZNAME:Europe/Paris CET
END:STANDARD
BEGIN:STANDARD
DTSTART:20211031T020000
RDATE:20220327T030000
TZOFFSETFROM:+0200
TZOFFSETTO:+0100
TZNAME:Europe/Paris CET
END:STANDARD
BEGIN:STANDARD
DTSTART:20221030T020000
RDATE:20230326T030000
TZOFFSETFROM:+0200
TZOFFSETTO:+0100
TZNAME:Europe/Paris CET
END:STANDARD
BEGIN:STANDARD
DTSTART:20231029T020000
RDATE:20240331T030000
TZOFFSETFROM:+0200
TZOFFSETTO:+0100
TZNAME:Europe/Paris CET
END:STANDARD
BEGIN:STANDARD
DTSTART:20241027T020000
RDATE:20250330T030000
TZOFFSETFROM:+0200
TZOFFSETTO:+0100
TZNAME:Europe/Paris CET
END:STANDARD
BEGIN:STANDARD
DTSTART:20251026T020000
RDATE:20260329T030000
TZOFFSETFROM:+0200
TZOFFSETTO:+0100
TZNAME:Europe/Paris CET
END:STANDARD
BEGIN:STANDARD
DTSTART:20261025T020000
RDATE:20270328T030000
TZOFFSETFROM:+0200
TZOFFSETTO:+0100
TZNAME:Europe/Paris CET
END:STANDARD
BEGIN:DAYLIGHT
DTSTART:20160610T000000
RDATE:20161030T020000
TZOFFSETFROM:+0100
TZOFFSETTO:+0200
TZNAME:Europe/Paris CEST
END:DAYLIGHT
BEGIN:DAYLIGHT
DTSTART:20170326T030000
RDATE:20171029T020000
TZOFFSETFROM:+0100
TZOFFSETTO:+0200
TZNAME:Europe/Paris CEST
END:DAYLIGHT
BEGIN:DAYLIGHT
DTSTART:20180325T030000
RDATE:20181028T020000
TZOFFSETFROM:+0100
TZOFFSETTO:+0200
TZNAME:Europe/Paris CEST
END:DAYLIGHT
BEGIN:DAYLIGHT
DTSTART:20190331T030000
RDATE:20191027T020000
TZOFFSETFROM:+0100
TZOFFSETTO:+0200
TZNAME:Europe/Paris CEST
END:DAYLIGHT
BEGIN:DAYLIGHT
DTSTART:20200329T030000
RDATE:20201025T020000
TZOFFSETFROM:+0100
TZOFFSETTO:+0200
TZNAME:Europe/Paris CEST
END:DAYLIGHT
BEGIN:DAYLIGHT
DTSTART:20210328T030000
RDATE:20211031T020000
TZOFFSETFROM:+0100
TZOFFSETTO:+0200
TZNAME:Europe/Paris CEST
END:DAYLIGHT
BEGIN:DAYLIGHT
DTSTART:20220327T030000
RDATE:20221030T020000
TZOFFSETFROM:+0100
TZOFFSETTO:+0200
TZNAME:Europe/Paris CEST
END:DAYLIGHT
BEGIN:DAYLIGHT
DTSTART:20230326T030000
RDATE:20231029T020000
TZOFFSETFROM:+0100
TZOFFSETTO:+0200
TZNAME:Europe/Paris CEST
END:DAYLIGHT
BEGIN:DAYLIGHT
DTSTART:20240331T030000
RDATE:20241027T020000
TZOFFSETFROM:+0100
TZOFFSETTO:+0200
TZNAME:Europe/Paris CEST
END:DAYLIGHT
BEGIN:DAYLIGHT
DTSTART:20250330T030000
RDATE:20251026T020000
TZOFFSETFROM:+0100
TZOFFSETTO:+0200
TZNAME:Europe/Paris CEST
END:DAYLIGHT
BEGIN:DAYLIGHT
DTSTART:20260329T030000
RDATE:20261025T020000
TZOFFSETFROM:+0100
TZOFFSETTO:+0200
TZNAME:Europe/Paris CEST
END:DAYLIGHT
END:VTIMEZONE
BEGIN:VEVENT
UID:035b5b132d81f6cf0f1980c3c1cfec93
CATEGORIES:Opens et Promos (alpin)
CREATED:20170920T182831
SUMMARY:PROMO Course du Printemps
URL;VALUE=URI:https://skivosges.net/agenda/export-synchronisation/detailevenement/820/-/p
 romo-course-du-printemps?tmpl=component
DESCRIPTION:<!-- #gskiepreuve code généré par le plugin jevents pour GskiEpreuves. Ne p
 as modifier cette ligne, ni tout le contenu suivant  #gskiepreuve --><div c
 lass="gski-evenement_infos"><div class="gski-evenement-nom">PROMO Course du
  Printemps</div><div class="gski-evenement-report"></div><ul class="gski-ev
 enement-liste-infos"><li>Codex évenement AMVT1000</li><li>Station : AMNEVIL
 LE LES THERMES</li><li>Organisateur : 14482 SKI CLUB D'AMNEVILLE</li><li>Co
 urriel : <!-- Cette adresse électronique est protégée contre les robots spa
 mmeurs. --><span class="cloaked_email ep_1b2fc05d"><span data-ep-a="sg&#64;
 &#115;" data-ep-b="&#111;&#114;&#103;"><span data-ep-a="&#107;&#105;c&#108;
 " data-ep-b="l&#108;e&#46;"><span data-ep-b="&#110;e&#118;&#105;" data-ep-a
 ="&#117;b&#97;&#109;"></span></span></span></span><script>RegularLabs.Email
 Protector.unCloak("ep_1b2fc05d");</script></li></ul><div class="gski-evenem
 ent-infos-2"><div class="gski-evenement-info-inscriptions"><div class="gski
 -evenement-inscriptions-periodes">Période d'inscription à l'evènement du di
 manche 04 juin 2017 à 02:00 au vendredi 09 juin 2017 à 14:00 <span class="g
 ski-evenement-inscriptions-impossibles">(Inscriptions impossibles).</span><
 div class="gski-evenement-inscriptions-types-titres">Inscriptions ouvertes 
 aux detenteurs des titres Fédéraux valides suivants : Licenciés Compétiteur
 s et Titres Loisirs et Dirigeants</div></div></div><div class="gski-eveneme
 nt-epreuves"><div class="gski-evenement-epreuves-titres">Epreuves :</div><u
 l class="gski-evenement-epreuves-list"><li><div class="gski-epreuve-date">L
 e dimanche 11 juin 2017</div><ul class="gski-epreuve-liste-infos"><li>Codex
  épreuve AMVM1001</li><li>Slalom</li><li>Catégorie(s) : Toutes les Categori
 es (Garçons)</li></ul></li><li><div class="gski-epreuve-date">Le dimanche 1
 1 juin 2017</div><ul class="gski-epreuve-liste-infos"><li>Codex épreuve AMV
 F1001</li><li>Slalom</li><li>Catégorie(s) : Toutes les Categories (Filles)<
 /li></ul></li></ul></div><div class="gskiepreuves-links"><ul><li><a href="/
 index.php?option=com_jevents&task=icalevent.detail&evid=815&Itemid=6283">Vo
 ir les informations dans l'agenda...</a></li></ul></div></div"><!-- #/gskie
 preuve fin du dode généré par le plugin jevents pour GskiEpreuves. . Ne pas
  modifier cette ligne, ni tout le contenu précedant.  #/gskiepreuve --> <a 
 href="https://skivosges.net/agenda/export-synchronisation/detailevenement/8
 20/-/promo-course-du-printemps?tmpl=component">Cet évènement a été importé 
 depuis :https://skivosges.net/agenda/export-synchronisation/detailevenement
 /820/-/promo-course-du-printemps?tmpl=component</a>
X-ALT-DESC;FMTTYPE=text/html:<!-- #gskiepreuve code généré par le plugin jevents pour GskiEpreuves. Ne p
 as modifier cette ligne, ni tout le contenu suivant  #gskiepreuve --><div c
 lass="gski-evenement_infos"><div class="gski-evenement-nom">PROMO Course du
  Printemps</div><div class="gski-evenement-report"></div><ul class="gski-ev
 enement-liste-infos"><li>Codex évenement AMVT1000</li><li>Station : AMNEVIL
 LE LES THERMES</li><li>Organisateur : 14482 SKI CLUB D'AMNEVILLE</li><li>Co
 urriel : <!-- Cette adresse électronique est protégée contre les robots spa
 mmeurs. --><span class="cloaked_email ep_1b2fc05d"><span data-ep-a="sg&#64;
 &#115;" data-ep-b="&#111;&#114;&#103;"><span data-ep-a="&#107;&#105;c&#108;
 " data-ep-b="l&#108;e&#46;"><span data-ep-b="&#110;e&#118;&#105;" data-ep-a
 ="&#117;b&#97;&#109;"></span></span></span></span><script>RegularLabs.Email
 Protector.unCloak("ep_1b2fc05d");</script></li></ul><div class="gski-evenem
 ent-infos-2"><div class="gski-evenement-info-inscriptions"><div class="gski
 -evenement-inscriptions-periodes">Période d'inscription à l'evènement du di
 manche 04 juin 2017 à 02:00 au vendredi 09 juin 2017 à 14:00 <span class="g
 ski-evenement-inscriptions-impossibles">(Inscriptions impossibles).</span><
 div class="gski-evenement-inscriptions-types-titres">Inscriptions ouvertes 
 aux detenteurs des titres Fédéraux valides suivants : Licenciés Compétiteur
 s et Titres Loisirs et Dirigeants</div></div></div><div class="gski-eveneme
 nt-epreuves"><div class="gski-evenement-epreuves-titres">Epreuves :</div><u
 l class="gski-evenement-epreuves-list"><li><div class="gski-epreuve-date">L
 e dimanche 11 juin 2017</div><ul class="gski-epreuve-liste-infos"><li>Codex
  épreuve AMVM1001</li><li>Slalom</li><li>Catégorie(s) : Toutes les Categori
 es (Garçons)</li></ul></li><li><div class="gski-epreuve-date">Le dimanche 1
 1 juin 2017</div><ul class="gski-epreuve-liste-infos"><li>Codex épreuve AMV
 F1001</li><li>Slalom</li><li>Catégorie(s) : Toutes les Categories (Filles)<
 /li></ul></li></ul></div><div class="gskiepreuves-links"><ul><li><a href="h
 ttps://skivosges.net/index.php?option=com_jevents&task=icalevent.detail&evi
 d=815&Itemid=6283">Voir les informations dans l'agenda...</a></li></ul></di
 v></div"><!-- #/gskiepreuve fin du dode généré par le plugin jevents pour G
 skiEpreuves. . Ne pas modifier cette ligne, ni tout le contenu précedant.  
 #/gskiepreuve --> <a href="https://skivosges.net/agenda/export-synchronisat
 ion/detailevenement/820/-/promo-course-du-printemps?tmpl=component">Cet évè
 nement a été importé depuis :https://skivosges.net/agenda/export-synchronis
 ation/detailevenement/820/-/promo-course-du-printemps?tmpl=component</a>DTSTAMP:20260420T221257
DTSTART;TZID=Europe/Paris;VALUE=DATE:20170611
DTEND;TZID=Europe/Paris;VALUE=DATE:20170612
SEQUENCE:0
TRANSP:OPAQUE
END:VEVENT
END:VCALENDAR