BEGIN:VCALENDAR
VERSION:2.0
PRODID:-//jEvents 2.0 for Joomla//EN
CALSCALE:GREGORIAN
METHOD:PUBLISH
BEGIN:VTIMEZONE
TZID:Europe/Paris
BEGIN:STANDARD
DTSTART:20161030T020000
RDATE:20170326T030000
TZOFFSETFROM:+0200
TZOFFSETTO:+0100
TZNAME:Europe/Paris CET
END:STANDARD
BEGIN:STANDARD
DTSTART:20171029T020000
RDATE:20180325T030000
TZOFFSETFROM:+0200
TZOFFSETTO:+0100
TZNAME:Europe/Paris CET
END:STANDARD
BEGIN:STANDARD
DTSTART:20181028T020000
RDATE:20190331T030000
TZOFFSETFROM:+0200
TZOFFSETTO:+0100
TZNAME:Europe/Paris CET
END:STANDARD
BEGIN:STANDARD
DTSTART:20191027T020000
RDATE:20200329T030000
TZOFFSETFROM:+0200
TZOFFSETTO:+0100
TZNAME:Europe/Paris CET
END:STANDARD
BEGIN:STANDARD
DTSTART:20201025T020000
RDATE:20210328T030000
TZOFFSETFROM:+0200
TZOFFSETTO:+0100
TZNAME:Europe/Paris CET
END:STANDARD
BEGIN:STANDARD
DTSTART:20211031T020000
RDATE:20220327T030000
TZOFFSETFROM:+0200
TZOFFSETTO:+0100
TZNAME:Europe/Paris CET
END:STANDARD
BEGIN:STANDARD
DTSTART:20221030T020000
RDATE:20230326T030000
TZOFFSETFROM:+0200
TZOFFSETTO:+0100
TZNAME:Europe/Paris CET
END:STANDARD
BEGIN:STANDARD
DTSTART:20231029T020000
RDATE:20240331T030000
TZOFFSETFROM:+0200
TZOFFSETTO:+0100
TZNAME:Europe/Paris CET
END:STANDARD
BEGIN:STANDARD
DTSTART:20241027T020000
RDATE:20250330T030000
TZOFFSETFROM:+0200
TZOFFSETTO:+0100
TZNAME:Europe/Paris CET
END:STANDARD
BEGIN:STANDARD
DTSTART:20251026T020000
RDATE:20260329T030000
TZOFFSETFROM:+0200
TZOFFSETTO:+0100
TZNAME:Europe/Paris CET
END:STANDARD
BEGIN:STANDARD
DTSTART:20261025T020000
RDATE:20270328T030000
TZOFFSETFROM:+0200
TZOFFSETTO:+0100
TZNAME:Europe/Paris CET
END:STANDARD
BEGIN:DAYLIGHT
DTSTART:20160727T000000
RDATE:20161030T020000
TZOFFSETFROM:+0100
TZOFFSETTO:+0200
TZNAME:Europe/Paris CEST
END:DAYLIGHT
BEGIN:DAYLIGHT
DTSTART:20170326T030000
RDATE:20171029T020000
TZOFFSETFROM:+0100
TZOFFSETTO:+0200
TZNAME:Europe/Paris CEST
END:DAYLIGHT
BEGIN:DAYLIGHT
DTSTART:20180325T030000
RDATE:20181028T020000
TZOFFSETFROM:+0100
TZOFFSETTO:+0200
TZNAME:Europe/Paris CEST
END:DAYLIGHT
BEGIN:DAYLIGHT
DTSTART:20190331T030000
RDATE:20191027T020000
TZOFFSETFROM:+0100
TZOFFSETTO:+0200
TZNAME:Europe/Paris CEST
END:DAYLIGHT
BEGIN:DAYLIGHT
DTSTART:20200329T030000
RDATE:20201025T020000
TZOFFSETFROM:+0100
TZOFFSETTO:+0200
TZNAME:Europe/Paris CEST
END:DAYLIGHT
BEGIN:DAYLIGHT
DTSTART:20210328T030000
RDATE:20211031T020000
TZOFFSETFROM:+0100
TZOFFSETTO:+0200
TZNAME:Europe/Paris CEST
END:DAYLIGHT
BEGIN:DAYLIGHT
DTSTART:20220327T030000
RDATE:20221030T020000
TZOFFSETFROM:+0100
TZOFFSETTO:+0200
TZNAME:Europe/Paris CEST
END:DAYLIGHT
BEGIN:DAYLIGHT
DTSTART:20230326T030000
RDATE:20231029T020000
TZOFFSETFROM:+0100
TZOFFSETTO:+0200
TZNAME:Europe/Paris CEST
END:DAYLIGHT
BEGIN:DAYLIGHT
DTSTART:20240331T030000
RDATE:20241027T020000
TZOFFSETFROM:+0100
TZOFFSETTO:+0200
TZNAME:Europe/Paris CEST
END:DAYLIGHT
BEGIN:DAYLIGHT
DTSTART:20250330T030000
RDATE:20251026T020000
TZOFFSETFROM:+0100
TZOFFSETTO:+0200
TZNAME:Europe/Paris CEST
END:DAYLIGHT
BEGIN:DAYLIGHT
DTSTART:20260329T030000
RDATE:20261025T020000
TZOFFSETFROM:+0100
TZOFFSETTO:+0200
TZNAME:Europe/Paris CEST
END:DAYLIGHT
END:VTIMEZONE
BEGIN:VEVENT
UID:3f7f87ef70629403886ac36f53747302
CATEGORIES:Compétition Saut
CREATED:20170920T182831
SUMMARY:XONRUPT 1e étape tournée VO
URL;VALUE=URI:https://skivosges.net/agenda/export-synchronisation/detailevenement/828/-/x
 onrupt-1e-etape-tournee-vo?tmpl=component
DESCRIPTION:XONRUPT 1e étape tournée VO\n - Codex évenement TMVT0170\n - Station : XONR
 UPT\n - Organisateur : 14102 SKI CLUB XONRUPTPériode d'inscription à l'evèn
 ement du vendredi 21 juillet 2017 à 02:00 au mercredi 26 juillet 2017 à 14:
 00 (Inscriptions impossibles).Inscriptions ouvertes aux detenteurs des titr
 es Fédéraux valides suivants : Licenciés CompétiteursEpreuves :\n - Le vend
 redi 28 juillet 2017\n - Codex épreuve TMVF0171\n - Saut Special\n - Catégo
 rie(s) : U9 a U15 (Filles)\n - Le vendredi 28 juillet 2017\n - Codex épreuv
 e TMVM0171\n - Saut Special\n - Catégorie(s) : U9 a U15 (Garçons)\n - Voir 
 les informations dans l'agenda... (/index.php?option=com_jevents&amp;task=i
 calevent.detail&amp;evid=823&amp;Itemid=6283) Cet évènement a été importé d
 epuis :https://skivosges.net/agenda/export-synchronisation/detailevenement/
 828/-/xonrupt-1e-etape-tournee-vo?tmpl=component
X-ALT-DESC;FMTTYPE=text/html:<!-- #gskiepreuve code généré par le plugin jevents pour GskiEpreuves. Ne p
 as modifier cette ligne, ni tout le contenu suivant  #gskiepreuve --><div c
 lass="gski-evenement_infos"><div class="gski-evenement-nom">XONRUPT 1e étap
 e tournée VO</div><div class="gski-evenement-report"></div><ul class="gski-
 evenement-liste-infos"><li>Codex évenement TMVT0170</li><li>Station : XONRU
 PT</li><li>Organisateur : 14102 SKI CLUB XONRUPT</li></ul><div class="gski-
 evenement-infos-2"><div class="gski-evenement-info-inscriptions"><div class
 ="gski-evenement-inscriptions-periodes">Période d'inscription à l'evènement
  du vendredi 21 juillet 2017 à 02:00 au mercredi 26 juillet 2017 à 14:00 <s
 pan class="gski-evenement-inscriptions-impossibles">(Inscriptions impossibl
 es).</span><div class="gski-evenement-inscriptions-types-titres">Inscriptio
 ns ouvertes aux detenteurs des titres Fédéraux valides suivants : Licenciés
  Compétiteurs</div></div></div><div class="gski-evenement-epreuves"><div cl
 ass="gski-evenement-epreuves-titres">Epreuves :</div><ul class="gski-evenem
 ent-epreuves-list"><li><div class="gski-epreuve-date">Le vendredi 28 juille
 t 2017</div><ul class="gski-epreuve-liste-infos"><li>Codex épreuve TMVF0171
 </li><li>Saut Special</li><li>Catégorie(s) : U9 a U15 (Filles)</li></ul></l
 i><li><div class="gski-epreuve-date">Le vendredi 28 juillet 2017</div><ul c
 lass="gski-epreuve-liste-infos"><li>Codex épreuve TMVM0171</li><li>Saut Spe
 cial</li><li>Catégorie(s) : U9 a U15 (Garçons)</li></ul></li></ul></div><di
 v class="gskiepreuves-links"><ul><li><a href="https://skivosges.net/index.p
 hp?option=com_jevents&task=icalevent.detail&evid=823&Itemid=6283">Voir les 
 informations dans l'agenda...</a></li></ul></div></div"><!-- #/gskiepreuve 
 fin du dode généré par le plugin jevents pour GskiEpreuves. . Ne pas modifi
 er cette ligne, ni tout le contenu précedant.  #/gskiepreuve --> <a href="h
 ttps://skivosges.net/agenda/export-synchronisation/detailevenement/828/-/xo
 nrupt-1e-etape-tournee-vo?tmpl=component">Cet évènement a été importé depui
 s :https://skivosges.net/agenda/export-synchronisation/detailevenement/828/
 -/xonrupt-1e-etape-tournee-vo?tmpl=component</a>DTSTAMP:20260421T014329
DTSTART;TZID=Europe/Paris;VALUE=DATE:20170728
DTEND;TZID=Europe/Paris;VALUE=DATE:20170729
SEQUENCE:0
TRANSP:OPAQUE
END:VEVENT
END:VCALENDAR