BEGIN:VCALENDAR
VERSION:2.0
PRODID:-//jEvents 2.0 for Joomla//EN
CALSCALE:GREGORIAN
METHOD:PUBLISH
BEGIN:VTIMEZONE
TZID:Europe/Paris
BEGIN:STANDARD
DTSTART:20161030T020000
RDATE:20170326T030000
TZOFFSETFROM:+0200
TZOFFSETTO:+0100
TZNAME:Europe/Paris CET
END:STANDARD
BEGIN:STANDARD
DTSTART:20171029T020000
RDATE:20180325T030000
TZOFFSETFROM:+0200
TZOFFSETTO:+0100
TZNAME:Europe/Paris CET
END:STANDARD
BEGIN:STANDARD
DTSTART:20181028T020000
RDATE:20190331T030000
TZOFFSETFROM:+0200
TZOFFSETTO:+0100
TZNAME:Europe/Paris CET
END:STANDARD
BEGIN:STANDARD
DTSTART:20191027T020000
RDATE:20200329T030000
TZOFFSETFROM:+0200
TZOFFSETTO:+0100
TZNAME:Europe/Paris CET
END:STANDARD
BEGIN:STANDARD
DTSTART:20201025T020000
RDATE:20210328T030000
TZOFFSETFROM:+0200
TZOFFSETTO:+0100
TZNAME:Europe/Paris CET
END:STANDARD
BEGIN:STANDARD
DTSTART:20211031T020000
RDATE:20220327T030000
TZOFFSETFROM:+0200
TZOFFSETTO:+0100
TZNAME:Europe/Paris CET
END:STANDARD
BEGIN:STANDARD
DTSTART:20221030T020000
RDATE:20230326T030000
TZOFFSETFROM:+0200
TZOFFSETTO:+0100
TZNAME:Europe/Paris CET
END:STANDARD
BEGIN:STANDARD
DTSTART:20231029T020000
RDATE:20240331T030000
TZOFFSETFROM:+0200
TZOFFSETTO:+0100
TZNAME:Europe/Paris CET
END:STANDARD
BEGIN:STANDARD
DTSTART:20241027T020000
RDATE:20250330T030000
TZOFFSETFROM:+0200
TZOFFSETTO:+0100
TZNAME:Europe/Paris CET
END:STANDARD
BEGIN:STANDARD
DTSTART:20251026T020000
RDATE:20260329T030000
TZOFFSETFROM:+0200
TZOFFSETTO:+0100
TZNAME:Europe/Paris CET
END:STANDARD
BEGIN:STANDARD
DTSTART:20261025T020000
RDATE:20270328T030000
TZOFFSETFROM:+0200
TZOFFSETTO:+0100
TZNAME:Europe/Paris CET
END:STANDARD
BEGIN:DAYLIGHT
DTSTART:20160814T000000
RDATE:20161030T020000
TZOFFSETFROM:+0100
TZOFFSETTO:+0200
TZNAME:Europe/Paris CEST
END:DAYLIGHT
BEGIN:DAYLIGHT
DTSTART:20170326T030000
RDATE:20171029T020000
TZOFFSETFROM:+0100
TZOFFSETTO:+0200
TZNAME:Europe/Paris CEST
END:DAYLIGHT
BEGIN:DAYLIGHT
DTSTART:20180325T030000
RDATE:20181028T020000
TZOFFSETFROM:+0100
TZOFFSETTO:+0200
TZNAME:Europe/Paris CEST
END:DAYLIGHT
BEGIN:DAYLIGHT
DTSTART:20190331T030000
RDATE:20191027T020000
TZOFFSETFROM:+0100
TZOFFSETTO:+0200
TZNAME:Europe/Paris CEST
END:DAYLIGHT
BEGIN:DAYLIGHT
DTSTART:20200329T030000
RDATE:20201025T020000
TZOFFSETFROM:+0100
TZOFFSETTO:+0200
TZNAME:Europe/Paris CEST
END:DAYLIGHT
BEGIN:DAYLIGHT
DTSTART:20210328T030000
RDATE:20211031T020000
TZOFFSETFROM:+0100
TZOFFSETTO:+0200
TZNAME:Europe/Paris CEST
END:DAYLIGHT
BEGIN:DAYLIGHT
DTSTART:20220327T030000
RDATE:20221030T020000
TZOFFSETFROM:+0100
TZOFFSETTO:+0200
TZNAME:Europe/Paris CEST
END:DAYLIGHT
BEGIN:DAYLIGHT
DTSTART:20230326T030000
RDATE:20231029T020000
TZOFFSETFROM:+0100
TZOFFSETTO:+0200
TZNAME:Europe/Paris CEST
END:DAYLIGHT
BEGIN:DAYLIGHT
DTSTART:20240331T030000
RDATE:20241027T020000
TZOFFSETFROM:+0100
TZOFFSETTO:+0200
TZNAME:Europe/Paris CEST
END:DAYLIGHT
BEGIN:DAYLIGHT
DTSTART:20250330T030000
RDATE:20251026T020000
TZOFFSETFROM:+0100
TZOFFSETTO:+0200
TZNAME:Europe/Paris CEST
END:DAYLIGHT
BEGIN:DAYLIGHT
DTSTART:20260329T030000
RDATE:20261025T020000
TZOFFSETFROM:+0100
TZOFFSETTO:+0200
TZNAME:Europe/Paris CEST
END:DAYLIGHT
END:VTIMEZONE
BEGIN:VEVENT
UID:b59200e2fcc9f70d60d28adce81c2630
CATEGORIES:Compétition Saut
CREATED:20170920T182831
SUMMARY:Gérardmer Coupe des Vosges Crédit Mutuel étape n° 3
URL;VALUE=URI:https://skivosges.net/agenda/export-synchronisation/detailevenement/834/-/g
 erardmer-coupe-des-vosges-credit-mutuel-etape-n-3?tmpl=component
DESCRIPTION:Gérardmer Coupe des Vosges Crédit Mutuel étape n° 3\n - Codex évenement TMV
 T0200\n - Station : GERARDMER\n - Organisateur : 14469 A.S GERARDMER SKI NO
 RDIQUEPériode d'inscription à l'evènement du mardi 08 août 2017 à 02:00 au 
 dimanche 13 août 2017 à 14:00 (Inscriptions impossibles).Inscriptions ouver
 tes aux detenteurs des titres Fédéraux valides suivants : Licenciés Compéti
 teursEpreuves :\n - Le mardi 15 août 2017\n - Codex épreuve TMVF0201\n - Sa
 ut Special\n - Catégorie(s) : Toutes les Categories (Filles)\n - Le mardi 1
 5 août 2017\n - Codex épreuve TMVM0201\n - Saut Special\n - Catégorie(s) : 
 Toutes les Categories (Garçons)\n - Voir les informations dans l'agenda... 
 (/index.php?option=com_jevents&amp;task=icalevent.detail&amp;evid=829&amp;I
 temid=6283) Cet évènement a été importé depuis :https://skivosges.net/agend
 a/export-synchronisation/detailevenement/834/-/gerardmer-coupe-des-vosges-c
 redit-mutuel-etape-n-3?tmpl=component (https://skivosges.net/agenda/export-
 synchronisation/detailevenement/834/-/gerardmer-coupe-des-vosges-credit-mut
 uel-etape-n-3?tmpl=component)
X-ALT-DESC;FMTTYPE=text/html:<!-- #gskiepreuve code généré par le plugin jevents pour GskiEpreuves. Ne p
 as modifier cette ligne, ni tout le contenu suivant  #gskiepreuve --><div c
 lass="gski-evenement_infos"><div class="gski-evenement-nom">Gérardmer Coupe
  des Vosges Crédit Mutuel étape n° 3</div><div class="gski-evenement-report
 "></div><ul class="gski-evenement-liste-infos"><li>Codex évenement TMVT0200
 </li><li>Station : GERARDMER</li><li>Organisateur : 14469 A.S GERARDMER SKI
  NORDIQUE</li></ul><div class="gski-evenement-infos-2"><div class="gski-eve
 nement-info-inscriptions"><div class="gski-evenement-inscriptions-periodes"
 >Période d'inscription à l'evènement du mardi 08 août 2017 à 02:00 au diman
 che 13 août 2017 à 14:00 <span class="gski-evenement-inscriptions-impossibl
 es">(Inscriptions impossibles).</span><div class="gski-evenement-inscriptio
 ns-types-titres">Inscriptions ouvertes aux detenteurs des titres Fédéraux v
 alides suivants : Licenciés Compétiteurs</div></div></div><div class="gski-
 evenement-epreuves"><div class="gski-evenement-epreuves-titres">Epreuves :<
 /div><ul class="gski-evenement-epreuves-list"><li><div class="gski-epreuve-
 date">Le mardi 15 août 2017</div><ul class="gski-epreuve-liste-infos"><li>C
 odex épreuve TMVF0201</li><li>Saut Special</li><li>Catégorie(s) : Toutes le
 s Categories (Filles)</li></ul></li><li><div class="gski-epreuve-date">Le m
 ardi 15 août 2017</div><ul class="gski-epreuve-liste-infos"><li>Codex épreu
 ve TMVM0201</li><li>Saut Special</li><li>Catégorie(s) : Toutes les Categori
 es (Garçons)</li></ul></li></ul></div><div class="gskiepreuves-links"><ul><
 li><a href="https://skivosges.net/index.php?option=com_jevents&task=icaleve
 nt.detail&evid=829&Itemid=6283">Voir les informations dans l'agenda...</a><
 /li></ul></div></div"><!-- #/gskiepreuve fin du dode généré par le plugin j
 events pour GskiEpreuves. . Ne pas modifier cette ligne, ni tout le contenu
  précedant.  #/gskiepreuve --> <a href="https://skivosges.net/agenda/export
 -synchronisation/detailevenement/834/-/gerardmer-coupe-des-vosges-credit-mu
 tuel-etape-n-3?tmpl=component">Cet évènement a été importé depuis :https://
 skivosges.net/agenda/export-synchronisation/detailevenement/834/-/gerardmer
 -coupe-des-vosges-credit-mutuel-etape-n-3?tmpl=component</a>DTSTAMP:20260420T183816
DTSTART;TZID=Europe/Paris;VALUE=DATE:20170815
DTEND;TZID=Europe/Paris;VALUE=DATE:20170816
SEQUENCE:0
TRANSP:OPAQUE
END:VEVENT
END:VCALENDAR