BEGIN:VCALENDAR
VERSION:2.0
PRODID:-//jEvents 2.0 for Joomla//EN
CALSCALE:GREGORIAN
METHOD:PUBLISH
BEGIN:VTIMEZONE
TZID:Europe/Paris
BEGIN:STANDARD
DTSTART:20161030T020000
RDATE:20170326T030000
TZOFFSETFROM:+0200
TZOFFSETTO:+0100
TZNAME:Europe/Paris CET
END:STANDARD
BEGIN:STANDARD
DTSTART:20171029T020000
RDATE:20180325T030000
TZOFFSETFROM:+0200
TZOFFSETTO:+0100
TZNAME:Europe/Paris CET
END:STANDARD
BEGIN:STANDARD
DTSTART:20181028T020000
RDATE:20190331T030000
TZOFFSETFROM:+0200
TZOFFSETTO:+0100
TZNAME:Europe/Paris CET
END:STANDARD
BEGIN:STANDARD
DTSTART:20191027T020000
RDATE:20200329T030000
TZOFFSETFROM:+0200
TZOFFSETTO:+0100
TZNAME:Europe/Paris CET
END:STANDARD
BEGIN:STANDARD
DTSTART:20201025T020000
RDATE:20210328T030000
TZOFFSETFROM:+0200
TZOFFSETTO:+0100
TZNAME:Europe/Paris CET
END:STANDARD
BEGIN:STANDARD
DTSTART:20211031T020000
RDATE:20220327T030000
TZOFFSETFROM:+0200
TZOFFSETTO:+0100
TZNAME:Europe/Paris CET
END:STANDARD
BEGIN:STANDARD
DTSTART:20221030T020000
RDATE:20230326T030000
TZOFFSETFROM:+0200
TZOFFSETTO:+0100
TZNAME:Europe/Paris CET
END:STANDARD
BEGIN:STANDARD
DTSTART:20231029T020000
RDATE:20240331T030000
TZOFFSETFROM:+0200
TZOFFSETTO:+0100
TZNAME:Europe/Paris CET
END:STANDARD
BEGIN:STANDARD
DTSTART:20241027T020000
RDATE:20250330T030000
TZOFFSETFROM:+0200
TZOFFSETTO:+0100
TZNAME:Europe/Paris CET
END:STANDARD
BEGIN:STANDARD
DTSTART:20251026T020000
RDATE:20260329T030000
TZOFFSETFROM:+0200
TZOFFSETTO:+0100
TZNAME:Europe/Paris CET
END:STANDARD
BEGIN:STANDARD
DTSTART:20261025T020000
RDATE:20270328T030000
TZOFFSETFROM:+0200
TZOFFSETTO:+0100
TZNAME:Europe/Paris CET
END:STANDARD
BEGIN:DAYLIGHT
DTSTART:20160817T000000
RDATE:20161030T020000
TZOFFSETFROM:+0100
TZOFFSETTO:+0200
TZNAME:Europe/Paris CEST
END:DAYLIGHT
BEGIN:DAYLIGHT
DTSTART:20170326T030000
RDATE:20171029T020000
TZOFFSETFROM:+0100
TZOFFSETTO:+0200
TZNAME:Europe/Paris CEST
END:DAYLIGHT
BEGIN:DAYLIGHT
DTSTART:20180325T030000
RDATE:20181028T020000
TZOFFSETFROM:+0100
TZOFFSETTO:+0200
TZNAME:Europe/Paris CEST
END:DAYLIGHT
BEGIN:DAYLIGHT
DTSTART:20190331T030000
RDATE:20191027T020000
TZOFFSETFROM:+0100
TZOFFSETTO:+0200
TZNAME:Europe/Paris CEST
END:DAYLIGHT
BEGIN:DAYLIGHT
DTSTART:20200329T030000
RDATE:20201025T020000
TZOFFSETFROM:+0100
TZOFFSETTO:+0200
TZNAME:Europe/Paris CEST
END:DAYLIGHT
BEGIN:DAYLIGHT
DTSTART:20210328T030000
RDATE:20211031T020000
TZOFFSETFROM:+0100
TZOFFSETTO:+0200
TZNAME:Europe/Paris CEST
END:DAYLIGHT
BEGIN:DAYLIGHT
DTSTART:20220327T030000
RDATE:20221030T020000
TZOFFSETFROM:+0100
TZOFFSETTO:+0200
TZNAME:Europe/Paris CEST
END:DAYLIGHT
BEGIN:DAYLIGHT
DTSTART:20230326T030000
RDATE:20231029T020000
TZOFFSETFROM:+0100
TZOFFSETTO:+0200
TZNAME:Europe/Paris CEST
END:DAYLIGHT
BEGIN:DAYLIGHT
DTSTART:20240331T030000
RDATE:20241027T020000
TZOFFSETFROM:+0100
TZOFFSETTO:+0200
TZNAME:Europe/Paris CEST
END:DAYLIGHT
BEGIN:DAYLIGHT
DTSTART:20250330T030000
RDATE:20251026T020000
TZOFFSETFROM:+0100
TZOFFSETTO:+0200
TZNAME:Europe/Paris CEST
END:DAYLIGHT
BEGIN:DAYLIGHT
DTSTART:20260329T030000
RDATE:20261025T020000
TZOFFSETFROM:+0100
TZOFFSETTO:+0200
TZNAME:Europe/Paris CEST
END:DAYLIGHT
END:VTIMEZONE
BEGIN:VEVENT
UID:8c342f15daa584e464499b274488c892
CATEGORIES:Compétition Saut
CREATED:20170920T182831
SUMMARY:GERARDMER 8e Grand Prix d'été ville de Gérardmer
URL;VALUE=URI:https://skivosges.net/agenda/export-synchronisation/detailevenement/837/-/g
 erardmer-8e-grand-prix-dete-ville-de-gerardmer?tmpl=component
DESCRIPTION:<!-- #gskiepreuve code généré par le plugin jevents pour GskiEpreuves. Ne p
 as modifier cette ligne, ni tout le contenu suivant  #gskiepreuve --><div c
 lass="gski-evenement_infos"><div class="gski-evenement-nom">GERARDMER 8e Gr
 and Prix d'été ville de Gérardmer</div><div class="gski-evenement-report"><
 /div><ul class="gski-evenement-liste-infos"><li>Codex évenement TMVT0210</l
 i><li>Station : GERARDMER</li><li>Organisateur : 14469 A.S GERARDMER SKI NO
 RDIQUE</li></ul><div class="gski-evenement-infos-2"><div class="gski-evenem
 ent-info-inscriptions"><div class="gski-evenement-inscriptions-periodes">Pé
 riode d'inscription à l'evènement du vendredi 11 août 2017 à 02:00 au mercr
 edi 16 août 2017 à 14:00 <span class="gski-evenement-inscriptions-impossibl
 es">(Inscriptions impossibles).</span><div class="gski-evenement-inscriptio
 ns-types-titres">Inscriptions ouvertes aux detenteurs des titres Fédéraux v
 alides suivants : Licenciés Compétiteurs</div></div></div><div class="gski-
 evenement-epreuves"><div class="gski-evenement-epreuves-titres">Epreuves :<
 /div><ul class="gski-evenement-epreuves-list"><li><div class="gski-epreuve-
 date">Le vendredi 18 août 2017</div><ul class="gski-epreuve-liste-infos"><l
 i>Codex épreuve TMVF0211</li><li>Saut Special</li><li>Catégorie(s) : Toutes
  les Categories (Filles)</li></ul></li><li><div class="gski-epreuve-date">L
 e vendredi 18 août 2017</div><ul class="gski-epreuve-liste-infos"><li>Codex
  épreuve TMVM0211</li><li>Saut Special</li><li>Catégorie(s) : Toutes les Ca
 tegories (Garçons)</li></ul></li></ul></div><div class="gskiepreuves-links"
 ><ul><li><a href="/index.php?option=com_jevents&task=icalevent.detail&evid=
 832&Itemid=6283">Voir les informations dans l'agenda...</a></li></ul></div>
 </div"><!-- #/gskiepreuve fin du dode généré par le plugin jevents pour Gsk
 iEpreuves. . Ne pas modifier cette ligne, ni tout le contenu précedant.  #/
 gskiepreuve --> <a href="https://skivosges.net/agenda/export-synchronisatio
 n/detailevenement/837/-/gerardmer-8e-grand-prix-dete-ville-de-gerardmer?tmp
 l=component">Cet évènement a été importé depuis :https://skivosges.net/agen
 da/export-synchronisation/detailevenement/837/-/gerardmer-8e-grand-prix-det
 e-ville-de-gerardmer?tmpl=component</a>
X-ALT-DESC;FMTTYPE=text/html:<!-- #gskiepreuve code généré par le plugin jevents pour GskiEpreuves. Ne p
 as modifier cette ligne, ni tout le contenu suivant  #gskiepreuve --><div c
 lass="gski-evenement_infos"><div class="gski-evenement-nom">GERARDMER 8e Gr
 and Prix d'été ville de Gérardmer</div><div class="gski-evenement-report"><
 /div><ul class="gski-evenement-liste-infos"><li>Codex évenement TMVT0210</l
 i><li>Station : GERARDMER</li><li>Organisateur : 14469 A.S GERARDMER SKI NO
 RDIQUE</li></ul><div class="gski-evenement-infos-2"><div class="gski-evenem
 ent-info-inscriptions"><div class="gski-evenement-inscriptions-periodes">Pé
 riode d'inscription à l'evènement du vendredi 11 août 2017 à 02:00 au mercr
 edi 16 août 2017 à 14:00 <span class="gski-evenement-inscriptions-impossibl
 es">(Inscriptions impossibles).</span><div class="gski-evenement-inscriptio
 ns-types-titres">Inscriptions ouvertes aux detenteurs des titres Fédéraux v
 alides suivants : Licenciés Compétiteurs</div></div></div><div class="gski-
 evenement-epreuves"><div class="gski-evenement-epreuves-titres">Epreuves :<
 /div><ul class="gski-evenement-epreuves-list"><li><div class="gski-epreuve-
 date">Le vendredi 18 août 2017</div><ul class="gski-epreuve-liste-infos"><l
 i>Codex épreuve TMVF0211</li><li>Saut Special</li><li>Catégorie(s) : Toutes
  les Categories (Filles)</li></ul></li><li><div class="gski-epreuve-date">L
 e vendredi 18 août 2017</div><ul class="gski-epreuve-liste-infos"><li>Codex
  épreuve TMVM0211</li><li>Saut Special</li><li>Catégorie(s) : Toutes les Ca
 tegories (Garçons)</li></ul></li></ul></div><div class="gskiepreuves-links"
 ><ul><li><a href="https://skivosges.net/index.php?option=com_jevents&task=i
 calevent.detail&evid=832&Itemid=6283">Voir les informations dans l'agenda..
 .</a></li></ul></div></div"><!-- #/gskiepreuve fin du dode généré par le pl
 ugin jevents pour GskiEpreuves. . Ne pas modifier cette ligne, ni tout le c
 ontenu précedant.  #/gskiepreuve --> <a href="https://skivosges.net/agenda/
 export-synchronisation/detailevenement/837/-/gerardmer-8e-grand-prix-dete-v
 ille-de-gerardmer?tmpl=component">Cet évènement a été importé depuis :https
 ://skivosges.net/agenda/export-synchronisation/detailevenement/837/-/gerard
 mer-8e-grand-prix-dete-ville-de-gerardmer?tmpl=component</a>DTSTAMP:20260420T184353
DTSTART;TZID=Europe/Paris;VALUE=DATE:20170818
DTEND;TZID=Europe/Paris;VALUE=DATE:20170819
SEQUENCE:0
TRANSP:OPAQUE
END:VEVENT
END:VCALENDAR