BEGIN:VCALENDAR
VERSION:2.0
PRODID:-//jEvents 2.0 for Joomla//EN
CALSCALE:GREGORIAN
METHOD:PUBLISH
BEGIN:VTIMEZONE
TZID:Europe/Paris
BEGIN:STANDARD
DTSTART:20161030T020000
RDATE:20170326T030000
TZOFFSETFROM:+0200
TZOFFSETTO:+0100
TZNAME:Europe/Paris CET
END:STANDARD
BEGIN:STANDARD
DTSTART:20171029T020000
RDATE:20180325T030000
TZOFFSETFROM:+0200
TZOFFSETTO:+0100
TZNAME:Europe/Paris CET
END:STANDARD
BEGIN:STANDARD
DTSTART:20181028T020000
RDATE:20190331T030000
TZOFFSETFROM:+0200
TZOFFSETTO:+0100
TZNAME:Europe/Paris CET
END:STANDARD
BEGIN:STANDARD
DTSTART:20191027T020000
RDATE:20200329T030000
TZOFFSETFROM:+0200
TZOFFSETTO:+0100
TZNAME:Europe/Paris CET
END:STANDARD
BEGIN:STANDARD
DTSTART:20201025T020000
RDATE:20210328T030000
TZOFFSETFROM:+0200
TZOFFSETTO:+0100
TZNAME:Europe/Paris CET
END:STANDARD
BEGIN:STANDARD
DTSTART:20211031T020000
RDATE:20220327T030000
TZOFFSETFROM:+0200
TZOFFSETTO:+0100
TZNAME:Europe/Paris CET
END:STANDARD
BEGIN:STANDARD
DTSTART:20221030T020000
RDATE:20230326T030000
TZOFFSETFROM:+0200
TZOFFSETTO:+0100
TZNAME:Europe/Paris CET
END:STANDARD
BEGIN:STANDARD
DTSTART:20231029T020000
RDATE:20240331T030000
TZOFFSETFROM:+0200
TZOFFSETTO:+0100
TZNAME:Europe/Paris CET
END:STANDARD
BEGIN:STANDARD
DTSTART:20241027T020000
RDATE:20250330T030000
TZOFFSETFROM:+0200
TZOFFSETTO:+0100
TZNAME:Europe/Paris CET
END:STANDARD
BEGIN:STANDARD
DTSTART:20251026T020000
RDATE:20260329T030000
TZOFFSETFROM:+0200
TZOFFSETTO:+0100
TZNAME:Europe/Paris CET
END:STANDARD
BEGIN:STANDARD
DTSTART:20261025T020000
RDATE:20270328T030000
TZOFFSETFROM:+0200
TZOFFSETTO:+0100
TZNAME:Europe/Paris CET
END:STANDARD
BEGIN:DAYLIGHT
DTSTART:20160825T000000
RDATE:20161030T020000
TZOFFSETFROM:+0100
TZOFFSETTO:+0200
TZNAME:Europe/Paris CEST
END:DAYLIGHT
BEGIN:DAYLIGHT
DTSTART:20170326T030000
RDATE:20171029T020000
TZOFFSETFROM:+0100
TZOFFSETTO:+0200
TZNAME:Europe/Paris CEST
END:DAYLIGHT
BEGIN:DAYLIGHT
DTSTART:20180325T030000
RDATE:20181028T020000
TZOFFSETFROM:+0100
TZOFFSETTO:+0200
TZNAME:Europe/Paris CEST
END:DAYLIGHT
BEGIN:DAYLIGHT
DTSTART:20190331T030000
RDATE:20191027T020000
TZOFFSETFROM:+0100
TZOFFSETTO:+0200
TZNAME:Europe/Paris CEST
END:DAYLIGHT
BEGIN:DAYLIGHT
DTSTART:20200329T030000
RDATE:20201025T020000
TZOFFSETFROM:+0100
TZOFFSETTO:+0200
TZNAME:Europe/Paris CEST
END:DAYLIGHT
BEGIN:DAYLIGHT
DTSTART:20210328T030000
RDATE:20211031T020000
TZOFFSETFROM:+0100
TZOFFSETTO:+0200
TZNAME:Europe/Paris CEST
END:DAYLIGHT
BEGIN:DAYLIGHT
DTSTART:20220327T030000
RDATE:20221030T020000
TZOFFSETFROM:+0100
TZOFFSETTO:+0200
TZNAME:Europe/Paris CEST
END:DAYLIGHT
BEGIN:DAYLIGHT
DTSTART:20230326T030000
RDATE:20231029T020000
TZOFFSETFROM:+0100
TZOFFSETTO:+0200
TZNAME:Europe/Paris CEST
END:DAYLIGHT
BEGIN:DAYLIGHT
DTSTART:20240331T030000
RDATE:20241027T020000
TZOFFSETFROM:+0100
TZOFFSETTO:+0200
TZNAME:Europe/Paris CEST
END:DAYLIGHT
BEGIN:DAYLIGHT
DTSTART:20250330T030000
RDATE:20251026T020000
TZOFFSETFROM:+0100
TZOFFSETTO:+0200
TZNAME:Europe/Paris CEST
END:DAYLIGHT
BEGIN:DAYLIGHT
DTSTART:20260329T030000
RDATE:20261025T020000
TZOFFSETFROM:+0100
TZOFFSETTO:+0200
TZNAME:Europe/Paris CEST
END:DAYLIGHT
END:VTIMEZONE
BEGIN:VEVENT
UID:8e78f8d896180524c8bb7ef88e60c0df
CATEGORIES:Compétition Saut
CREATED:20170920T182831
SUMMARY:Epreuve de réserve n° 1
URL;VALUE=URI:https://skivosges.net/agenda/export-synchronisation/detailevenement/838/-/e
 preuve-de-reserve-n-1?tmpl=component
DESCRIPTION:Epreuve de réserve n° 1\n - Codex évenement TMVT0260\n - Organisateur : Pér
 iode d'inscription à l'evènement du samedi 19 août 2017 à 02:00 au jeudi 24
  août 2017 à 14:00 (Inscriptions impossibles).Inscriptions ouvertes aux det
 enteurs des titres Fédéraux valides suivants : Licenciés CompétiteursEpreuv
 es :\n - Le samedi 26 août 2017\n - Codex épreuve TMVF0261\n - Saut Special
 \n - Catégorie(s) : Toutes les Categories (Filles)\n - Le samedi 26 août 20
 17\n - Codex épreuve TMVM0261\n - Saut Special\n - Catégorie(s) : Toutes le
 s Categories (Garçons)\n - Voir les informations dans l'agenda... (/index.p
 hp?option=com_jevents&amp;task=icalevent.detail&amp;evid=833&amp;Itemid=628
 3) Cet évènement a été importé depuis :https://skivosges.net/agenda/export-
 synchronisation/detailevenement/838/-/epreuve-de-reserve-n-1?tmpl=component
X-ALT-DESC;FMTTYPE=text/html:<!-- #gskiepreuve code généré par le plugin jevents pour GskiEpreuves. Ne p
 as modifier cette ligne, ni tout le contenu suivant  #gskiepreuve --><div c
 lass="gski-evenement_infos"><div class="gski-evenement-nom">Epreuve de rése
 rve n° 1</div><div class="gski-evenement-report"></div><ul class="gski-even
 ement-liste-infos"><li>Codex évenement TMVT0260</li><li>Organisateur : </li
 ></ul><div class="gski-evenement-infos-2"><div class="gski-evenement-info-i
 nscriptions"><div class="gski-evenement-inscriptions-periodes">Période d'in
 scription à l'evènement du samedi 19 août 2017 à 02:00 au jeudi 24 août 201
 7 à 14:00 <span class="gski-evenement-inscriptions-impossibles">(Inscriptio
 ns impossibles).</span><div class="gski-evenement-inscriptions-types-titres
 ">Inscriptions ouvertes aux detenteurs des titres Fédéraux valides suivants
  : Licenciés Compétiteurs</div></div></div><div class="gski-evenement-epreu
 ves"><div class="gski-evenement-epreuves-titres">Epreuves :</div><ul class=
 "gski-evenement-epreuves-list"><li><div class="gski-epreuve-date">Le samedi
  26 août 2017</div><ul class="gski-epreuve-liste-infos"><li>Codex épreuve T
 MVF0261</li><li>Saut Special</li><li>Catégorie(s) : Toutes les Categories (
 Filles)</li></ul></li><li><div class="gski-epreuve-date">Le samedi 26 août 
 2017</div><ul class="gski-epreuve-liste-infos"><li>Codex épreuve TMVM0261</
 li><li>Saut Special</li><li>Catégorie(s) : Toutes les Categories (Garçons)<
 /li></ul></li></ul></div><div class="gskiepreuves-links"><ul><li><a href="h
 ttps://skivosges.net/index.php?option=com_jevents&task=icalevent.detail&evi
 d=833&Itemid=6283">Voir les informations dans l'agenda...</a></li></ul></di
 v></div"><!-- #/gskiepreuve fin du dode généré par le plugin jevents pour G
 skiEpreuves. . Ne pas modifier cette ligne, ni tout le contenu précedant.  
 #/gskiepreuve --> <a href="https://skivosges.net/agenda/export-synchronisat
 ion/detailevenement/838/-/epreuve-de-reserve-n-1?tmpl=component">Cet évènem
 ent a été importé depuis :https://skivosges.net/agenda/export-synchronisati
 on/detailevenement/838/-/epreuve-de-reserve-n-1?tmpl=component</a>DTSTAMP:20260420T184000
DTSTART;TZID=Europe/Paris;VALUE=DATE:20170826
DTEND;TZID=Europe/Paris;VALUE=DATE:20170827
SEQUENCE:0
TRANSP:OPAQUE
END:VEVENT
END:VCALENDAR