BEGIN:VCALENDAR
VERSION:2.0
PRODID:-//jEvents 2.0 for Joomla//EN
CALSCALE:GREGORIAN
METHOD:PUBLISH
BEGIN:VTIMEZONE
TZID:Europe/Paris
BEGIN:STANDARD
DTSTART:20161030T020000
RDATE:20170326T030000
TZOFFSETFROM:+0200
TZOFFSETTO:+0100
TZNAME:Europe/Paris CET
END:STANDARD
BEGIN:STANDARD
DTSTART:20171029T020000
RDATE:20180325T030000
TZOFFSETFROM:+0200
TZOFFSETTO:+0100
TZNAME:Europe/Paris CET
END:STANDARD
BEGIN:STANDARD
DTSTART:20181028T020000
RDATE:20190331T030000
TZOFFSETFROM:+0200
TZOFFSETTO:+0100
TZNAME:Europe/Paris CET
END:STANDARD
BEGIN:STANDARD
DTSTART:20191027T020000
RDATE:20200329T030000
TZOFFSETFROM:+0200
TZOFFSETTO:+0100
TZNAME:Europe/Paris CET
END:STANDARD
BEGIN:STANDARD
DTSTART:20201025T020000
RDATE:20210328T030000
TZOFFSETFROM:+0200
TZOFFSETTO:+0100
TZNAME:Europe/Paris CET
END:STANDARD
BEGIN:STANDARD
DTSTART:20211031T020000
RDATE:20220327T030000
TZOFFSETFROM:+0200
TZOFFSETTO:+0100
TZNAME:Europe/Paris CET
END:STANDARD
BEGIN:STANDARD
DTSTART:20221030T020000
RDATE:20230326T030000
TZOFFSETFROM:+0200
TZOFFSETTO:+0100
TZNAME:Europe/Paris CET
END:STANDARD
BEGIN:STANDARD
DTSTART:20231029T020000
RDATE:20240331T030000
TZOFFSETFROM:+0200
TZOFFSETTO:+0100
TZNAME:Europe/Paris CET
END:STANDARD
BEGIN:STANDARD
DTSTART:20241027T020000
RDATE:20250330T030000
TZOFFSETFROM:+0200
TZOFFSETTO:+0100
TZNAME:Europe/Paris CET
END:STANDARD
BEGIN:STANDARD
DTSTART:20251026T020000
RDATE:20260329T030000
TZOFFSETFROM:+0200
TZOFFSETTO:+0100
TZNAME:Europe/Paris CET
END:STANDARD
BEGIN:STANDARD
DTSTART:20261025T020000
RDATE:20270328T030000
TZOFFSETFROM:+0200
TZOFFSETTO:+0100
TZNAME:Europe/Paris CET
END:STANDARD
BEGIN:DAYLIGHT
DTSTART:20160909T000000
RDATE:20161030T020000
TZOFFSETFROM:+0100
TZOFFSETTO:+0200
TZNAME:Europe/Paris CEST
END:DAYLIGHT
BEGIN:DAYLIGHT
DTSTART:20170326T030000
RDATE:20171029T020000
TZOFFSETFROM:+0100
TZOFFSETTO:+0200
TZNAME:Europe/Paris CEST
END:DAYLIGHT
BEGIN:DAYLIGHT
DTSTART:20180325T030000
RDATE:20181028T020000
TZOFFSETFROM:+0100
TZOFFSETTO:+0200
TZNAME:Europe/Paris CEST
END:DAYLIGHT
BEGIN:DAYLIGHT
DTSTART:20190331T030000
RDATE:20191027T020000
TZOFFSETFROM:+0100
TZOFFSETTO:+0200
TZNAME:Europe/Paris CEST
END:DAYLIGHT
BEGIN:DAYLIGHT
DTSTART:20200329T030000
RDATE:20201025T020000
TZOFFSETFROM:+0100
TZOFFSETTO:+0200
TZNAME:Europe/Paris CEST
END:DAYLIGHT
BEGIN:DAYLIGHT
DTSTART:20210328T030000
RDATE:20211031T020000
TZOFFSETFROM:+0100
TZOFFSETTO:+0200
TZNAME:Europe/Paris CEST
END:DAYLIGHT
BEGIN:DAYLIGHT
DTSTART:20220327T030000
RDATE:20221030T020000
TZOFFSETFROM:+0100
TZOFFSETTO:+0200
TZNAME:Europe/Paris CEST
END:DAYLIGHT
BEGIN:DAYLIGHT
DTSTART:20230326T030000
RDATE:20231029T020000
TZOFFSETFROM:+0100
TZOFFSETTO:+0200
TZNAME:Europe/Paris CEST
END:DAYLIGHT
BEGIN:DAYLIGHT
DTSTART:20240331T030000
RDATE:20241027T020000
TZOFFSETFROM:+0100
TZOFFSETTO:+0200
TZNAME:Europe/Paris CEST
END:DAYLIGHT
BEGIN:DAYLIGHT
DTSTART:20250330T030000
RDATE:20251026T020000
TZOFFSETFROM:+0100
TZOFFSETTO:+0200
TZNAME:Europe/Paris CEST
END:DAYLIGHT
BEGIN:DAYLIGHT
DTSTART:20260329T030000
RDATE:20261025T020000
TZOFFSETFROM:+0100
TZOFFSETTO:+0200
TZNAME:Europe/Paris CEST
END:DAYLIGHT
END:VTIMEZONE
BEGIN:VEVENT
UID:05f96bf1d88e25b93512a45381268f87
CATEGORIES:Compétition Biathlon
CREATED:20170920T182831
SUMMARY:Biathlon LabBresse 2
URL;VALUE=URI:https://skivosges.net/agenda/export-synchronisation/detailevenement/843/-/b
 iathlon-labbresse-2?tmpl=component
DESCRIPTION:Biathlon LabBresse 2\n - Codex évenement BMVT0100\n - Station : LA BRESSE L
 ISPACH\n - Organisateur : 14024 LA BRESSAUDE SECTION SKIPériode d'inscripti
 on à l'evènement du dimanche 03 septembre 2017 à 02:00 au vendredi 08 septe
 mbre 2017 à 14:00 (Inscriptions impossibles).Inscriptions ouvertes aux dete
 nteurs des titres Fédéraux valides suivants : Licenciés CompétiteursEpreuve
 s :\n - Le dimanche 10 septembre 2017\n - Codex épreuve BMVF0101\n - Indivi
 duel\n - Catégorie(s) : U14 (Filles)\n - Le dimanche 10 septembre 2017\n - 
 Codex épreuve BMVM0101\n - Individuel\n - Catégorie(s) : U14 (Garçons)\n - 
 Le dimanche 10 septembre 2017\n - Codex épreuve BMVF0102\n - Individuel\n -
  Catégorie(s) : U16 a SEN (Filles)\n - Le dimanche 10 septembre 2017\n - Co
 dex épreuve BMVM0102\n - Individuel\n - Catégorie(s) : U16 a SEN (Garçons)\
 n - Voir les informations dans l'agenda... (/index.php?option=com_jevents&a
 mp;task=icalevent.detail&amp;evid=838&amp;Itemid=6283) Cet évènement a été 
 importé depuis :https://skivosges.net/agenda/export-synchronisation/detaile
 venement/843/-/biathlon-labbresse-2?tmpl=component (https://skivosges.net/a
 genda/export-synchronisation/detailevenement/843/-/biathlon-labbresse-2?tmp
 l=component)
X-ALT-DESC;FMTTYPE=text/html:<!-- #gskiepreuve code généré par le plugin jevents pour GskiEpreuves. Ne p
 as modifier cette ligne, ni tout le contenu suivant  #gskiepreuve --><div c
 lass="gski-evenement_infos"><div class="gski-evenement-nom">Biathlon LabBre
 sse 2</div><div class="gski-evenement-report"></div><ul class="gski-eveneme
 nt-liste-infos"><li>Codex évenement BMVT0100</li><li>Station : LA BRESSE LI
 SPACH</li><li>Organisateur : 14024 LA BRESSAUDE SECTION SKI</li></ul><div c
 lass="gski-evenement-infos-2"><div class="gski-evenement-info-inscriptions"
 ><div class="gski-evenement-inscriptions-periodes">Période d'inscription à 
 l'evènement du dimanche 03 septembre 2017 à 02:00 au vendredi 08 septembre 
 2017 à 14:00 <span class="gski-evenement-inscriptions-impossibles">(Inscrip
 tions impossibles).</span><div class="gski-evenement-inscriptions-types-tit
 res">Inscriptions ouvertes aux detenteurs des titres Fédéraux valides suiva
 nts : Licenciés Compétiteurs</div></div></div><div class="gski-evenement-ep
 reuves"><div class="gski-evenement-epreuves-titres">Epreuves :</div><ul cla
 ss="gski-evenement-epreuves-list"><li><div class="gski-epreuve-date">Le dim
 anche 10 septembre 2017</div><ul class="gski-epreuve-liste-infos"><li>Codex
  épreuve BMVF0101</li><li>Individuel</li><li>Catégorie(s) : U14 (Filles)</l
 i></ul></li><li><div class="gski-epreuve-date">Le dimanche 10 septembre 201
 7</div><ul class="gski-epreuve-liste-infos"><li>Codex épreuve BMVM0101</li>
 <li>Individuel</li><li>Catégorie(s) : U14 (Garçons)</li></ul></li><li><div 
 class="gski-epreuve-date">Le dimanche 10 septembre 2017</div><ul class="gsk
 i-epreuve-liste-infos"><li>Codex épreuve BMVF0102</li><li>Individuel</li><l
 i>Catégorie(s) : U16 a SEN (Filles)</li></ul></li><li><div class="gski-epre
 uve-date">Le dimanche 10 septembre 2017</div><ul class="gski-epreuve-liste-
 infos"><li>Codex épreuve BMVM0102</li><li>Individuel</li><li>Catégorie(s) :
  U16 a SEN (Garçons)</li></ul></li></ul></div><div class="gskiepreuves-link
 s"><ul><li><a href="https://skivosges.net/index.php?option=com_jevents&task
 =icalevent.detail&evid=838&Itemid=6283">Voir les informations dans l'agenda
 ...</a></li></ul></div></div"><!-- #/gskiepreuve fin du dode généré par le 
 plugin jevents pour GskiEpreuves. . Ne pas modifier cette ligne, ni tout le
  contenu précedant.  #/gskiepreuve --> <a href="https://skivosges.net/agend
 a/export-synchronisation/detailevenement/843/-/biathlon-labbresse-2?tmpl=co
 mponent">Cet évènement a été importé depuis :https://skivosges.net/agenda/e
 xport-synchronisation/detailevenement/843/-/biathlon-labbresse-2?tmpl=compo
 nent</a>DTSTAMP:20260420T220734
DTSTART;TZID=Europe/Paris;VALUE=DATE:20170910
DTEND;TZID=Europe/Paris;VALUE=DATE:20170911
SEQUENCE:0
TRANSP:OPAQUE
END:VEVENT
END:VCALENDAR