BEGIN:VCALENDAR
VERSION:2.0
PRODID:-//jEvents 2.0 for Joomla//EN
CALSCALE:GREGORIAN
METHOD:PUBLISH
BEGIN:VTIMEZONE
TZID:Europe/Paris
BEGIN:STANDARD
DTSTART:20161030T020000
RDATE:20170326T030000
TZOFFSETFROM:+0200
TZOFFSETTO:+0100
TZNAME:Europe/Paris CET
END:STANDARD
BEGIN:STANDARD
DTSTART:20171029T020000
RDATE:20180325T030000
TZOFFSETFROM:+0200
TZOFFSETTO:+0100
TZNAME:Europe/Paris CET
END:STANDARD
BEGIN:STANDARD
DTSTART:20181028T020000
RDATE:20190331T030000
TZOFFSETFROM:+0200
TZOFFSETTO:+0100
TZNAME:Europe/Paris CET
END:STANDARD
BEGIN:STANDARD
DTSTART:20191027T020000
RDATE:20200329T030000
TZOFFSETFROM:+0200
TZOFFSETTO:+0100
TZNAME:Europe/Paris CET
END:STANDARD
BEGIN:STANDARD
DTSTART:20201025T020000
RDATE:20210328T030000
TZOFFSETFROM:+0200
TZOFFSETTO:+0100
TZNAME:Europe/Paris CET
END:STANDARD
BEGIN:STANDARD
DTSTART:20211031T020000
RDATE:20220327T030000
TZOFFSETFROM:+0200
TZOFFSETTO:+0100
TZNAME:Europe/Paris CET
END:STANDARD
BEGIN:STANDARD
DTSTART:20221030T020000
RDATE:20230326T030000
TZOFFSETFROM:+0200
TZOFFSETTO:+0100
TZNAME:Europe/Paris CET
END:STANDARD
BEGIN:STANDARD
DTSTART:20231029T020000
RDATE:20240331T030000
TZOFFSETFROM:+0200
TZOFFSETTO:+0100
TZNAME:Europe/Paris CET
END:STANDARD
BEGIN:STANDARD
DTSTART:20241027T020000
RDATE:20250330T030000
TZOFFSETFROM:+0200
TZOFFSETTO:+0100
TZNAME:Europe/Paris CET
END:STANDARD
BEGIN:STANDARD
DTSTART:20251026T020000
RDATE:20260329T030000
TZOFFSETFROM:+0200
TZOFFSETTO:+0100
TZNAME:Europe/Paris CET
END:STANDARD
BEGIN:STANDARD
DTSTART:20261025T020000
RDATE:20270328T030000
TZOFFSETFROM:+0200
TZOFFSETTO:+0100
TZNAME:Europe/Paris CET
END:STANDARD
BEGIN:DAYLIGHT
DTSTART:20160922T000000
RDATE:20161030T020000
TZOFFSETFROM:+0100
TZOFFSETTO:+0200
TZNAME:Europe/Paris CEST
END:DAYLIGHT
BEGIN:DAYLIGHT
DTSTART:20170326T030000
RDATE:20171029T020000
TZOFFSETFROM:+0100
TZOFFSETTO:+0200
TZNAME:Europe/Paris CEST
END:DAYLIGHT
BEGIN:DAYLIGHT
DTSTART:20180325T030000
RDATE:20181028T020000
TZOFFSETFROM:+0100
TZOFFSETTO:+0200
TZNAME:Europe/Paris CEST
END:DAYLIGHT
BEGIN:DAYLIGHT
DTSTART:20190331T030000
RDATE:20191027T020000
TZOFFSETFROM:+0100
TZOFFSETTO:+0200
TZNAME:Europe/Paris CEST
END:DAYLIGHT
BEGIN:DAYLIGHT
DTSTART:20200329T030000
RDATE:20201025T020000
TZOFFSETFROM:+0100
TZOFFSETTO:+0200
TZNAME:Europe/Paris CEST
END:DAYLIGHT
BEGIN:DAYLIGHT
DTSTART:20210328T030000
RDATE:20211031T020000
TZOFFSETFROM:+0100
TZOFFSETTO:+0200
TZNAME:Europe/Paris CEST
END:DAYLIGHT
BEGIN:DAYLIGHT
DTSTART:20220327T030000
RDATE:20221030T020000
TZOFFSETFROM:+0100
TZOFFSETTO:+0200
TZNAME:Europe/Paris CEST
END:DAYLIGHT
BEGIN:DAYLIGHT
DTSTART:20230326T030000
RDATE:20231029T020000
TZOFFSETFROM:+0100
TZOFFSETTO:+0200
TZNAME:Europe/Paris CEST
END:DAYLIGHT
BEGIN:DAYLIGHT
DTSTART:20240331T030000
RDATE:20241027T020000
TZOFFSETFROM:+0100
TZOFFSETTO:+0200
TZNAME:Europe/Paris CEST
END:DAYLIGHT
BEGIN:DAYLIGHT
DTSTART:20250330T030000
RDATE:20251026T020000
TZOFFSETFROM:+0100
TZOFFSETTO:+0200
TZNAME:Europe/Paris CEST
END:DAYLIGHT
BEGIN:DAYLIGHT
DTSTART:20260329T030000
RDATE:20261025T020000
TZOFFSETFROM:+0100
TZOFFSETTO:+0200
TZNAME:Europe/Paris CEST
END:DAYLIGHT
END:VTIMEZONE
BEGIN:VEVENT
UID:8bb6a6f1eeb8d2c954cbd2121c32ceb7
CATEGORIES:Compétition Saut
CREATED:20170920T182831
SUMMARY:VENTRON
URL;VALUE=URI:https://skivosges.net/agenda/export-synchronisation/detailevenement/844/-/v
 entron?tmpl=component
DESCRIPTION:<!-- #gskiepreuve code généré par le plugin jevents pour GskiEpreuves. Ne p
 as modifier cette ligne, ni tout le contenu suivant  #gskiepreuve --><div c
 lass="gski-evenement_infos"><div class="gski-evenement-nom">VENTRON</div><d
 iv class="gski-evenement-report"></div><ul class="gski-evenement-liste-info
 s"><li>Codex évenement TMVT0220</li><li>Organisateur : 14083 U.S VENTRON</l
 i></ul><div class="gski-evenement-infos-2"><div class="gski-evenement-info-
 inscriptions"><div class="gski-evenement-inscriptions-periodes">Période d'i
 nscription à l'evènement du samedi 16 septembre 2017 à 02:00 au jeudi 21 se
 ptembre 2017 à 14:00 <span class="gski-evenement-inscriptions-impossibles">
 (Inscriptions impossibles).</span><div class="gski-evenement-inscriptions-t
 ypes-titres">Inscriptions ouvertes aux detenteurs des titres Fédéraux valid
 es suivants : Licenciés Compétiteurs</div></div></div><div class="gski-even
 ement-epreuves"><div class="gski-evenement-epreuves-titres">Epreuves :</div
 ><ul class="gski-evenement-epreuves-list"><li><div class="gski-epreuve-date
 ">Le samedi 23 septembre 2017</div><ul class="gski-epreuve-liste-infos"><li
 >Codex épreuve TMVF0221</li><li>Saut Special</li><li>Catégorie(s) : Toutes 
 les Categories (Filles)</li></ul></li><li><div class="gski-epreuve-date">Le
  samedi 23 septembre 2017</div><ul class="gski-epreuve-liste-infos"><li>Cod
 ex épreuve TMVM0221</li><li>Saut Special</li><li>Catégorie(s) : Toutes les 
 Categories (Garçons)</li></ul></li></ul></div><div class="gskiepreuves-link
 s"><ul><li><a href="/index.php?option=com_jevents&task=icalevent.detail&evi
 d=839&Itemid=6283">Voir les informations dans l'agenda...</a></li><li><a hr
 ef="/index.php?option=com_gskiepreuves&view=afficheresultats&format_option=
 tous&filter[search]=TMVT0220&filter[date_debut]=23-09-2017&filter[date_fin]
 =23-09-2017&code_activite=SAUT&Itemid=6283">Vers les résultats...</a></li><
 /ul></div></div"><!-- #/gskiepreuve fin du dode généré par le plugin jevent
 s pour GskiEpreuves. . Ne pas modifier cette ligne, ni tout le contenu préc
 edant.  #/gskiepreuve --> <a href="https://skivosges.net/agenda/export-sync
 hronisation/detailevenement/844/-/ventron?tmpl=component">Cet évènement a é
 té importé depuis :https://skivosges.net/agenda/export-synchronisation/deta
 ilevenement/844/-/ventron?tmpl=component</a>
X-ALT-DESC;FMTTYPE=text/html:<!-- #gskiepreuve code généré par le plugin jevents pour GskiEpreuves. Ne p
 as modifier cette ligne, ni tout le contenu suivant  #gskiepreuve --><div c
 lass="gski-evenement_infos"><div class="gski-evenement-nom">VENTRON</div><d
 iv class="gski-evenement-report"></div><ul class="gski-evenement-liste-info
 s"><li>Codex évenement TMVT0220</li><li>Organisateur : 14083 U.S VENTRON</l
 i></ul><div class="gski-evenement-infos-2"><div class="gski-evenement-info-
 inscriptions"><div class="gski-evenement-inscriptions-periodes">Période d'i
 nscription à l'evènement du samedi 16 septembre 2017 à 02:00 au jeudi 21 se
 ptembre 2017 à 14:00 <span class="gski-evenement-inscriptions-impossibles">
 (Inscriptions impossibles).</span><div class="gski-evenement-inscriptions-t
 ypes-titres">Inscriptions ouvertes aux detenteurs des titres Fédéraux valid
 es suivants : Licenciés Compétiteurs</div></div></div><div class="gski-even
 ement-epreuves"><div class="gski-evenement-epreuves-titres">Epreuves :</div
 ><ul class="gski-evenement-epreuves-list"><li><div class="gski-epreuve-date
 ">Le samedi 23 septembre 2017</div><ul class="gski-epreuve-liste-infos"><li
 >Codex épreuve TMVF0221</li><li>Saut Special</li><li>Catégorie(s) : Toutes 
 les Categories (Filles)</li></ul></li><li><div class="gski-epreuve-date">Le
  samedi 23 septembre 2017</div><ul class="gski-epreuve-liste-infos"><li>Cod
 ex épreuve TMVM0221</li><li>Saut Special</li><li>Catégorie(s) : Toutes les 
 Categories (Garçons)</li></ul></li></ul></div><div class="gskiepreuves-link
 s"><ul><li><a href="https://skivosges.net/index.php?option=com_jevents&task
 =icalevent.detail&evid=839&Itemid=6283">Voir les informations dans l'agenda
 ...</a></li><li><a href="https://skivosges.net/index.php?option=com_gskiepr
 euves&view=afficheresultats&format_option=tous&filter[search]=TMVT0220&filt
 er[date_debut]=23-09-2017&filter[date_fin]=23-09-2017&code_activite=SAUT&It
 emid=6283">Vers les résultats...</a></li></ul></div></div"><!-- #/gskiepreu
 ve fin du dode généré par le plugin jevents pour GskiEpreuves. . Ne pas mod
 ifier cette ligne, ni tout le contenu précedant.  #/gskiepreuve --> <a href
 ="https://skivosges.net/agenda/export-synchronisation/detailevenement/844/-
 /ventron?tmpl=component">Cet évènement a été importé depuis :https://skivos
 ges.net/agenda/export-synchronisation/detailevenement/844/-/ventron?tmpl=co
 mponent</a>DTSTAMP:20260421T051215
DTSTART;TZID=Europe/Paris;VALUE=DATE:20170923
DTEND;TZID=Europe/Paris;VALUE=DATE:20170924
SEQUENCE:0
TRANSP:OPAQUE
END:VEVENT
END:VCALENDAR