BEGIN:VCALENDAR
VERSION:2.0
PRODID:-//jEvents 2.0 for Joomla//EN
CALSCALE:GREGORIAN
METHOD:PUBLISH
BEGIN:VTIMEZONE
TZID:Europe/Paris
BEGIN:STANDARD
DTSTART:20161030T020000
RDATE:20170326T030000
TZOFFSETFROM:+0200
TZOFFSETTO:+0100
TZNAME:Europe/Paris CET
END:STANDARD
BEGIN:STANDARD
DTSTART:20171029T020000
RDATE:20180325T030000
TZOFFSETFROM:+0200
TZOFFSETTO:+0100
TZNAME:Europe/Paris CET
END:STANDARD
BEGIN:STANDARD
DTSTART:20181028T020000
RDATE:20190331T030000
TZOFFSETFROM:+0200
TZOFFSETTO:+0100
TZNAME:Europe/Paris CET
END:STANDARD
BEGIN:STANDARD
DTSTART:20191027T020000
RDATE:20200329T030000
TZOFFSETFROM:+0200
TZOFFSETTO:+0100
TZNAME:Europe/Paris CET
END:STANDARD
BEGIN:STANDARD
DTSTART:20201025T020000
RDATE:20210328T030000
TZOFFSETFROM:+0200
TZOFFSETTO:+0100
TZNAME:Europe/Paris CET
END:STANDARD
BEGIN:STANDARD
DTSTART:20211031T020000
RDATE:20220327T030000
TZOFFSETFROM:+0200
TZOFFSETTO:+0100
TZNAME:Europe/Paris CET
END:STANDARD
BEGIN:STANDARD
DTSTART:20221030T020000
RDATE:20230326T030000
TZOFFSETFROM:+0200
TZOFFSETTO:+0100
TZNAME:Europe/Paris CET
END:STANDARD
BEGIN:STANDARD
DTSTART:20231029T020000
RDATE:20240331T030000
TZOFFSETFROM:+0200
TZOFFSETTO:+0100
TZNAME:Europe/Paris CET
END:STANDARD
BEGIN:STANDARD
DTSTART:20241027T020000
RDATE:20250330T030000
TZOFFSETFROM:+0200
TZOFFSETTO:+0100
TZNAME:Europe/Paris CET
END:STANDARD
BEGIN:STANDARD
DTSTART:20251026T020000
RDATE:20260329T030000
TZOFFSETFROM:+0200
TZOFFSETTO:+0100
TZNAME:Europe/Paris CET
END:STANDARD
BEGIN:STANDARD
DTSTART:20261025T020000
RDATE:20270328T030000
TZOFFSETFROM:+0200
TZOFFSETTO:+0100
TZNAME:Europe/Paris CET
END:STANDARD
BEGIN:DAYLIGHT
DTSTART:20161006T000000
RDATE:20161030T020000
TZOFFSETFROM:+0100
TZOFFSETTO:+0200
TZNAME:Europe/Paris CEST
END:DAYLIGHT
BEGIN:DAYLIGHT
DTSTART:20170326T030000
RDATE:20171029T020000
TZOFFSETFROM:+0100
TZOFFSETTO:+0200
TZNAME:Europe/Paris CEST
END:DAYLIGHT
BEGIN:DAYLIGHT
DTSTART:20180325T030000
RDATE:20181028T020000
TZOFFSETFROM:+0100
TZOFFSETTO:+0200
TZNAME:Europe/Paris CEST
END:DAYLIGHT
BEGIN:DAYLIGHT
DTSTART:20190331T030000
RDATE:20191027T020000
TZOFFSETFROM:+0100
TZOFFSETTO:+0200
TZNAME:Europe/Paris CEST
END:DAYLIGHT
BEGIN:DAYLIGHT
DTSTART:20200329T030000
RDATE:20201025T020000
TZOFFSETFROM:+0100
TZOFFSETTO:+0200
TZNAME:Europe/Paris CEST
END:DAYLIGHT
BEGIN:DAYLIGHT
DTSTART:20210328T030000
RDATE:20211031T020000
TZOFFSETFROM:+0100
TZOFFSETTO:+0200
TZNAME:Europe/Paris CEST
END:DAYLIGHT
BEGIN:DAYLIGHT
DTSTART:20220327T030000
RDATE:20221030T020000
TZOFFSETFROM:+0100
TZOFFSETTO:+0200
TZNAME:Europe/Paris CEST
END:DAYLIGHT
BEGIN:DAYLIGHT
DTSTART:20230326T030000
RDATE:20231029T020000
TZOFFSETFROM:+0100
TZOFFSETTO:+0200
TZNAME:Europe/Paris CEST
END:DAYLIGHT
BEGIN:DAYLIGHT
DTSTART:20240331T030000
RDATE:20241027T020000
TZOFFSETFROM:+0100
TZOFFSETTO:+0200
TZNAME:Europe/Paris CEST
END:DAYLIGHT
BEGIN:DAYLIGHT
DTSTART:20250330T030000
RDATE:20251026T020000
TZOFFSETFROM:+0100
TZOFFSETTO:+0200
TZNAME:Europe/Paris CEST
END:DAYLIGHT
BEGIN:DAYLIGHT
DTSTART:20260329T030000
RDATE:20261025T020000
TZOFFSETFROM:+0100
TZOFFSETTO:+0200
TZNAME:Europe/Paris CEST
END:DAYLIGHT
END:VTIMEZONE
BEGIN:VEVENT
UID:fd7d3d96ea395da87c64f9cdf734e648
CATEGORIES:Compétition Saut
CREATED:20170920T182831
SUMMARY:BUSSANG Coupe des Vosges Crédit Mutuel + combiné étape 5
URL;VALUE=URI:https://skivosges.net/agenda/export-synchronisation/detailevenement/846/-/b
 ussang-coupe-des-vosges-credit-mutuel-combine-etape-5?tmpl=component
DESCRIPTION:BUSSANG Coupe des Vosges Crédit Mutuel + combiné étape 5\n - Codex évenemen
 t TMVT0230\n - Station : BUSSANG LARCENAIRE\n - Organisateur : 14007 UNION 
 SPORTIVE BUSSANGPériode d'inscription à l'evènement du samedi 30 septembre 
 2017 à 02:00 au jeudi 05 octobre 2017 à 14:00 (Inscriptions impossibles).In
 scriptions ouvertes aux detenteurs des titres Fédéraux valides suivants : L
 icenciés CompétiteursEpreuves :\n - Le samedi 07 octobre 2017\n - Codex épr
 euve TMVF0231\n - Saut Special\n - Catégorie(s) : Toutes les Categories (Fi
 lles)\n - Le samedi 07 octobre 2017\n - Codex épreuve TMVM0231\n - Saut Spe
 cial\n - Catégorie(s) : Toutes les Categories (Garçons)\n - Voir les inform
 ations dans l'agenda... (/index.php?option=com_jevents&amp;task=icalevent.d
 etail&amp;evid=841&amp;Itemid=6283) Cet évènement a été importé depuis :htt
 ps://skivosges.net/agenda/export-synchronisation/detailevenement/846/-/buss
 ang-coupe-des-vosges-credit-mutuel-combine-etape-5?tmpl=component (https://
 skivosges.net/agenda/export-synchronisation/detailevenement/846/-/bussang-c
 oupe-des-vosges-credit-mutuel-combine-etape-5?tmpl=component)
X-ALT-DESC;FMTTYPE=text/html:<!-- #gskiepreuve code généré par le plugin jevents pour GskiEpreuves. Ne p
 as modifier cette ligne, ni tout le contenu suivant  #gskiepreuve --><div c
 lass="gski-evenement_infos"><div class="gski-evenement-nom">BUSSANG Coupe d
 es Vosges Crédit Mutuel + combiné étape 5</div><div class="gski-evenement-r
 eport"></div><ul class="gski-evenement-liste-infos"><li>Codex évenement TMV
 T0230</li><li>Station : BUSSANG LARCENAIRE</li><li>Organisateur : 14007 UNI
 ON SPORTIVE BUSSANG</li></ul><div class="gski-evenement-infos-2"><div class
 ="gski-evenement-info-inscriptions"><div class="gski-evenement-inscriptions
 -periodes">Période d'inscription à l'evènement du samedi 30 septembre 2017 
 à 02:00 au jeudi 05 octobre 2017 à 14:00 <span class="gski-evenement-inscri
 ptions-impossibles">(Inscriptions impossibles).</span><div class="gski-even
 ement-inscriptions-types-titres">Inscriptions ouvertes aux detenteurs des t
 itres Fédéraux valides suivants : Licenciés Compétiteurs</div></div></div><
 div class="gski-evenement-epreuves"><div class="gski-evenement-epreuves-tit
 res">Epreuves :</div><ul class="gski-evenement-epreuves-list"><li><div clas
 s="gski-epreuve-date">Le samedi 07 octobre 2017</div><ul class="gski-epreuv
 e-liste-infos"><li>Codex épreuve TMVF0231</li><li>Saut Special</li><li>Caté
 gorie(s) : Toutes les Categories (Filles)</li></ul></li><li><div class="gsk
 i-epreuve-date">Le samedi 07 octobre 2017</div><ul class="gski-epreuve-list
 e-infos"><li>Codex épreuve TMVM0231</li><li>Saut Special</li><li>Catégorie(
 s) : Toutes les Categories (Garçons)</li></ul></li></ul></div><div class="g
 skiepreuves-links"><ul><li><a href="https://skivosges.net/index.php?option=
 com_jevents&task=icalevent.detail&evid=841&Itemid=6283">Voir les informatio
 ns dans l'agenda...</a></li></ul></div></div"><!-- #/gskiepreuve fin du dod
 e généré par le plugin jevents pour GskiEpreuves. . Ne pas modifier cette l
 igne, ni tout le contenu précedant.  #/gskiepreuve --> <a href="https://ski
 vosges.net/agenda/export-synchronisation/detailevenement/846/-/bussang-coup
 e-des-vosges-credit-mutuel-combine-etape-5?tmpl=component">Cet évènement a 
 été importé depuis :https://skivosges.net/agenda/export-synchronisation/det
 ailevenement/846/-/bussang-coupe-des-vosges-credit-mutuel-combine-etape-5?t
 mpl=component</a>DTSTAMP:20260421T014254
DTSTART;TZID=Europe/Paris;VALUE=DATE:20171007
DTEND;TZID=Europe/Paris;VALUE=DATE:20171008
SEQUENCE:0
TRANSP:OPAQUE
END:VEVENT
END:VCALENDAR