BEGIN:VCALENDAR
VERSION:2.0
PRODID:-//jEvents 2.0 for Joomla//EN
CALSCALE:GREGORIAN
METHOD:PUBLISH
BEGIN:VTIMEZONE
TZID:Europe/Paris
BEGIN:STANDARD
DTSTART:20161030T020000
RDATE:20170326T030000
TZOFFSETFROM:+0200
TZOFFSETTO:+0100
TZNAME:Europe/Paris CET
END:STANDARD
BEGIN:STANDARD
DTSTART:20171029T020000
RDATE:20180325T030000
TZOFFSETFROM:+0200
TZOFFSETTO:+0100
TZNAME:Europe/Paris CET
END:STANDARD
BEGIN:STANDARD
DTSTART:20181028T020000
RDATE:20190331T030000
TZOFFSETFROM:+0200
TZOFFSETTO:+0100
TZNAME:Europe/Paris CET
END:STANDARD
BEGIN:STANDARD
DTSTART:20191027T020000
RDATE:20200329T030000
TZOFFSETFROM:+0200
TZOFFSETTO:+0100
TZNAME:Europe/Paris CET
END:STANDARD
BEGIN:STANDARD
DTSTART:20201025T020000
RDATE:20210328T030000
TZOFFSETFROM:+0200
TZOFFSETTO:+0100
TZNAME:Europe/Paris CET
END:STANDARD
BEGIN:STANDARD
DTSTART:20211031T020000
RDATE:20220327T030000
TZOFFSETFROM:+0200
TZOFFSETTO:+0100
TZNAME:Europe/Paris CET
END:STANDARD
BEGIN:STANDARD
DTSTART:20221030T020000
RDATE:20230326T030000
TZOFFSETFROM:+0200
TZOFFSETTO:+0100
TZNAME:Europe/Paris CET
END:STANDARD
BEGIN:STANDARD
DTSTART:20231029T020000
RDATE:20240331T030000
TZOFFSETFROM:+0200
TZOFFSETTO:+0100
TZNAME:Europe/Paris CET
END:STANDARD
BEGIN:STANDARD
DTSTART:20241027T020000
RDATE:20250330T030000
TZOFFSETFROM:+0200
TZOFFSETTO:+0100
TZNAME:Europe/Paris CET
END:STANDARD
BEGIN:STANDARD
DTSTART:20251026T020000
RDATE:20260329T030000
TZOFFSETFROM:+0200
TZOFFSETTO:+0100
TZNAME:Europe/Paris CET
END:STANDARD
BEGIN:STANDARD
DTSTART:20261025T020000
RDATE:20270328T030000
TZOFFSETFROM:+0200
TZOFFSETTO:+0100
TZNAME:Europe/Paris CET
END:STANDARD
BEGIN:DAYLIGHT
DTSTART:20161007T000000
RDATE:20161030T020000
TZOFFSETFROM:+0100
TZOFFSETTO:+0200
TZNAME:Europe/Paris CEST
END:DAYLIGHT
BEGIN:DAYLIGHT
DTSTART:20170326T030000
RDATE:20171029T020000
TZOFFSETFROM:+0100
TZOFFSETTO:+0200
TZNAME:Europe/Paris CEST
END:DAYLIGHT
BEGIN:DAYLIGHT
DTSTART:20180325T030000
RDATE:20181028T020000
TZOFFSETFROM:+0100
TZOFFSETTO:+0200
TZNAME:Europe/Paris CEST
END:DAYLIGHT
BEGIN:DAYLIGHT
DTSTART:20190331T030000
RDATE:20191027T020000
TZOFFSETFROM:+0100
TZOFFSETTO:+0200
TZNAME:Europe/Paris CEST
END:DAYLIGHT
BEGIN:DAYLIGHT
DTSTART:20200329T030000
RDATE:20201025T020000
TZOFFSETFROM:+0100
TZOFFSETTO:+0200
TZNAME:Europe/Paris CEST
END:DAYLIGHT
BEGIN:DAYLIGHT
DTSTART:20210328T030000
RDATE:20211031T020000
TZOFFSETFROM:+0100
TZOFFSETTO:+0200
TZNAME:Europe/Paris CEST
END:DAYLIGHT
BEGIN:DAYLIGHT
DTSTART:20220327T030000
RDATE:20221030T020000
TZOFFSETFROM:+0100
TZOFFSETTO:+0200
TZNAME:Europe/Paris CEST
END:DAYLIGHT
BEGIN:DAYLIGHT
DTSTART:20230326T030000
RDATE:20231029T020000
TZOFFSETFROM:+0100
TZOFFSETTO:+0200
TZNAME:Europe/Paris CEST
END:DAYLIGHT
BEGIN:DAYLIGHT
DTSTART:20240331T030000
RDATE:20241027T020000
TZOFFSETFROM:+0100
TZOFFSETTO:+0200
TZNAME:Europe/Paris CEST
END:DAYLIGHT
BEGIN:DAYLIGHT
DTSTART:20250330T030000
RDATE:20251026T020000
TZOFFSETFROM:+0100
TZOFFSETTO:+0200
TZNAME:Europe/Paris CEST
END:DAYLIGHT
BEGIN:DAYLIGHT
DTSTART:20260329T030000
RDATE:20261025T020000
TZOFFSETFROM:+0100
TZOFFSETTO:+0200
TZNAME:Europe/Paris CEST
END:DAYLIGHT
END:VTIMEZONE
BEGIN:VEVENT
UID:d81ce36eececbfcddbbcfb0b3d9dd322
CATEGORIES:Roller Ski
CREATED:20170920T182831
SUMMARY:Ski Roue La Bresse Gerardmer
URL;VALUE=URI:https://skivosges.net/agenda/export-synchronisation/detailevenement/849/-/s
 ki-roue-la-bresse-gerardmer?tmpl=component
DESCRIPTION:<!-- #gskiepreuve code généré par le plugin jevents pour GskiEpreuves. Ne p
 as modifier cette ligne, ni tout le contenu suivant  #gskiepreuve --><div c
 lass="gski-evenement_infos"><div class="gski-evenement-nom">Ski Roue La Bre
 sse Gerardmer</div><div class="gski-evenement-report"></div><ul class="gski
 -evenement-liste-infos"><li>Codex évenement OMVT0020</li><li>Station : GERA
 RDMER</li><li>Organisateur : 14469 A.S GERARDMER SKI NORDIQUE</li></ul><div
  class="gski-evenement-infos-2"><div class="gski-evenement-info-inscription
 s"><div class="gski-evenement-inscriptions-periodes">Période d'inscription 
 à l'evènement du dimanche 01 octobre 2017 à 02:00 au vendredi 06 octobre 20
 17 à 14:00 <span class="gski-evenement-inscriptions-impossibles">(Inscripti
 ons impossibles).</span><div class="gski-evenement-inscriptions-types-titre
 s">Inscriptions ouvertes aux detenteurs des titres Fédéraux valides suivant
 s : Licenciés Compétiteurs</div></div></div><div class="gski-evenement-epre
 uves"><div class="gski-evenement-epreuves-titres">Epreuves :</div><ul class
 ="gski-evenement-epreuves-list"><li><div class="gski-epreuve-date">Le diman
 che 08 octobre 2017</div><ul class="gski-epreuve-liste-infos"><li>Codex épr
 euve OMVF0021</li><li>(IND)</li><li>Catégorie(s) : U14 (Filles)</li></ul></
 li><li><div class="gski-epreuve-date">Le dimanche 08 octobre 2017</div><ul 
 class="gski-epreuve-liste-infos"><li>Codex épreuve OMVM0021</li><li>(IND)</
 li><li>Catégorie(s) : U14 (Garçons)</li></ul></li><li><div class="gski-epre
 uve-date">Le dimanche 08 octobre 2017</div><ul class="gski-epreuve-liste-in
 fos"><li>Codex épreuve OMVF0022</li><li>(IND)</li><li>Catégorie(s) : U16 a 
 SEN (Filles)</li></ul></li><li><div class="gski-epreuve-date">Le dimanche 0
 8 octobre 2017</div><ul class="gski-epreuve-liste-infos"><li>Codex épreuve 
 OMVM0022</li><li>(IND)</li><li>Catégorie(s) : U16 a SEN (Garçons)</li></ul>
 </li></ul></div><div class="gskiepreuves-links"><ul><li><a href="/index.php
 ?option=com_jevents&task=icalevent.detail&evid=844&Itemid=6283">Voir les in
 formations dans l'agenda...</a></li></ul></div></div"><!-- #/gskiepreuve fi
 n du dode généré par le plugin jevents pour GskiEpreuves. . Ne pas modifier
  cette ligne, ni tout le contenu précedant.  #/gskiepreuve --> <a href="htt
 ps://skivosges.net/agenda/export-synchronisation/detailevenement/849/-/ski-
 roue-la-bresse-gerardmer?tmpl=component">Cet évènement a été importé depuis
  :https://skivosges.net/agenda/export-synchronisation/detailevenement/849/-
 /ski-roue-la-bresse-gerardmer?tmpl=component</a>
X-ALT-DESC;FMTTYPE=text/html:<!-- #gskiepreuve code généré par le plugin jevents pour GskiEpreuves. Ne p
 as modifier cette ligne, ni tout le contenu suivant  #gskiepreuve --><div c
 lass="gski-evenement_infos"><div class="gski-evenement-nom">Ski Roue La Bre
 sse Gerardmer</div><div class="gski-evenement-report"></div><ul class="gski
 -evenement-liste-infos"><li>Codex évenement OMVT0020</li><li>Station : GERA
 RDMER</li><li>Organisateur : 14469 A.S GERARDMER SKI NORDIQUE</li></ul><div
  class="gski-evenement-infos-2"><div class="gski-evenement-info-inscription
 s"><div class="gski-evenement-inscriptions-periodes">Période d'inscription 
 à l'evènement du dimanche 01 octobre 2017 à 02:00 au vendredi 06 octobre 20
 17 à 14:00 <span class="gski-evenement-inscriptions-impossibles">(Inscripti
 ons impossibles).</span><div class="gski-evenement-inscriptions-types-titre
 s">Inscriptions ouvertes aux detenteurs des titres Fédéraux valides suivant
 s : Licenciés Compétiteurs</div></div></div><div class="gski-evenement-epre
 uves"><div class="gski-evenement-epreuves-titres">Epreuves :</div><ul class
 ="gski-evenement-epreuves-list"><li><div class="gski-epreuve-date">Le diman
 che 08 octobre 2017</div><ul class="gski-epreuve-liste-infos"><li>Codex épr
 euve OMVF0021</li><li>(IND)</li><li>Catégorie(s) : U14 (Filles)</li></ul></
 li><li><div class="gski-epreuve-date">Le dimanche 08 octobre 2017</div><ul 
 class="gski-epreuve-liste-infos"><li>Codex épreuve OMVM0021</li><li>(IND)</
 li><li>Catégorie(s) : U14 (Garçons)</li></ul></li><li><div class="gski-epre
 uve-date">Le dimanche 08 octobre 2017</div><ul class="gski-epreuve-liste-in
 fos"><li>Codex épreuve OMVF0022</li><li>(IND)</li><li>Catégorie(s) : U16 a 
 SEN (Filles)</li></ul></li><li><div class="gski-epreuve-date">Le dimanche 0
 8 octobre 2017</div><ul class="gski-epreuve-liste-infos"><li>Codex épreuve 
 OMVM0022</li><li>(IND)</li><li>Catégorie(s) : U16 a SEN (Garçons)</li></ul>
 </li></ul></div><div class="gskiepreuves-links"><ul><li><a href="https://sk
 ivosges.net/index.php?option=com_jevents&task=icalevent.detail&evid=844&Ite
 mid=6283">Voir les informations dans l'agenda...</a></li></ul></div></div">
 <!-- #/gskiepreuve fin du dode généré par le plugin jevents pour GskiEpreuv
 es. . Ne pas modifier cette ligne, ni tout le contenu précedant.  #/gskiepr
 euve --> <a href="https://skivosges.net/agenda/export-synchronisation/detai
 levenement/849/-/ski-roue-la-bresse-gerardmer?tmpl=component">Cet évènement
  a été importé depuis :https://skivosges.net/agenda/export-synchronisation/
 detailevenement/849/-/ski-roue-la-bresse-gerardmer?tmpl=component</a>DTSTAMP:20260421T051200
DTSTART;TZID=Europe/Paris;VALUE=DATE:20171008
DTEND;TZID=Europe/Paris;VALUE=DATE:20171009
SEQUENCE:0
TRANSP:OPAQUE
END:VEVENT
END:VCALENDAR