BEGIN:VCALENDAR
VERSION:2.0
PRODID:-//jEvents 2.0 for Joomla//EN
CALSCALE:GREGORIAN
METHOD:PUBLISH
BEGIN:VTIMEZONE
TZID:Europe/Paris
BEGIN:STANDARD
DTSTART:20161110T000000
RDATE:20170326T030000
TZOFFSETFROM:+0200
TZOFFSETTO:+0100
TZNAME:Europe/Paris CET
END:STANDARD
BEGIN:STANDARD
DTSTART:20171029T020000
RDATE:20180325T030000
TZOFFSETFROM:+0200
TZOFFSETTO:+0100
TZNAME:Europe/Paris CET
END:STANDARD
BEGIN:STANDARD
DTSTART:20181028T020000
RDATE:20190331T030000
TZOFFSETFROM:+0200
TZOFFSETTO:+0100
TZNAME:Europe/Paris CET
END:STANDARD
BEGIN:STANDARD
DTSTART:20191027T020000
RDATE:20200329T030000
TZOFFSETFROM:+0200
TZOFFSETTO:+0100
TZNAME:Europe/Paris CET
END:STANDARD
BEGIN:STANDARD
DTSTART:20201025T020000
RDATE:20210328T030000
TZOFFSETFROM:+0200
TZOFFSETTO:+0100
TZNAME:Europe/Paris CET
END:STANDARD
BEGIN:STANDARD
DTSTART:20211031T020000
RDATE:20220327T030000
TZOFFSETFROM:+0200
TZOFFSETTO:+0100
TZNAME:Europe/Paris CET
END:STANDARD
BEGIN:STANDARD
DTSTART:20221030T020000
RDATE:20230326T030000
TZOFFSETFROM:+0200
TZOFFSETTO:+0100
TZNAME:Europe/Paris CET
END:STANDARD
BEGIN:STANDARD
DTSTART:20231029T020000
RDATE:20240331T030000
TZOFFSETFROM:+0200
TZOFFSETTO:+0100
TZNAME:Europe/Paris CET
END:STANDARD
BEGIN:STANDARD
DTSTART:20241027T020000
RDATE:20250330T030000
TZOFFSETFROM:+0200
TZOFFSETTO:+0100
TZNAME:Europe/Paris CET
END:STANDARD
BEGIN:STANDARD
DTSTART:20251026T020000
RDATE:20260329T030000
TZOFFSETFROM:+0200
TZOFFSETTO:+0100
TZNAME:Europe/Paris CET
END:STANDARD
BEGIN:STANDARD
DTSTART:20261025T020000
RDATE:20270328T030000
TZOFFSETFROM:+0200
TZOFFSETTO:+0100
TZNAME:Europe/Paris CET
END:STANDARD
BEGIN:DAYLIGHT
DTSTART:20170326T030000
RDATE:20171029T020000
TZOFFSETFROM:+0100
TZOFFSETTO:+0200
TZNAME:Europe/Paris CEST
END:DAYLIGHT
BEGIN:DAYLIGHT
DTSTART:20180325T030000
RDATE:20181028T020000
TZOFFSETFROM:+0100
TZOFFSETTO:+0200
TZNAME:Europe/Paris CEST
END:DAYLIGHT
BEGIN:DAYLIGHT
DTSTART:20190331T030000
RDATE:20191027T020000
TZOFFSETFROM:+0100
TZOFFSETTO:+0200
TZNAME:Europe/Paris CEST
END:DAYLIGHT
BEGIN:DAYLIGHT
DTSTART:20200329T030000
RDATE:20201025T020000
TZOFFSETFROM:+0100
TZOFFSETTO:+0200
TZNAME:Europe/Paris CEST
END:DAYLIGHT
BEGIN:DAYLIGHT
DTSTART:20210328T030000
RDATE:20211031T020000
TZOFFSETFROM:+0100
TZOFFSETTO:+0200
TZNAME:Europe/Paris CEST
END:DAYLIGHT
BEGIN:DAYLIGHT
DTSTART:20220327T030000
RDATE:20221030T020000
TZOFFSETFROM:+0100
TZOFFSETTO:+0200
TZNAME:Europe/Paris CEST
END:DAYLIGHT
BEGIN:DAYLIGHT
DTSTART:20230326T030000
RDATE:20231029T020000
TZOFFSETFROM:+0100
TZOFFSETTO:+0200
TZNAME:Europe/Paris CEST
END:DAYLIGHT
BEGIN:DAYLIGHT
DTSTART:20240331T030000
RDATE:20241027T020000
TZOFFSETFROM:+0100
TZOFFSETTO:+0200
TZNAME:Europe/Paris CEST
END:DAYLIGHT
BEGIN:DAYLIGHT
DTSTART:20250330T030000
RDATE:20251026T020000
TZOFFSETFROM:+0100
TZOFFSETTO:+0200
TZNAME:Europe/Paris CEST
END:DAYLIGHT
BEGIN:DAYLIGHT
DTSTART:20260329T030000
RDATE:20261025T020000
TZOFFSETFROM:+0100
TZOFFSETTO:+0200
TZNAME:Europe/Paris CEST
END:DAYLIGHT
END:VTIMEZONE
BEGIN:VEVENT
UID:c313e2e0e08509b3d8afee5b66dbdc79
CATEGORIES:Compétition Biathlon
CREATED:20170920T182831
SUMMARY:La Tenine  du 11 novembre 2017
URL;VALUE=URI:https://skivosges.net/agenda/export-synchronisation/detailevenement/854/-/l
 a-tenine-du-11-novembre-2017?tmpl=component
DESCRIPTION:<!-- #gskiepreuve code généré par le plugin jevents pour GskiEpreuves. Ne p
 as modifier cette ligne, ni tout le contenu suivant  #gskiepreuve --><div c
 lass="gski-evenement_infos"><div class="gski-evenement-nom">La Tenine  du 1
 1 novembre 2017</div><div class="gski-evenement-report"></div><ul class="gs
 ki-evenement-liste-infos"><li>Codex évenement BMVT0120</li><li>Station : LA
  BRESSE LISPACH</li><li>Organisateur : 14486 BASSE SUR LE RUPT SKI NORDIQUE
 </li></ul><div class="gski-evenement-infos-2"><div class="gski-evenement-in
 fo-inscriptions"><div class="gski-evenement-inscriptions-periodes">Période 
 d'inscription à l'evènement du samedi 04 novembre 2017 à 01:00 au jeudi 09 
 novembre 2017 à 13:00 <span class="gski-evenement-inscriptions-impossibles"
 >(Inscriptions impossibles).</span><div class="gski-evenement-inscriptions-
 types-titres">Inscriptions ouvertes aux detenteurs des titres Fédéraux vali
 des suivants : Licenciés Compétiteurs</div></div></div><div class="gski-eve
 nement-epreuves"><div class="gski-evenement-epreuves-titres">Epreuves :</di
 v><ul class="gski-evenement-epreuves-list"><li><div class="gski-epreuve-dat
 e">Le samedi 11 novembre 2017</div><ul class="gski-epreuve-liste-infos"><li
 >Codex épreuve BMVF0121</li><li>Individuel</li><li>Catégorie(s) : U14 (Fill
 es)</li></ul></li><li><div class="gski-epreuve-date">Le samedi 11 novembre 
 2017</div><ul class="gski-epreuve-liste-infos"><li>Codex épreuve BMVM0121</
 li><li>Individuel</li><li>Catégorie(s) : U14 (Garçons)</li></ul></li><li><d
 iv class="gski-epreuve-date">Le samedi 11 novembre 2017</div><ul class="gsk
 i-epreuve-liste-infos"><li>Codex épreuve BMVF0122</li><li>Individuel</li><l
 i>Catégorie(s) : U16 a SEN (Filles)</li></ul></li><li><div class="gski-epre
 uve-date">Le samedi 11 novembre 2017</div><ul class="gski-epreuve-liste-inf
 os"><li>Codex épreuve BMVM0122</li><li>Individuel</li><li>Catégorie(s) : U1
 6 a SEN (Garçons)</li></ul></li></ul></div><div class="gskiepreuves-links">
 <ul><li><a href="/index.php?option=com_jevents&task=icalevent.detail&evid=8
 49&Itemid=6283">Voir les informations dans l'agenda...</a></li></ul></div><
 /div"><!-- #/gskiepreuve fin du dode généré par le plugin jevents pour Gski
 Epreuves. . Ne pas modifier cette ligne, ni tout le contenu précedant.  #/g
 skiepreuve --> <a href="https://skivosges.net/agenda/export-synchronisation
 /detailevenement/854/-/la-tenine-du-11-novembre-2017?tmpl=component">Cet év
 ènement a été importé depuis :https://skivosges.net/agenda/export-synchroni
 sation/detailevenement/854/-/la-tenine-du-11-novembre-2017?tmpl=component</
 a>
X-ALT-DESC;FMTTYPE=text/html:<!-- #gskiepreuve code généré par le plugin jevents pour GskiEpreuves. Ne p
 as modifier cette ligne, ni tout le contenu suivant  #gskiepreuve --><div c
 lass="gski-evenement_infos"><div class="gski-evenement-nom">La Tenine  du 1
 1 novembre 2017</div><div class="gski-evenement-report"></div><ul class="gs
 ki-evenement-liste-infos"><li>Codex évenement BMVT0120</li><li>Station : LA
  BRESSE LISPACH</li><li>Organisateur : 14486 BASSE SUR LE RUPT SKI NORDIQUE
 </li></ul><div class="gski-evenement-infos-2"><div class="gski-evenement-in
 fo-inscriptions"><div class="gski-evenement-inscriptions-periodes">Période 
 d'inscription à l'evènement du samedi 04 novembre 2017 à 01:00 au jeudi 09 
 novembre 2017 à 13:00 <span class="gski-evenement-inscriptions-impossibles"
 >(Inscriptions impossibles).</span><div class="gski-evenement-inscriptions-
 types-titres">Inscriptions ouvertes aux detenteurs des titres Fédéraux vali
 des suivants : Licenciés Compétiteurs</div></div></div><div class="gski-eve
 nement-epreuves"><div class="gski-evenement-epreuves-titres">Epreuves :</di
 v><ul class="gski-evenement-epreuves-list"><li><div class="gski-epreuve-dat
 e">Le samedi 11 novembre 2017</div><ul class="gski-epreuve-liste-infos"><li
 >Codex épreuve BMVF0121</li><li>Individuel</li><li>Catégorie(s) : U14 (Fill
 es)</li></ul></li><li><div class="gski-epreuve-date">Le samedi 11 novembre 
 2017</div><ul class="gski-epreuve-liste-infos"><li>Codex épreuve BMVM0121</
 li><li>Individuel</li><li>Catégorie(s) : U14 (Garçons)</li></ul></li><li><d
 iv class="gski-epreuve-date">Le samedi 11 novembre 2017</div><ul class="gsk
 i-epreuve-liste-infos"><li>Codex épreuve BMVF0122</li><li>Individuel</li><l
 i>Catégorie(s) : U16 a SEN (Filles)</li></ul></li><li><div class="gski-epre
 uve-date">Le samedi 11 novembre 2017</div><ul class="gski-epreuve-liste-inf
 os"><li>Codex épreuve BMVM0122</li><li>Individuel</li><li>Catégorie(s) : U1
 6 a SEN (Garçons)</li></ul></li></ul></div><div class="gskiepreuves-links">
 <ul><li><a href="https://skivosges.net/index.php?option=com_jevents&task=ic
 alevent.detail&evid=849&Itemid=6283">Voir les informations dans l'agenda...
 </a></li></ul></div></div"><!-- #/gskiepreuve fin du dode généré par le plu
 gin jevents pour GskiEpreuves. . Ne pas modifier cette ligne, ni tout le co
 ntenu précedant.  #/gskiepreuve --> <a href="https://skivosges.net/agenda/e
 xport-synchronisation/detailevenement/854/-/la-tenine-du-11-novembre-2017?t
 mpl=component">Cet évènement a été importé depuis :https://skivosges.net/ag
 enda/export-synchronisation/detailevenement/854/-/la-tenine-du-11-novembre-
 2017?tmpl=component</a>DTSTAMP:20260420T221344
DTSTART;TZID=Europe/Paris;VALUE=DATE:20171111
DTEND;TZID=Europe/Paris;VALUE=DATE:20171112
SEQUENCE:0
TRANSP:OPAQUE
END:VEVENT
END:VCALENDAR