BEGIN:VCALENDAR
VERSION:2.0
PRODID:-//jEvents 2.0 for Joomla//EN
CALSCALE:GREGORIAN
METHOD:PUBLISH
BEGIN:VTIMEZONE
TZID:Europe/Paris
BEGIN:STANDARD
DTSTART:20161030T020000
RDATE:20170326T030000
TZOFFSETFROM:+0200
TZOFFSETTO:+0100
TZNAME:Europe/Paris CET
END:STANDARD
BEGIN:STANDARD
DTSTART:20171029T020000
RDATE:20180325T030000
TZOFFSETFROM:+0200
TZOFFSETTO:+0100
TZNAME:Europe/Paris CET
END:STANDARD
BEGIN:STANDARD
DTSTART:20181028T020000
RDATE:20190331T030000
TZOFFSETFROM:+0200
TZOFFSETTO:+0100
TZNAME:Europe/Paris CET
END:STANDARD
BEGIN:STANDARD
DTSTART:20191027T020000
RDATE:20200329T030000
TZOFFSETFROM:+0200
TZOFFSETTO:+0100
TZNAME:Europe/Paris CET
END:STANDARD
BEGIN:STANDARD
DTSTART:20201025T020000
RDATE:20210328T030000
TZOFFSETFROM:+0200
TZOFFSETTO:+0100
TZNAME:Europe/Paris CET
END:STANDARD
BEGIN:STANDARD
DTSTART:20211031T020000
RDATE:20220327T030000
TZOFFSETFROM:+0200
TZOFFSETTO:+0100
TZNAME:Europe/Paris CET
END:STANDARD
BEGIN:STANDARD
DTSTART:20221030T020000
RDATE:20230326T030000
TZOFFSETFROM:+0200
TZOFFSETTO:+0100
TZNAME:Europe/Paris CET
END:STANDARD
BEGIN:STANDARD
DTSTART:20231029T020000
RDATE:20240331T030000
TZOFFSETFROM:+0200
TZOFFSETTO:+0100
TZNAME:Europe/Paris CET
END:STANDARD
BEGIN:STANDARD
DTSTART:20241027T020000
RDATE:20250330T030000
TZOFFSETFROM:+0200
TZOFFSETTO:+0100
TZNAME:Europe/Paris CET
END:STANDARD
BEGIN:STANDARD
DTSTART:20251026T020000
RDATE:20260329T030000
TZOFFSETFROM:+0200
TZOFFSETTO:+0100
TZNAME:Europe/Paris CET
END:STANDARD
BEGIN:STANDARD
DTSTART:20261025T020000
RDATE:20270328T030000
TZOFFSETFROM:+0200
TZOFFSETTO:+0100
TZNAME:Europe/Paris CET
END:STANDARD
BEGIN:DAYLIGHT
DTSTART:20161006T094500
RDATE:20161030T020000
TZOFFSETFROM:+0100
TZOFFSETTO:+0200
TZNAME:Europe/Paris CEST
END:DAYLIGHT
BEGIN:DAYLIGHT
DTSTART:20170326T030000
RDATE:20171029T020000
TZOFFSETFROM:+0100
TZOFFSETTO:+0200
TZNAME:Europe/Paris CEST
END:DAYLIGHT
BEGIN:DAYLIGHT
DTSTART:20180325T030000
RDATE:20181028T020000
TZOFFSETFROM:+0100
TZOFFSETTO:+0200
TZNAME:Europe/Paris CEST
END:DAYLIGHT
BEGIN:DAYLIGHT
DTSTART:20190331T030000
RDATE:20191027T020000
TZOFFSETFROM:+0100
TZOFFSETTO:+0200
TZNAME:Europe/Paris CEST
END:DAYLIGHT
BEGIN:DAYLIGHT
DTSTART:20200329T030000
RDATE:20201025T020000
TZOFFSETFROM:+0100
TZOFFSETTO:+0200
TZNAME:Europe/Paris CEST
END:DAYLIGHT
BEGIN:DAYLIGHT
DTSTART:20210328T030000
RDATE:20211031T020000
TZOFFSETFROM:+0100
TZOFFSETTO:+0200
TZNAME:Europe/Paris CEST
END:DAYLIGHT
BEGIN:DAYLIGHT
DTSTART:20220327T030000
RDATE:20221030T020000
TZOFFSETFROM:+0100
TZOFFSETTO:+0200
TZNAME:Europe/Paris CEST
END:DAYLIGHT
BEGIN:DAYLIGHT
DTSTART:20230326T030000
RDATE:20231029T020000
TZOFFSETFROM:+0100
TZOFFSETTO:+0200
TZNAME:Europe/Paris CEST
END:DAYLIGHT
BEGIN:DAYLIGHT
DTSTART:20240331T030000
RDATE:20241027T020000
TZOFFSETFROM:+0100
TZOFFSETTO:+0200
TZNAME:Europe/Paris CEST
END:DAYLIGHT
BEGIN:DAYLIGHT
DTSTART:20250330T030000
RDATE:20251026T020000
TZOFFSETFROM:+0100
TZOFFSETTO:+0200
TZNAME:Europe/Paris CEST
END:DAYLIGHT
BEGIN:DAYLIGHT
DTSTART:20260329T030000
RDATE:20261025T020000
TZOFFSETFROM:+0100
TZOFFSETTO:+0200
TZNAME:Europe/Paris CEST
END:DAYLIGHT
END:VTIMEZONE
BEGIN:VEVENT
UID:ac43c7b4b550b4ebc0db4a082ad77aed
CATEGORIES:Compétition Ski Alpin
CREATED:20170925T233258
SUMMARY:Réunion Calendrier Alpin 2017/2018
LOCATION:Lycée La Haie Griselle
URL;VALUE=URI:https://skivosges.net/agenda/export-synchronisation/detailevenement/856/-/r
 eunion-calendrier-alpin-2017-2018?tmpl=component
DESCRIPTION:<!-- START: Articles Anywhere --><p>Pr&eacute;paration du calendrier Alpin 
 2017/2018 </p><h2>Demande d'inscription au Calendrier</h2><p>La demande d&r
 squo;inscription &agrave; l&rsquo;aide du fichier &laquo; <a href="document
 s/2017/roland/competitions/alpin/calendrier-2018/fiche_inscriptions_simplif
 iees_clubs_calendrier_alpin_CRMVS_2017.xlsx"><span class="wf_file_text">fic
 he d&rsquo;inscription simplifi&eacute;e...</span></a> &raquo;</p><ul><li>d
 evra parvenir par mail &agrave; : <!-- Cette adresse électronique est proté
 gée contre les robots spammeurs. --><a href="javascript:/* Cette adresse &e
 acute;lectronique est prot&eacute;g&eacute;e contre les robots spammeurs.*/
 "><span class="cloaked_email ep_bc683d1d"><span data-ep-a="jc&#108;" data-e
 p-b=""><span data-ep-b="&#46;&#102;&#114;" data-ep-a="&#101;&#112;&#64;"><s
 pan data-ep-b="&#110;g&#101;" data-ep-a="&#111;r&#97;"></span></span></span
 ></span><script>RegularLabs.EmailProtector.unCloak("ep_bc683d1d");</script>
 <span class="cloaked_email ep_b6a15701" style="display:none;"><span data-ep
 -a="&#106;c&#108;" data-ep-b=""><span data-ep-b="&#46;&#102;&#114;" data-ep
 -a="&#101;&#112;&#64;"><span data-ep-a="&#111;&#114;&#97;" data-ep-b="&#110
 ;g&#101;"></span></span></span></span></a><script>RegularLabs.EmailProtecto
 r.unCloak("ep_b6a15701", true);</script></li><li><span style="font-size: 14
 pt;"><strong>au plus tard le : 5 octobre 2017</strong></span></li><li>Avant
  toute demande vous devez consulter le fichier : &laquo; <a href="documents
 /2017/roland/competitions/alpin/calendrier-2018/calendrier_presentation_pro
 jet_2017_2018_date_des_epreuves_b.pdf" class="wf_file jcepopup" data-mediab
 ox="1"><span class="wf_file_text">calendrier pr&eacute;sentation projet 201
 7 2018 date des &eacute;preuves...</span></a> &raquo;.</li></ul><h2>R&eacut
 e;union calendrier le samedi 7 octobre</h2> 
<p class="readmore tck-readmor
 e">
			<a class="btn btn-secondary btn" href="/ski-alpin-infos/ski-alpin-in
 fos-competitions/preparation-du-calendrier-alpin-2017-2018" aria-label="Lir
 e la suite : Pr&eacute;paration du calendrier Alpin 2017/2018">
			<span cl
 ass="icon-chevron-rightright" aria-hidden="true"></span>			Lire la suite...
 		</a>
	</p><!-- END: Articles Anywhere --> <a href="https://skivosges.net/
 agenda/export-synchronisation/detailevenement/856/-/reunion-calendrier-alpi
 n-2017-2018?tmpl=component">Cet évènement a été importé depuis :https://ski
 vosges.net/agenda/export-synchronisation/detailevenement/856/-/reunion-cale
 ndrier-alpin-2017-2018?tmpl=component</a>
X-ALT-DESC;FMTTYPE=text/html:<!-- START: Articles Anywhere --><p>Pr&eacute;paration du calendrier Alpin 
 2017/2018 </p><h2>Demande d'inscription au Calendrier</h2><p>La demande d&r
 squo;inscription &agrave; l&rsquo;aide du fichier &laquo; <a href="https://
 skivosges.net/documents/2017/roland/competitions/alpin/calendrier-2018/fich
 e_inscriptions_simplifiees_clubs_calendrier_alpin_CRMVS_2017.xlsx"><span cl
 ass="wf_file_text">fiche d&rsquo;inscription simplifi&eacute;e...</span></a
 > &raquo;</p><ul><li>devra parvenir par mail &agrave; : <!-- Cette adresse 
 électronique est protégée contre les robots spammeurs. --><a href="https://
 skivosges.net/javascript:/* Cette adresse &eacute;lectronique est prot&eacu
 te;g&eacute;e contre les robots spammeurs.*/"><span class="cloaked_email ep
 _bc683d1d"><span data-ep-a="jc&#108;" data-ep-b=""><span data-ep-b="&#46;&#
 102;&#114;" data-ep-a="&#101;&#112;&#64;"><span data-ep-b="&#110;g&#101;" d
 ata-ep-a="&#111;r&#97;"></span></span></span></span><script>RegularLabs.Ema
 ilProtector.unCloak("ep_bc683d1d");</script><span class="cloaked_email ep_b
 6a15701" style="display:none;"><span data-ep-a="&#106;c&#108;" data-ep-b=""
 ><span data-ep-b="&#46;&#102;&#114;" data-ep-a="&#101;&#112;&#64;"><span da
 ta-ep-a="&#111;&#114;&#97;" data-ep-b="&#110;g&#101;"></span></span></span>
 </span></a><script>RegularLabs.EmailProtector.unCloak("ep_b6a15701", true);
 </script></li><li><span style="font-size: 14pt;"><strong>au plus tard le : 
 5 octobre 2017</strong></span></li><li>Avant toute demande vous devez consu
 lter le fichier : &laquo; <a href="https://skivosges.net/documents/2017/rol
 and/competitions/alpin/calendrier-2018/calendrier_presentation_projet_2017_
 2018_date_des_epreuves_b.pdf" class="wf_file jcepopup" data-mediabox="1"><s
 pan class="wf_file_text">calendrier pr&eacute;sentation projet 2017 2018 da
 te des &eacute;preuves...</span></a> &raquo;.</li></ul><h2>R&eacute;union c
 alendrier le samedi 7 octobre</h2> 
<p class="readmore tck-readmore">
			<a
  class="btn btn-secondary btn" href="https://skivosges.net/ski-alpin-infos/
 ski-alpin-infos-competitions/preparation-du-calendrier-alpin-2017-2018" ari
 a-label="Lire la suite : Pr&eacute;paration du calendrier Alpin 2017/2018">
 
			<span class="icon-chevron-rightright" aria-hidden="true"></span>			Lire
  la suite...		</a>
	</p><!-- END: Articles Anywhere --> <a href="https://sk
 ivosges.net/agenda/export-synchronisation/detailevenement/856/-/reunion-cal
 endrier-alpin-2017-2018?tmpl=component">Cet évènement a été importé depuis 
 :https://skivosges.net/agenda/export-synchronisation/detailevenement/856/-/
 reunion-calendrier-alpin-2017-2018?tmpl=component</a>DTSTAMP:20260421T051115
DTSTART;TZID=Europe/Paris:20171007T094500
SEQUENCE:0
TRANSP:OPAQUE
END:VEVENT
END:VCALENDAR