BEGIN:VCALENDAR
VERSION:2.0
PRODID:-//jEvents 2.0 for Joomla//EN
CALSCALE:GREGORIAN
METHOD:PUBLISH
BEGIN:VTIMEZONE
TZID:Europe/Paris
BEGIN:STANDARD
DTSTART:20161124T140000
RDATE:20170326T030000
TZOFFSETFROM:+0200
TZOFFSETTO:+0100
TZNAME:Europe/Paris CET
END:STANDARD
BEGIN:STANDARD
DTSTART:20171029T020000
RDATE:20180325T030000
TZOFFSETFROM:+0200
TZOFFSETTO:+0100
TZNAME:Europe/Paris CET
END:STANDARD
BEGIN:STANDARD
DTSTART:20181028T020000
RDATE:20190331T030000
TZOFFSETFROM:+0200
TZOFFSETTO:+0100
TZNAME:Europe/Paris CET
END:STANDARD
BEGIN:STANDARD
DTSTART:20191027T020000
RDATE:20200329T030000
TZOFFSETFROM:+0200
TZOFFSETTO:+0100
TZNAME:Europe/Paris CET
END:STANDARD
BEGIN:STANDARD
DTSTART:20201025T020000
RDATE:20210328T030000
TZOFFSETFROM:+0200
TZOFFSETTO:+0100
TZNAME:Europe/Paris CET
END:STANDARD
BEGIN:STANDARD
DTSTART:20211031T020000
RDATE:20220327T030000
TZOFFSETFROM:+0200
TZOFFSETTO:+0100
TZNAME:Europe/Paris CET
END:STANDARD
BEGIN:STANDARD
DTSTART:20221030T020000
RDATE:20230326T030000
TZOFFSETFROM:+0200
TZOFFSETTO:+0100
TZNAME:Europe/Paris CET
END:STANDARD
BEGIN:STANDARD
DTSTART:20231029T020000
RDATE:20240331T030000
TZOFFSETFROM:+0200
TZOFFSETTO:+0100
TZNAME:Europe/Paris CET
END:STANDARD
BEGIN:STANDARD
DTSTART:20241027T020000
RDATE:20250330T030000
TZOFFSETFROM:+0200
TZOFFSETTO:+0100
TZNAME:Europe/Paris CET
END:STANDARD
BEGIN:STANDARD
DTSTART:20251026T020000
RDATE:20260329T030000
TZOFFSETFROM:+0200
TZOFFSETTO:+0100
TZNAME:Europe/Paris CET
END:STANDARD
BEGIN:STANDARD
DTSTART:20261025T020000
RDATE:20270328T030000
TZOFFSETFROM:+0200
TZOFFSETTO:+0100
TZNAME:Europe/Paris CET
END:STANDARD
BEGIN:DAYLIGHT
DTSTART:20170326T030000
RDATE:20171029T020000
TZOFFSETFROM:+0100
TZOFFSETTO:+0200
TZNAME:Europe/Paris CEST
END:DAYLIGHT
BEGIN:DAYLIGHT
DTSTART:20180325T030000
RDATE:20181028T020000
TZOFFSETFROM:+0100
TZOFFSETTO:+0200
TZNAME:Europe/Paris CEST
END:DAYLIGHT
BEGIN:DAYLIGHT
DTSTART:20190331T030000
RDATE:20191027T020000
TZOFFSETFROM:+0100
TZOFFSETTO:+0200
TZNAME:Europe/Paris CEST
END:DAYLIGHT
BEGIN:DAYLIGHT
DTSTART:20200329T030000
RDATE:20201025T020000
TZOFFSETFROM:+0100
TZOFFSETTO:+0200
TZNAME:Europe/Paris CEST
END:DAYLIGHT
BEGIN:DAYLIGHT
DTSTART:20210328T030000
RDATE:20211031T020000
TZOFFSETFROM:+0100
TZOFFSETTO:+0200
TZNAME:Europe/Paris CEST
END:DAYLIGHT
BEGIN:DAYLIGHT
DTSTART:20220327T030000
RDATE:20221030T020000
TZOFFSETFROM:+0100
TZOFFSETTO:+0200
TZNAME:Europe/Paris CEST
END:DAYLIGHT
BEGIN:DAYLIGHT
DTSTART:20230326T030000
RDATE:20231029T020000
TZOFFSETFROM:+0100
TZOFFSETTO:+0200
TZNAME:Europe/Paris CEST
END:DAYLIGHT
BEGIN:DAYLIGHT
DTSTART:20240331T030000
RDATE:20241027T020000
TZOFFSETFROM:+0100
TZOFFSETTO:+0200
TZNAME:Europe/Paris CEST
END:DAYLIGHT
BEGIN:DAYLIGHT
DTSTART:20250330T030000
RDATE:20251026T020000
TZOFFSETFROM:+0100
TZOFFSETTO:+0200
TZNAME:Europe/Paris CEST
END:DAYLIGHT
BEGIN:DAYLIGHT
DTSTART:20260329T030000
RDATE:20261025T020000
TZOFFSETFROM:+0100
TZOFFSETTO:+0200
TZNAME:Europe/Paris CEST
END:DAYLIGHT
END:VTIMEZONE
BEGIN:VEVENT
UID:015e723e94256c13c202224c78790b96
CATEGORIES:Formation Officiels - Chronos - Gestionnaires
CREATED:20171005T121006
SUMMARY:Journée Technique Régionale 2017 (y compris sessions de recyclages)
LOCATION:La Bresse / Hotel des Valées 
URL;VALUE=URI:https://skivosges.net/agenda/export-synchronisation/detailevenement/858/-/j
 ournee-technique-regionale-2017-y-compris-sessions-de-recyclages?tmpl=compo
 nent
DESCRIPTION:<p><em>Informations complémentaires et ordre du jour à venir...</em></p><p>
 Horaires prévisionnels : 14H00 à 16H-16H30 (Journée Technique / recyclage J
 uge de Compétition Alpin ou Nordique)</p><p>Suivra une session de recyclage
  DT (Alpin ou Nordique), horaire prévisionnel final 17H30</p><p>(Precision 
 sur les session sera demandée dans le formulaire d'inscription)</p><p>Des s
 essions de formation Juge de Compétition Alpin ou Nordique pour les nouveau
 x Candidats sont proposées le matin (<a href="index.php?option=com_jevents&
 amp;task=icalrepeat.detail&amp;evid=633&amp;Itemid=1&amp;year=2016&amp;mont
 h=12&amp;day=03&amp;title=journee-technique-regionale-sessions-de-formation
 -initiales-juges&amp;uid=05947eb6b7020bd632a1c61949f08ebb">voir : Sessions 
 de Formation Initiales Juges -Matin-)</a></p><p>&nbsp;</p><p><em><span clas
 s="attention">Remarque :<br />Il est fortement recommandé de <a href="index
 .php?option=com_users&amp;view=login&amp;Itemid=204" target="_parent">vous 
 identifier sur le site</a> avant de vous inscrire à un evenement.<br />Le f
 ait d'être inscrit et identifié sur skivosges permet d'avoir accès à vos in
 scriptions, de les modifier, voire les supprimer selon l'evenement.</span><
 /em></p><p>&nbsp;</p> <a href="https://skivosges.net/agenda/export-synchron
 isation/detailevenement/858/-/journee-technique-regionale-2017-y-compris-se
 ssions-de-recyclages?tmpl=component">Cet évènement a été importé depuis :ht
 tps://skivosges.net/agenda/export-synchronisation/detailevenement/858/-/jou
 rnee-technique-regionale-2017-y-compris-sessions-de-recyclages?tmpl=compone
 nt</a>
X-ALT-DESC;FMTTYPE=text/html:<p><em>Informations complémentaires et ordre du jour à venir...</em></p><p>
 Horaires prévisionnels : 14H00 à 16H-16H30 (Journée Technique / recyclage J
 uge de Compétition Alpin ou Nordique)</p><p>Suivra une session de recyclage
  DT (Alpin ou Nordique), horaire prévisionnel final 17H30</p><p>(Precision 
 sur les session sera demandée dans le formulaire d'inscription)</p><p>Des s
 essions de formation Juge de Compétition Alpin ou Nordique pour les nouveau
 x Candidats sont proposées le matin (<a href="https://skivosges.net/index.p
 hp?option=com_jevents&amp;task=icalrepeat.detail&amp;evid=633&amp;Itemid=1&
 amp;year=2016&amp;month=12&amp;day=03&amp;title=journee-technique-regionale
 -sessions-de-formation-initiales-juges&amp;uid=05947eb6b7020bd632a1c61949f0
 8ebb">voir : Sessions de Formation Initiales Juges -Matin-)</a></p><p>&nbsp
 ;</p><p><em><span class="attention">Remarque :<br />Il est fortement recomm
 andé de <a href="https://skivosges.net/index.php?option=com_users&amp;view=
 login&amp;Itemid=204" target="_parent">vous identifier sur le site</a> avan
 t de vous inscrire à un evenement.<br />Le fait d'être inscrit et identifié
  sur skivosges permet d'avoir accès à vos inscriptions, de les modifier, vo
 ire les supprimer selon l'evenement.</span></em></p><p>&nbsp;</p> <a href="
 https://skivosges.net/agenda/export-synchronisation/detailevenement/858/-/j
 ournee-technique-regionale-2017-y-compris-sessions-de-recyclages?tmpl=compo
 nent">Cet évènement a été importé depuis :https://skivosges.net/agenda/expo
 rt-synchronisation/detailevenement/858/-/journee-technique-regionale-2017-y
 -compris-sessions-de-recyclages?tmpl=component</a>CONTACT:RegularLabs.EmailProtector.unCloak("ep_d3d8d881");
DTSTAMP:20260420T221353
DTSTART;TZID=Europe/Paris:20171125T140000
SEQUENCE:0
TRANSP:OPAQUE
END:VEVENT
END:VCALENDAR