BEGIN:VCALENDAR
VERSION:2.0
PRODID:-//jEvents 2.0 for Joomla//EN
CALSCALE:GREGORIAN
METHOD:PUBLISH
BEGIN:VTIMEZONE
TZID:Europe/Paris
BEGIN:STANDARD
DTSTART:20161030T020000
RDATE:20170326T030000
TZOFFSETFROM:+0200
TZOFFSETTO:+0100
TZNAME:Europe/Paris CET
END:STANDARD
BEGIN:STANDARD
DTSTART:20171029T020000
RDATE:20180325T030000
TZOFFSETFROM:+0200
TZOFFSETTO:+0100
TZNAME:Europe/Paris CET
END:STANDARD
BEGIN:STANDARD
DTSTART:20181028T020000
RDATE:20190331T030000
TZOFFSETFROM:+0200
TZOFFSETTO:+0100
TZNAME:Europe/Paris CET
END:STANDARD
BEGIN:STANDARD
DTSTART:20191027T020000
RDATE:20200329T030000
TZOFFSETFROM:+0200
TZOFFSETTO:+0100
TZNAME:Europe/Paris CET
END:STANDARD
BEGIN:STANDARD
DTSTART:20201025T020000
RDATE:20210328T030000
TZOFFSETFROM:+0200
TZOFFSETTO:+0100
TZNAME:Europe/Paris CET
END:STANDARD
BEGIN:STANDARD
DTSTART:20211031T020000
RDATE:20220327T030000
TZOFFSETFROM:+0200
TZOFFSETTO:+0100
TZNAME:Europe/Paris CET
END:STANDARD
BEGIN:STANDARD
DTSTART:20221030T020000
RDATE:20230326T030000
TZOFFSETFROM:+0200
TZOFFSETTO:+0100
TZNAME:Europe/Paris CET
END:STANDARD
BEGIN:STANDARD
DTSTART:20231029T020000
RDATE:20240331T030000
TZOFFSETFROM:+0200
TZOFFSETTO:+0100
TZNAME:Europe/Paris CET
END:STANDARD
BEGIN:STANDARD
DTSTART:20241027T020000
RDATE:20250330T030000
TZOFFSETFROM:+0200
TZOFFSETTO:+0100
TZNAME:Europe/Paris CET
END:STANDARD
BEGIN:STANDARD
DTSTART:20251026T020000
RDATE:20260329T030000
TZOFFSETFROM:+0200
TZOFFSETTO:+0100
TZNAME:Europe/Paris CET
END:STANDARD
BEGIN:STANDARD
DTSTART:20261025T020000
RDATE:20270328T030000
TZOFFSETFROM:+0200
TZOFFSETTO:+0100
TZNAME:Europe/Paris CET
END:STANDARD
BEGIN:DAYLIGHT
DTSTART:20161006T094500
RDATE:20161030T020000
TZOFFSETFROM:+0100
TZOFFSETTO:+0200
TZNAME:Europe/Paris CEST
END:DAYLIGHT
BEGIN:DAYLIGHT
DTSTART:20170326T030000
RDATE:20171029T020000
TZOFFSETFROM:+0100
TZOFFSETTO:+0200
TZNAME:Europe/Paris CEST
END:DAYLIGHT
BEGIN:DAYLIGHT
DTSTART:20180325T030000
RDATE:20181028T020000
TZOFFSETFROM:+0100
TZOFFSETTO:+0200
TZNAME:Europe/Paris CEST
END:DAYLIGHT
BEGIN:DAYLIGHT
DTSTART:20190331T030000
RDATE:20191027T020000
TZOFFSETFROM:+0100
TZOFFSETTO:+0200
TZNAME:Europe/Paris CEST
END:DAYLIGHT
BEGIN:DAYLIGHT
DTSTART:20200329T030000
RDATE:20201025T020000
TZOFFSETFROM:+0100
TZOFFSETTO:+0200
TZNAME:Europe/Paris CEST
END:DAYLIGHT
BEGIN:DAYLIGHT
DTSTART:20210328T030000
RDATE:20211031T020000
TZOFFSETFROM:+0100
TZOFFSETTO:+0200
TZNAME:Europe/Paris CEST
END:DAYLIGHT
BEGIN:DAYLIGHT
DTSTART:20220327T030000
RDATE:20221030T020000
TZOFFSETFROM:+0100
TZOFFSETTO:+0200
TZNAME:Europe/Paris CEST
END:DAYLIGHT
BEGIN:DAYLIGHT
DTSTART:20230326T030000
RDATE:20231029T020000
TZOFFSETFROM:+0100
TZOFFSETTO:+0200
TZNAME:Europe/Paris CEST
END:DAYLIGHT
BEGIN:DAYLIGHT
DTSTART:20240331T030000
RDATE:20241027T020000
TZOFFSETFROM:+0100
TZOFFSETTO:+0200
TZNAME:Europe/Paris CEST
END:DAYLIGHT
BEGIN:DAYLIGHT
DTSTART:20250330T030000
RDATE:20251026T020000
TZOFFSETFROM:+0100
TZOFFSETTO:+0200
TZNAME:Europe/Paris CEST
END:DAYLIGHT
BEGIN:DAYLIGHT
DTSTART:20260329T030000
RDATE:20261025T020000
TZOFFSETFROM:+0100
TZOFFSETTO:+0200
TZNAME:Europe/Paris CEST
END:DAYLIGHT
END:VTIMEZONE
BEGIN:VEVENT
UID:656f17fd1ce1110f2f41ebcf4ace5741
CATEGORIES:Formation des Cadres
CREATED:20171005T121605
SUMMARY:Formation Accompagnateur de Club
LOCATION:Hôtel les Chatelminés – Restaurant chez Gustave
URL;VALUE=URI:https://skivosges.net/agenda/export-synchronisation/detailevenement/860/-/f
 ormation-accompagnateur-de-club?tmpl=component
DESCRIPTION:<!-- START: Articles Anywhere --><p>Formation Accompagnateur de Club, le 7 
 octobre 2017 </p><h3 style="text-align: center;"><span style="font-size: 12
 pt;">FORMATION ACCOMPAGNATEUR DE CLUB</span></h3><h3 style="text-align: cen
 ter;"><span style="font-size: 12pt;">SAMEDI 7 OCTOBRE 2017 A LA BRESSE</spa
 n></h3><p>&nbsp;</p><h4>Nous vous rappelons que se d&eacute;roulera Samedi 
 7 octobre &agrave; la Bresse, une formation d'Accompagnateur de Club, <span
  style="text-decoration: underline;"><em><strong>c'est la seule session de 
 la saison ! </strong></em></span></h4><p>N'h&eacute;sitez pas &agrave; vous
  inscrire par mail ( <!-- Cette adresse électronique est protégée contre le
 s robots spammeurs. --><a href="javascript:/* Cette adresse &eacute;lectron
 ique est prot&eacute;g&eacute;e contre les robots spammeurs.*/"><span class
 ="cloaked_email ep_71a7429c"><span data-ep-b="" data-ep-a="&#99;&#114;&#109
 ;&#118;"><span data-ep-b="&#110;et" data-ep-a="&#115;&#64;&#115;&#107;"><sp
 an data-ep-b="g&#101;&#115;&#46;" data-ep-a="i&#118;&#111;&#115;"></span></
 span></span></span><script>RegularLabs.EmailProtector.unCloak("ep_71a7429c"
 );</script><span class="cloaked_email ep_449b15bd" style="display:none;"><s
 pan data-ep-a="&#99;&#114;&#109;v" data-ep-b=""><span data-ep-a="&#115;&#64
 ;sk" data-ep-b="&#110;&#101;t"><span data-ep-b="&#103;e&#115;&#46;" data-ep
 -a="&#105;v&#111;&#115;"></span></span></span></span></a><script>RegularLab
 s.EmailProtector.unCloak("ep_449b15bd", true);</script> ) , il est encore t
 emps !</p><p>Nous vous attendons nombreux pour cette journ&eacute;e convivi
 ale, formatrice et riche en &eacute;changes :-)</p><p>Le programme de la jo
 urn&eacute;e : <a href="documents/2017/secretariat/invitation_formation_acc
 ompagnateur_2017.docx" class="wf_file jcepopup" data-mediabox="1"><span cla
 ss="wf_file_text">ici </span></a></p><p>&nbsp;</p><p>&nbsp;</p> 
<p class="
 readmore tck-readmore">
			<a class="btn btn-secondary btn" href="/liste-ar
 ticles-formation-cadres/formation-accompagnateur-de-club-le-7-octobre-2017"
  aria-label="Lire la suite : Formation Accompagnateur de Club, le 7 octobre
  2017">
			<span class="icon-chevron-rightright" aria-hidden="true"></span>
 			Lire la suite...		</a>
	</p><!-- END: Articles Anywhere --><p><a href="i
 ndex.php?option=com_content&amp;view=article&amp;id=5898:formation-accompag
 nateur-de-club-le-7-octobre-2017&amp;catid=38">Voir l'article....</a></p><p
 >&nbsp;</p> <a href="https://skivosges.net/agenda/export-synchronisation/de
 tailevenement/860/-/formation-accompagnateur-de-club?tmpl=component">Cet év
 ènement a été importé depuis :https://skivosges.net/agenda/export-synchroni
 sation/detailevenement/860/-/formation-accompagnateur-de-club?tmpl=componen
 t</a>
X-ALT-DESC;FMTTYPE=text/html:<!-- START: Articles Anywhere --><p>Formation Accompagnateur de Club, le 7 
 octobre 2017 </p><h3 style="text-align: center;"><span style="font-size: 12
 pt;">FORMATION ACCOMPAGNATEUR DE CLUB</span></h3><h3 style="text-align: cen
 ter;"><span style="font-size: 12pt;">SAMEDI 7 OCTOBRE 2017 A LA BRESSE</spa
 n></h3><p>&nbsp;</p><h4>Nous vous rappelons que se d&eacute;roulera Samedi 
 7 octobre &agrave; la Bresse, une formation d'Accompagnateur de Club, <span
  style="text-decoration: underline;"><em><strong>c'est la seule session de 
 la saison ! </strong></em></span></h4><p>N'h&eacute;sitez pas &agrave; vous
  inscrire par mail ( <!-- Cette adresse électronique est protégée contre le
 s robots spammeurs. --><a href="https://skivosges.net/javascript:/* Cette a
 dresse &eacute;lectronique est prot&eacute;g&eacute;e contre les robots spa
 mmeurs.*/"><span class="cloaked_email ep_71a7429c"><span data-ep-b="" data-
 ep-a="&#99;&#114;&#109;&#118;"><span data-ep-b="&#110;et" data-ep-a="&#115;
 &#64;&#115;&#107;"><span data-ep-b="g&#101;&#115;&#46;" data-ep-a="i&#118;&
 #111;&#115;"></span></span></span></span><script>RegularLabs.EmailProtector
 .unCloak("ep_71a7429c");</script><span class="cloaked_email ep_449b15bd" st
 yle="display:none;"><span data-ep-a="&#99;&#114;&#109;v" data-ep-b=""><span
  data-ep-a="&#115;&#64;sk" data-ep-b="&#110;&#101;t"><span data-ep-b="&#103
 ;e&#115;&#46;" data-ep-a="&#105;v&#111;&#115;"></span></span></span></span>
 </a><script>RegularLabs.EmailProtector.unCloak("ep_449b15bd", true);</scrip
 t> ) , il est encore temps !</p><p>Nous vous attendons nombreux pour cette 
 journ&eacute;e conviviale, formatrice et riche en &eacute;changes :-)</p><p
 >Le programme de la journ&eacute;e : <a href="https://skivosges.net/documen
 ts/2017/secretariat/invitation_formation_accompagnateur_2017.docx" class="w
 f_file jcepopup" data-mediabox="1"><span class="wf_file_text">ici </span></
 a></p><p>&nbsp;</p><p>&nbsp;</p> 
<p class="readmore tck-readmore">
			<a c
 lass="btn btn-secondary btn" href="https://skivosges.net/liste-articles-for
 mation-cadres/formation-accompagnateur-de-club-le-7-octobre-2017" aria-labe
 l="Lire la suite : Formation Accompagnateur de Club, le 7 octobre 2017">
		
 	<span class="icon-chevron-rightright" aria-hidden="true"></span>			Lire la
  suite...		</a>
	</p><!-- END: Articles Anywhere --><p><a href="https://ski
 vosges.net/index.php?option=com_content&amp;view=article&amp;id=5898:format
 ion-accompagnateur-de-club-le-7-octobre-2017&amp;catid=38">Voir l'article..
 ..</a></p><p>&nbsp;</p> <a href="https://skivosges.net/agenda/export-synchr
 onisation/detailevenement/860/-/formation-accompagnateur-de-club?tmpl=compo
 nent">Cet évènement a été importé depuis :https://skivosges.net/agenda/expo
 rt-synchronisation/detailevenement/860/-/formation-accompagnateur-de-club?t
 mpl=component</a>CONTACT:RegularLabs.EmailProtector.unCloak("ep_13331b3b");
DTSTAMP:20260421T051259
DTSTART;TZID=Europe/Paris:20171007T094500
DTEND;TZID=Europe/Paris:20171007T163000
SEQUENCE:0
TRANSP:OPAQUE
END:VEVENT
END:VCALENDAR