BEGIN:VCALENDAR
VERSION:2.0
PRODID:-//jEvents 2.0 for Joomla//EN
CALSCALE:GREGORIAN
METHOD:PUBLISH
BEGIN:VTIMEZONE
TZID:Europe/Paris
BEGIN:STANDARD
DTSTART:20161124T000000
RDATE:20170326T030000
TZOFFSETFROM:+0200
TZOFFSETTO:+0100
TZNAME:Europe/Paris CET
END:STANDARD
BEGIN:STANDARD
DTSTART:20171029T020000
RDATE:20180325T030000
TZOFFSETFROM:+0200
TZOFFSETTO:+0100
TZNAME:Europe/Paris CET
END:STANDARD
BEGIN:STANDARD
DTSTART:20181028T020000
RDATE:20190331T030000
TZOFFSETFROM:+0200
TZOFFSETTO:+0100
TZNAME:Europe/Paris CET
END:STANDARD
BEGIN:STANDARD
DTSTART:20191027T020000
RDATE:20200329T030000
TZOFFSETFROM:+0200
TZOFFSETTO:+0100
TZNAME:Europe/Paris CET
END:STANDARD
BEGIN:STANDARD
DTSTART:20201025T020000
RDATE:20210328T030000
TZOFFSETFROM:+0200
TZOFFSETTO:+0100
TZNAME:Europe/Paris CET
END:STANDARD
BEGIN:STANDARD
DTSTART:20211031T020000
RDATE:20220327T030000
TZOFFSETFROM:+0200
TZOFFSETTO:+0100
TZNAME:Europe/Paris CET
END:STANDARD
BEGIN:STANDARD
DTSTART:20221030T020000
RDATE:20230326T030000
TZOFFSETFROM:+0200
TZOFFSETTO:+0100
TZNAME:Europe/Paris CET
END:STANDARD
BEGIN:STANDARD
DTSTART:20231029T020000
RDATE:20240331T030000
TZOFFSETFROM:+0200
TZOFFSETTO:+0100
TZNAME:Europe/Paris CET
END:STANDARD
BEGIN:STANDARD
DTSTART:20241027T020000
RDATE:20250330T030000
TZOFFSETFROM:+0200
TZOFFSETTO:+0100
TZNAME:Europe/Paris CET
END:STANDARD
BEGIN:STANDARD
DTSTART:20251026T020000
RDATE:20260329T030000
TZOFFSETFROM:+0200
TZOFFSETTO:+0100
TZNAME:Europe/Paris CET
END:STANDARD
BEGIN:STANDARD
DTSTART:20261025T020000
RDATE:20270328T030000
TZOFFSETFROM:+0200
TZOFFSETTO:+0100
TZNAME:Europe/Paris CET
END:STANDARD
BEGIN:DAYLIGHT
DTSTART:20170326T030000
RDATE:20171029T020000
TZOFFSETFROM:+0100
TZOFFSETTO:+0200
TZNAME:Europe/Paris CEST
END:DAYLIGHT
BEGIN:DAYLIGHT
DTSTART:20180325T030000
RDATE:20181028T020000
TZOFFSETFROM:+0100
TZOFFSETTO:+0200
TZNAME:Europe/Paris CEST
END:DAYLIGHT
BEGIN:DAYLIGHT
DTSTART:20190331T030000
RDATE:20191027T020000
TZOFFSETFROM:+0100
TZOFFSETTO:+0200
TZNAME:Europe/Paris CEST
END:DAYLIGHT
BEGIN:DAYLIGHT
DTSTART:20200329T030000
RDATE:20201025T020000
TZOFFSETFROM:+0100
TZOFFSETTO:+0200
TZNAME:Europe/Paris CEST
END:DAYLIGHT
BEGIN:DAYLIGHT
DTSTART:20210328T030000
RDATE:20211031T020000
TZOFFSETFROM:+0100
TZOFFSETTO:+0200
TZNAME:Europe/Paris CEST
END:DAYLIGHT
BEGIN:DAYLIGHT
DTSTART:20220327T030000
RDATE:20221030T020000
TZOFFSETFROM:+0100
TZOFFSETTO:+0200
TZNAME:Europe/Paris CEST
END:DAYLIGHT
BEGIN:DAYLIGHT
DTSTART:20230326T030000
RDATE:20231029T020000
TZOFFSETFROM:+0100
TZOFFSETTO:+0200
TZNAME:Europe/Paris CEST
END:DAYLIGHT
BEGIN:DAYLIGHT
DTSTART:20240331T030000
RDATE:20241027T020000
TZOFFSETFROM:+0100
TZOFFSETTO:+0200
TZNAME:Europe/Paris CEST
END:DAYLIGHT
BEGIN:DAYLIGHT
DTSTART:20250330T030000
RDATE:20251026T020000
TZOFFSETFROM:+0100
TZOFFSETTO:+0200
TZNAME:Europe/Paris CEST
END:DAYLIGHT
BEGIN:DAYLIGHT
DTSTART:20260329T030000
RDATE:20261025T020000
TZOFFSETFROM:+0100
TZOFFSETTO:+0200
TZNAME:Europe/Paris CEST
END:DAYLIGHT
END:VTIMEZONE
BEGIN:VEVENT
UID:709d84eb1865bcb06c9039910cee485d
CATEGORIES:Opens et Promos (alpin)
CREATED:20171121T093310
SUMMARY:PROMO Coupe d'Amnéville Challenge Moselle
URL;VALUE=URI:https://skivosges.net/agenda/export-synchronisation/detailevenement/863/-/p
 romo-coupe-damneville-challenge-moselle?tmpl=component
DESCRIPTION:PROMO Coupe d'Amnéville Challenge Moselle\n - Codex évenement AMVT0010\n - 
 Station : AMNEVILLE LES THERMES\n - Organisateur : 14482 SKI CLUB D'AMNEVIL
 LE\n - Courriel : RegularLabs.EmailProtector.unCloak("ep_39c30216");Période
  d'inscription à l'evènement du samedi 18 novembre 2017 à 00:00 au mercredi
  22 novembre 2017 à 12:00 (Inscriptions impossibles).Inscriptions ouvertes 
 aux detenteurs des titres Fédéraux valides suivants : Licenciés Compétiteur
 s et Titres Loisirs et DirigeantsEpreuves :\n - Le samedi 25 novembre 2017\
 n - Codex épreuve AMVF0011\n - Slalom\n - Catégorie(s) : U8/U10 (Filles)\n 
 - Le samedi 25 novembre 2017\n - Codex épreuve AMVM0011\n - Slalom\n - Caté
 gorie(s) : U8/U10 (Garçons)\n - Le samedi 25 novembre 2017\n - Codex épreuv
 e AMVF0012\n - Slalom\n - Catégorie(s) : U12 a U16 (Filles)\n - Le samedi 2
 5 novembre 2017\n - Codex épreuve AMVM0012\n - Slalom\n - Catégorie(s) : U1
 2 a U16 (Garçons)\n - Le samedi 25 novembre 2017\n - Codex épreuve AMVF0013
 \n - Slalom\n - Catégorie(s) : U18 a Masters (Dames)\n - Le samedi 25 novem
 bre 2017\n - Codex épreuve AMVM0013\n - Slalom\n - Catégorie(s) : U18 a Mas
 ters (Hommes)\n - Voir les informations dans l'agenda... (/index.php?option
 =com_jevents&amp;task=icalevent.detail&amp;evid=858&amp;Itemid=6283)\n - Ve
 rs les résultats... (/index.php?option=com_gskiepreuves&amp;view=afficheres
 ultats&amp;format_option=tous&amp;filter[search]=AMVT0010&amp;filter[date_d
 ebut]=02-12-2018&amp;filter[date_fin]=02-12-2018&amp;code_activite=ALP&amp;
 Itemid=6283) Cet évènement a été importé depuis :https://skivosges.net/agen
 da/export-synchronisation/detailevenement/863/-/promo-coupe-damneville-chal
 lenge-moselle?tmpl=component (https://skivosges.net/agenda/export-synchroni
 sation/detailevenement/863/-/promo-coupe-damneville-challenge-moselle?tmpl=
 component)
X-ALT-DESC;FMTTYPE=text/html:<!-- #gskiepreuve code généré par le plugin jevents pour GskiEpreuves. Ne p
 as modifier cette ligne, ni tout le contenu suivant  #gskiepreuve --><div c
 lass="gski-evenement_infos"><div class="gski-evenement-nom">PROMO Coupe d'A
 mnéville Challenge Moselle</div><div class="gski-evenement-report"></div><u
 l class="gski-evenement-liste-infos"><li>Codex évenement AMVT0010</li><li>S
 tation : AMNEVILLE LES THERMES</li><li>Organisateur : 14482 SKI CLUB D'AMNE
 VILLE</li><li>Courriel : <!-- Cette adresse électronique est protégée contr
 e les robots spammeurs. --><span class="cloaked_email ep_39c30216"><span da
 ta-ep-a="sg&#64;&#115;" data-ep-b="&#111;&#114;g"><span data-ep-a="&#107;i&
 #99;&#108;" data-ep-b="&#108;l&#101;&#46;"><span data-ep-a="&#117;&#98;&#97
 ;&#109;" data-ep-b="n&#101;vi"></span></span></span></span><script>RegularL
 abs.EmailProtector.unCloak("ep_39c30216");</script></li></ul><div class="gs
 ki-evenement-infos-2"><div class="gski-evenement-info-inscriptions"><div cl
 ass="gski-evenement-inscriptions-periodes">Période d'inscription à l'evènem
 ent du samedi 18 novembre 2017 à 00:00 au mercredi 22 novembre 2017 à 12:00
  <span class="gski-evenement-inscriptions-impossibles">(Inscriptions imposs
 ibles).</span><div class="gski-evenement-inscriptions-types-titres">Inscrip
 tions ouvertes aux detenteurs des titres Fédéraux valides suivants : Licenc
 iés Compétiteurs et Titres Loisirs et Dirigeants</div></div></div><div clas
 s="gski-evenement-epreuves"><div class="gski-evenement-epreuves-titres">Epr
 euves :</div><ul class="gski-evenement-epreuves-list"><li><div class="gski-
 epreuve-date">Le samedi 25 novembre 2017</div><ul class="gski-epreuve-liste
 -infos"><li>Codex épreuve AMVF0011</li><li>Slalom</li><li>Catégorie(s) : U8
 /U10 (Filles)</li></ul></li><li><div class="gski-epreuve-date">Le samedi 25
  novembre 2017</div><ul class="gski-epreuve-liste-infos"><li>Codex épreuve 
 AMVM0011</li><li>Slalom</li><li>Catégorie(s) : U8/U10 (Garçons)</li></ul></
 li><li><div class="gski-epreuve-date">Le samedi 25 novembre 2017</div><ul c
 lass="gski-epreuve-liste-infos"><li>Codex épreuve AMVF0012</li><li>Slalom</
 li><li>Catégorie(s) : U12 a U16 (Filles)</li></ul></li><li><div class="gski
 -epreuve-date">Le samedi 25 novembre 2017</div><ul class="gski-epreuve-list
 e-infos"><li>Codex épreuve AMVM0012</li><li>Slalom</li><li>Catégorie(s) : U
 12 a U16 (Garçons)</li></ul></li><li><div class="gski-epreuve-date">Le same
 di 25 novembre 2017</div><ul class="gski-epreuve-liste-infos"><li>Codex épr
 euve AMVF0013</li><li>Slalom</li><li>Catégorie(s) : U18 a Masters (Dames)</
 li></ul></li><li><div class="gski-epreuve-date">Le samedi 25 novembre 2017<
 /div><ul class="gski-epreuve-liste-infos"><li>Codex épreuve AMVM0013</li><l
 i>Slalom</li><li>Catégorie(s) : U18 a Masters (Hommes)</li></ul></li></ul><
 /div><div class="gskiepreuves-links"><ul><li><a href="https://skivosges.net
 /index.php?option=com_jevents&task=icalevent.detail&evid=858&Itemid=6283">V
 oir les informations dans l'agenda...</a></li><li><a href="https://skivosge
 s.net/index.php?option=com_gskiepreuves&view=afficheresultats&format_option
 =tous&filter[search]=AMVT0010&filter[date_debut]=02-12-2018&filter[date_fin
 ]=02-12-2018&code_activite=ALP&Itemid=6283">Vers les résultats...</a></li><
 /ul></div></div"><!-- #/gskiepreuve fin du dode généré par le plugin jevent
 s pour GskiEpreuves. . Ne pas modifier cette ligne, ni tout le contenu préc
 edant.  #/gskiepreuve --> <a href="https://skivosges.net/agenda/export-sync
 hronisation/detailevenement/863/-/promo-coupe-damneville-challenge-moselle?
 tmpl=component">Cet évènement a été importé depuis :https://skivosges.net/a
 genda/export-synchronisation/detailevenement/863/-/promo-coupe-damneville-c
 hallenge-moselle?tmpl=component</a>DTSTAMP:20260421T014226
DTSTART;TZID=Europe/Paris;VALUE=DATE:20171125
DTEND;TZID=Europe/Paris;VALUE=DATE:20171126
SEQUENCE:0
TRANSP:OPAQUE
END:VEVENT
END:VCALENDAR