BEGIN:VCALENDAR
VERSION:2.0
PRODID:-//jEvents 2.0 for Joomla//EN
CALSCALE:GREGORIAN
METHOD:PUBLISH
BEGIN:VTIMEZONE
TZID:Europe/Paris
BEGIN:STANDARD
DTSTART:20161208T000000
RDATE:20170326T030000
TZOFFSETFROM:+0200
TZOFFSETTO:+0100
TZNAME:Europe/Paris CET
END:STANDARD
BEGIN:STANDARD
DTSTART:20171029T020000
RDATE:20180325T030000
TZOFFSETFROM:+0200
TZOFFSETTO:+0100
TZNAME:Europe/Paris CET
END:STANDARD
BEGIN:STANDARD
DTSTART:20181028T020000
RDATE:20190331T030000
TZOFFSETFROM:+0200
TZOFFSETTO:+0100
TZNAME:Europe/Paris CET
END:STANDARD
BEGIN:STANDARD
DTSTART:20191027T020000
RDATE:20200329T030000
TZOFFSETFROM:+0200
TZOFFSETTO:+0100
TZNAME:Europe/Paris CET
END:STANDARD
BEGIN:STANDARD
DTSTART:20201025T020000
RDATE:20210328T030000
TZOFFSETFROM:+0200
TZOFFSETTO:+0100
TZNAME:Europe/Paris CET
END:STANDARD
BEGIN:STANDARD
DTSTART:20211031T020000
RDATE:20220327T030000
TZOFFSETFROM:+0200
TZOFFSETTO:+0100
TZNAME:Europe/Paris CET
END:STANDARD
BEGIN:STANDARD
DTSTART:20221030T020000
RDATE:20230326T030000
TZOFFSETFROM:+0200
TZOFFSETTO:+0100
TZNAME:Europe/Paris CET
END:STANDARD
BEGIN:STANDARD
DTSTART:20231029T020000
RDATE:20240331T030000
TZOFFSETFROM:+0200
TZOFFSETTO:+0100
TZNAME:Europe/Paris CET
END:STANDARD
BEGIN:STANDARD
DTSTART:20241027T020000
RDATE:20250330T030000
TZOFFSETFROM:+0200
TZOFFSETTO:+0100
TZNAME:Europe/Paris CET
END:STANDARD
BEGIN:STANDARD
DTSTART:20251026T020000
RDATE:20260329T030000
TZOFFSETFROM:+0200
TZOFFSETTO:+0100
TZNAME:Europe/Paris CET
END:STANDARD
BEGIN:STANDARD
DTSTART:20261025T020000
RDATE:20270328T030000
TZOFFSETFROM:+0200
TZOFFSETTO:+0100
TZNAME:Europe/Paris CET
END:STANDARD
BEGIN:DAYLIGHT
DTSTART:20170326T030000
RDATE:20171029T020000
TZOFFSETFROM:+0100
TZOFFSETTO:+0200
TZNAME:Europe/Paris CEST
END:DAYLIGHT
BEGIN:DAYLIGHT
DTSTART:20180325T030000
RDATE:20181028T020000
TZOFFSETFROM:+0100
TZOFFSETTO:+0200
TZNAME:Europe/Paris CEST
END:DAYLIGHT
BEGIN:DAYLIGHT
DTSTART:20190331T030000
RDATE:20191027T020000
TZOFFSETFROM:+0100
TZOFFSETTO:+0200
TZNAME:Europe/Paris CEST
END:DAYLIGHT
BEGIN:DAYLIGHT
DTSTART:20200329T030000
RDATE:20201025T020000
TZOFFSETFROM:+0100
TZOFFSETTO:+0200
TZNAME:Europe/Paris CEST
END:DAYLIGHT
BEGIN:DAYLIGHT
DTSTART:20210328T030000
RDATE:20211031T020000
TZOFFSETFROM:+0100
TZOFFSETTO:+0200
TZNAME:Europe/Paris CEST
END:DAYLIGHT
BEGIN:DAYLIGHT
DTSTART:20220327T030000
RDATE:20221030T020000
TZOFFSETFROM:+0100
TZOFFSETTO:+0200
TZNAME:Europe/Paris CEST
END:DAYLIGHT
BEGIN:DAYLIGHT
DTSTART:20230326T030000
RDATE:20231029T020000
TZOFFSETFROM:+0100
TZOFFSETTO:+0200
TZNAME:Europe/Paris CEST
END:DAYLIGHT
BEGIN:DAYLIGHT
DTSTART:20240331T030000
RDATE:20241027T020000
TZOFFSETFROM:+0100
TZOFFSETTO:+0200
TZNAME:Europe/Paris CEST
END:DAYLIGHT
BEGIN:DAYLIGHT
DTSTART:20250330T030000
RDATE:20251026T020000
TZOFFSETFROM:+0100
TZOFFSETTO:+0200
TZNAME:Europe/Paris CEST
END:DAYLIGHT
BEGIN:DAYLIGHT
DTSTART:20260329T030000
RDATE:20261025T020000
TZOFFSETFROM:+0100
TZOFFSETTO:+0200
TZNAME:Europe/Paris CEST
END:DAYLIGHT
END:VTIMEZONE
BEGIN:VEVENT
UID:e2bb4397d71064c3460fbb5be9e41e53
CATEGORIES:Compétition Biathlon
CREATED:20171121T093310
SUMMARY:Biathlon Régional 01
URL;VALUE=URI:https://skivosges.net/agenda/export-synchronisation/detailevenement/864/-/b
 iathlon-regional-01?tmpl=component
DESCRIPTION:<!-- #gskiepreuve code généré par le plugin jevents pour GskiEpreuves. Ne p
 as modifier cette ligne, ni tout le contenu suivant  #gskiepreuve --><div c
 lass="gski-evenement_infos"><div class="gski-evenement-nom">Biathlon Région
 al 01</div><div class="gski-evenement-report"></div><ul class="gski-eveneme
 nt-liste-infos"><li>Codex évenement BMVT0010</li><li>Lieu : STADE DE BIATHL
 ON</li><li>Station : LE CHAMP DU FEU</li><li>Organisateur : 14448 MOLSHEIM 
 SKI NORDIQUE</li><li>Courriel : <!-- Cette adresse électronique est protégé
 e contre les robots spammeurs. --><span class="cloaked_email ep_6cc48063"><
 span data-ep-a="&#112;&#105;e&#114;&#114;&#101;" data-ep-b="&#46;f&#114;"><
 span data-ep-b="&#105;&#99;ab&#108;&#101;" data-ep-a="-&#99;&#104;ar&#98;">
 <span data-ep-b="&#64;&#110;um&#101;&#114;" data-ep-a="&#111;n&#110;&#105;&
 #101;r"></span></span></span></span><script>RegularLabs.EmailProtector.unCl
 oak("ep_6cc48063");</script></li></ul><div class="gski-evenement-infos-2"><
 div class="gski-evenement-info-inscriptions"><div class="gski-evenement-ins
 criptions-periodes">Période d'inscription à l'evènement du samedi 02 décemb
 re 2017 à 00:00 au vendredi 08 décembre 2017 à 14:00 <span class="gski-even
 ement-inscriptions-impossibles">(Inscriptions impossibles).</span><div clas
 s="gski-evenement-inscriptions-types-titres">Inscriptions ouvertes aux dete
 nteurs des titres Fédéraux valides suivants : Licenciés Compétiteurs</div><
 /div></div><div class="gski-evenement-epreuves"><div class="gski-evenement-
 epreuves-titres">Epreuves :</div><ul class="gski-evenement-epreuves-list"><
 li><div class="gski-epreuve-date">Le samedi 09 décembre 2017 à 14:40</div><
 ul class="gski-epreuve-liste-infos"><li>Codex épreuve BMVF0011</li><li>Indi
 viduel</li><li>Catégorie(s) : U16 a SEN (Filles)</li></ul></li><li><div cla
 ss="gski-epreuve-date">Le samedi 09 décembre 2017 à 15:10</div><ul class="g
 ski-epreuve-liste-infos"><li>Codex épreuve BMVM0011</li><li>Individuel</li>
 <li>Catégorie(s) : U19/U21 (Hommes)</li></ul></li><li><div class="gski-epre
 uve-date">Le samedi 09 décembre 2017 à 15:40</div><ul class="gski-epreuve-l
 iste-infos"><li>Codex épreuve BMVM0012</li><li>Individuel</li><li>Catégorie
 (s) : Senior (Hommes)</li></ul></li></ul></div><div class="gskiepreuves-lin
 ks"><ul><li><a href="/index.php?option=com_jevents&task=icalevent.detail&ev
 id=859&Itemid=6283">Voir les informations dans l'agenda...</a></li><li><a h
 ref="/index.php?option=com_gskiepreuves&view=afficheresultats&format_option
 =tous&filter[search]=BMVT0010&filter[date_debut]=09-12-2017&filter[date_fin
 ]=09-12-2017&code_activite=BIATH&Itemid=6283">Vers les résultats...</a></li
 ></ul></div></div"><!-- #/gskiepreuve fin du dode généré par le plugin jeve
 nts pour GskiEpreuves. . Ne pas modifier cette ligne, ni tout le contenu pr
 écedant.  #/gskiepreuve --> <a href="https://skivosges.net/agenda/export-sy
 nchronisation/detailevenement/864/-/biathlon-regional-01?tmpl=component">Ce
 t évènement a été importé depuis :https://skivosges.net/agenda/export-synch
 ronisation/detailevenement/864/-/biathlon-regional-01?tmpl=component</a>
X-ALT-DESC;FMTTYPE=text/html:<!-- #gskiepreuve code généré par le plugin jevents pour GskiEpreuves. Ne p
 as modifier cette ligne, ni tout le contenu suivant  #gskiepreuve --><div c
 lass="gski-evenement_infos"><div class="gski-evenement-nom">Biathlon Région
 al 01</div><div class="gski-evenement-report"></div><ul class="gski-eveneme
 nt-liste-infos"><li>Codex évenement BMVT0010</li><li>Lieu : STADE DE BIATHL
 ON</li><li>Station : LE CHAMP DU FEU</li><li>Organisateur : 14448 MOLSHEIM 
 SKI NORDIQUE</li><li>Courriel : <!-- Cette adresse électronique est protégé
 e contre les robots spammeurs. --><span class="cloaked_email ep_6cc48063"><
 span data-ep-a="&#112;&#105;e&#114;&#114;&#101;" data-ep-b="&#46;f&#114;"><
 span data-ep-b="&#105;&#99;ab&#108;&#101;" data-ep-a="-&#99;&#104;ar&#98;">
 <span data-ep-b="&#64;&#110;um&#101;&#114;" data-ep-a="&#111;n&#110;&#105;&
 #101;r"></span></span></span></span><script>RegularLabs.EmailProtector.unCl
 oak("ep_6cc48063");</script></li></ul><div class="gski-evenement-infos-2"><
 div class="gski-evenement-info-inscriptions"><div class="gski-evenement-ins
 criptions-periodes">Période d'inscription à l'evènement du samedi 02 décemb
 re 2017 à 00:00 au vendredi 08 décembre 2017 à 14:00 <span class="gski-even
 ement-inscriptions-impossibles">(Inscriptions impossibles).</span><div clas
 s="gski-evenement-inscriptions-types-titres">Inscriptions ouvertes aux dete
 nteurs des titres Fédéraux valides suivants : Licenciés Compétiteurs</div><
 /div></div><div class="gski-evenement-epreuves"><div class="gski-evenement-
 epreuves-titres">Epreuves :</div><ul class="gski-evenement-epreuves-list"><
 li><div class="gski-epreuve-date">Le samedi 09 décembre 2017 à 14:40</div><
 ul class="gski-epreuve-liste-infos"><li>Codex épreuve BMVF0011</li><li>Indi
 viduel</li><li>Catégorie(s) : U16 a SEN (Filles)</li></ul></li><li><div cla
 ss="gski-epreuve-date">Le samedi 09 décembre 2017 à 15:10</div><ul class="g
 ski-epreuve-liste-infos"><li>Codex épreuve BMVM0011</li><li>Individuel</li>
 <li>Catégorie(s) : U19/U21 (Hommes)</li></ul></li><li><div class="gski-epre
 uve-date">Le samedi 09 décembre 2017 à 15:40</div><ul class="gski-epreuve-l
 iste-infos"><li>Codex épreuve BMVM0012</li><li>Individuel</li><li>Catégorie
 (s) : Senior (Hommes)</li></ul></li></ul></div><div class="gskiepreuves-lin
 ks"><ul><li><a href="https://skivosges.net/index.php?option=com_jevents&tas
 k=icalevent.detail&evid=859&Itemid=6283">Voir les informations dans l'agend
 a...</a></li><li><a href="https://skivosges.net/index.php?option=com_gskiep
 reuves&view=afficheresultats&format_option=tous&filter[search]=BMVT0010&fil
 ter[date_debut]=09-12-2017&filter[date_fin]=09-12-2017&code_activite=BIATH&
 Itemid=6283">Vers les résultats...</a></li></ul></div></div"><!-- #/gskiepr
 euve fin du dode généré par le plugin jevents pour GskiEpreuves. . Ne pas m
 odifier cette ligne, ni tout le contenu précedant.  #/gskiepreuve --> <a hr
 ef="https://skivosges.net/agenda/export-synchronisation/detailevenement/864
 /-/biathlon-regional-01?tmpl=component">Cet évènement a été importé depuis 
 :https://skivosges.net/agenda/export-synchronisation/detailevenement/864/-/
 biathlon-regional-01?tmpl=component</a>DTSTAMP:20260420T221515
DTSTART;TZID=Europe/Paris;VALUE=DATE:20171209
DTEND;TZID=Europe/Paris;VALUE=DATE:20171210
SEQUENCE:0
TRANSP:OPAQUE
END:VEVENT
END:VCALENDAR