BEGIN:VCALENDAR
VERSION:2.0
PRODID:-//jEvents 2.0 for Joomla//EN
CALSCALE:GREGORIAN
METHOD:PUBLISH
BEGIN:VTIMEZONE
TZID:Europe/Paris
BEGIN:STANDARD
DTSTART:20161222T000000
RDATE:20170326T030000
TZOFFSETFROM:+0200
TZOFFSETTO:+0100
TZNAME:Europe/Paris CET
END:STANDARD
BEGIN:STANDARD
DTSTART:20171029T020000
RDATE:20180325T030000
TZOFFSETFROM:+0200
TZOFFSETTO:+0100
TZNAME:Europe/Paris CET
END:STANDARD
BEGIN:STANDARD
DTSTART:20181028T020000
RDATE:20190331T030000
TZOFFSETFROM:+0200
TZOFFSETTO:+0100
TZNAME:Europe/Paris CET
END:STANDARD
BEGIN:STANDARD
DTSTART:20191027T020000
RDATE:20200329T030000
TZOFFSETFROM:+0200
TZOFFSETTO:+0100
TZNAME:Europe/Paris CET
END:STANDARD
BEGIN:STANDARD
DTSTART:20201025T020000
RDATE:20210328T030000
TZOFFSETFROM:+0200
TZOFFSETTO:+0100
TZNAME:Europe/Paris CET
END:STANDARD
BEGIN:STANDARD
DTSTART:20211031T020000
RDATE:20220327T030000
TZOFFSETFROM:+0200
TZOFFSETTO:+0100
TZNAME:Europe/Paris CET
END:STANDARD
BEGIN:STANDARD
DTSTART:20221030T020000
RDATE:20230326T030000
TZOFFSETFROM:+0200
TZOFFSETTO:+0100
TZNAME:Europe/Paris CET
END:STANDARD
BEGIN:STANDARD
DTSTART:20231029T020000
RDATE:20240331T030000
TZOFFSETFROM:+0200
TZOFFSETTO:+0100
TZNAME:Europe/Paris CET
END:STANDARD
BEGIN:STANDARD
DTSTART:20241027T020000
RDATE:20250330T030000
TZOFFSETFROM:+0200
TZOFFSETTO:+0100
TZNAME:Europe/Paris CET
END:STANDARD
BEGIN:STANDARD
DTSTART:20251026T020000
RDATE:20260329T030000
TZOFFSETFROM:+0200
TZOFFSETTO:+0100
TZNAME:Europe/Paris CET
END:STANDARD
BEGIN:STANDARD
DTSTART:20261025T020000
RDATE:20270328T030000
TZOFFSETFROM:+0200
TZOFFSETTO:+0100
TZNAME:Europe/Paris CET
END:STANDARD
BEGIN:DAYLIGHT
DTSTART:20170326T030000
RDATE:20171029T020000
TZOFFSETFROM:+0100
TZOFFSETTO:+0200
TZNAME:Europe/Paris CEST
END:DAYLIGHT
BEGIN:DAYLIGHT
DTSTART:20180325T030000
RDATE:20181028T020000
TZOFFSETFROM:+0100
TZOFFSETTO:+0200
TZNAME:Europe/Paris CEST
END:DAYLIGHT
BEGIN:DAYLIGHT
DTSTART:20190331T030000
RDATE:20191027T020000
TZOFFSETFROM:+0100
TZOFFSETTO:+0200
TZNAME:Europe/Paris CEST
END:DAYLIGHT
BEGIN:DAYLIGHT
DTSTART:20200329T030000
RDATE:20201025T020000
TZOFFSETFROM:+0100
TZOFFSETTO:+0200
TZNAME:Europe/Paris CEST
END:DAYLIGHT
BEGIN:DAYLIGHT
DTSTART:20210328T030000
RDATE:20211031T020000
TZOFFSETFROM:+0100
TZOFFSETTO:+0200
TZNAME:Europe/Paris CEST
END:DAYLIGHT
BEGIN:DAYLIGHT
DTSTART:20220327T030000
RDATE:20221030T020000
TZOFFSETFROM:+0100
TZOFFSETTO:+0200
TZNAME:Europe/Paris CEST
END:DAYLIGHT
BEGIN:DAYLIGHT
DTSTART:20230326T030000
RDATE:20231029T020000
TZOFFSETFROM:+0100
TZOFFSETTO:+0200
TZNAME:Europe/Paris CEST
END:DAYLIGHT
BEGIN:DAYLIGHT
DTSTART:20240331T030000
RDATE:20241027T020000
TZOFFSETFROM:+0100
TZOFFSETTO:+0200
TZNAME:Europe/Paris CEST
END:DAYLIGHT
BEGIN:DAYLIGHT
DTSTART:20250330T030000
RDATE:20251026T020000
TZOFFSETFROM:+0100
TZOFFSETTO:+0200
TZNAME:Europe/Paris CEST
END:DAYLIGHT
BEGIN:DAYLIGHT
DTSTART:20260329T030000
RDATE:20261025T020000
TZOFFSETFROM:+0100
TZOFFSETTO:+0200
TZNAME:Europe/Paris CEST
END:DAYLIGHT
END:VTIMEZONE
BEGIN:VEVENT
UID:3ba35fcc47a7a74f84aee1b0ac7c25fb
CATEGORIES:Compétition Ski de Fond
CREATED:20171121T093310
SUMMARY:GRAND PRIX DE LA BRESSE BIG-MAT-ATOMIC N°3  CRÉDIT-MUTUEL N°2
URL;VALUE=URI:https://skivosges.net/agenda/export-synchronisation/detailevenement/869/-/g
 rand-prix-de-la-bresse-big-mat-atomic-n-3-credit-mutuel-n-2?tmpl=component
DESCRIPTION:GRAND PRIX DE LA BRESSE BIG-MAT-ATOMIC N°3  CRÉDIT-MUTUEL N°2\n - Codex éve
 nement FMVT0030\n - Lieu : STADE GERVAIS POIROT\n - Station : LA BRESSE\n -
  Piste : LA TENINE\n - Organisateur : 14024 LA BRESSAUDE SECTION SKI\n - Co
 urriel : RegularLabs.EmailProtector.unCloak("ep_f69c0346");\n - Téléphone :
  0608855252\n - Délégué Technique : GRANDEMANGE PHILIPPEPériode d'inscripti
 on à l'evènement du samedi 16 décembre 2017 à 00:00 au jeudi 21 décembre 20
 17 à 19:00 (Inscriptions impossibles).Inscriptions ouvertes aux detenteurs 
 des titres Fédéraux valides suivants : Licenciés CompétiteursEpreuves :\n -
  Le samedi 23 décembre 2017\n - Codex épreuve FMVM0031\n - Mass Start (Depa
 rt ligne)\n - Catégorie(s) : U14 (Garçons)\n - Le samedi 23 décembre 2017\n
  - Codex épreuve FMVM0032\n - Mass Start (Depart ligne)\n - Catégorie(s) : 
 U16 (Garçons)\n - Le samedi 23 décembre 2017\n - Codex épreuve FMVF0031\n -
  Mass Start (Depart ligne)\n - Catégorie(s) : U14 (Filles)\n - Le samedi 23
  décembre 2017\n - Codex épreuve FMVM0033\n - Mass Start (Depart ligne)\n -
  Catégorie(s) : U18/U20 (Hommes)\n - Le samedi 23 décembre 2017\n - Codex é
 preuve FMVF0032\n - Mass Start (Depart ligne)\n - Catégorie(s) : U16 (Fille
 s)\n - Le samedi 23 décembre 2017\n - Codex épreuve FMVM0034\n - Mass Start
  (Depart ligne)\n - Catégorie(s) : Senior (Hommes)\n - Le samedi 23 décembr
 e 2017\n - Codex épreuve FMVF0033\n - Mass Start (Depart ligne)\n - Catégor
 ie(s) : U18 a SEN (Dames)\n - Le samedi 23 décembre 2017\n - Codex épreuve 
 FMVM0035\n - Mass Start (Depart ligne)\n - Catégorie(s) : Senior (Hommes)\n
  - Voir les informations dans l'agenda... (/index.php?option=com_jevents&am
 p;task=icalevent.detail&amp;evid=864&amp;Itemid=6283)\n - Vers les résultat
 s... (/index.php?option=com_gskiepreuves&amp;view=afficheresultats&amp;form
 at_option=tous&amp;filter[search]=FMVT0030&amp;filter[date_debut]=23-12-201
 7&amp;filter[date_fin]=23-12-2017&amp;code_activite=FOND&amp;Itemid=6283) C
 et évènement a été importé depuis :https://skivosges.net/agenda/export-sync
 hronisation/detailevenement/869/-/grand-prix-de-la-bresse-big-mat-atomic-n-
 3-credit-mutuel-n-2?tmpl=component (https://skivosges.net/agenda/export-syn
 chronisation/detailevenement/869/-/grand-prix-de-la-bresse-big-mat-atomic-n
 -3-credit-mutuel-n-2?tmpl=component)
X-ALT-DESC;FMTTYPE=text/html:<!-- #gskiepreuve code généré par le plugin jevents pour GskiEpreuves. Ne p
 as modifier cette ligne, ni tout le contenu suivant  #gskiepreuve --><div c
 lass="gski-evenement_infos"><div class="gski-evenement-nom">GRAND PRIX DE L
 A BRESSE BIG-MAT-ATOMIC N°3  CRÉDIT-MUTUEL N°2</div><div class="gski-evenem
 ent-report"></div><ul class="gski-evenement-liste-infos"><li>Codex évenemen
 t FMVT0030</li><li>Lieu : STADE GERVAIS POIROT</li><li>Station : LA BRESSE<
 /li><li>Piste : LA TENINE</li><li>Organisateur : 14024 LA BRESSAUDE SECTION
  SKI</li><li>Courriel : <!-- Cette adresse électronique est protégée contre
  les robots spammeurs. --><span class="cloaked_email ep_f69c0346"><span dat
 a-ep-a="od&#105;l&#101;" data-ep-b="&#102;&#114;"><span data-ep-b="a&#110;g
 e." data-ep-a="&#46;&#109;&#117;&#110;s"><span data-ep-b="&#108;&#98;&#64;&
 #111;&#114;" data-ep-a="c&#104;.s&#99;"></span></span></span></span><script
 >RegularLabs.EmailProtector.unCloak("ep_f69c0346");</script></li><li>Téléph
 one : 0608855252</li><li><span class="gski-evenement-obs">Délégué Technique
  : GRANDEMANGE PHILIPPE</span></li></ul><div class="gski-evenement-infos-2"
 ><div class="gski-evenement-info-inscriptions"><div class="gski-evenement-i
 nscriptions-periodes">Période d'inscription à l'evènement du samedi 16 déce
 mbre 2017 à 00:00 au jeudi 21 décembre 2017 à 19:00 <span class="gski-evene
 ment-inscriptions-impossibles">(Inscriptions impossibles).</span><div class
 ="gski-evenement-inscriptions-types-titres">Inscriptions ouvertes aux deten
 teurs des titres Fédéraux valides suivants : Licenciés Compétiteurs</div></
 div></div><div class="gski-evenement-epreuves"><div class="gski-evenement-e
 preuves-titres">Epreuves :</div><ul class="gski-evenement-epreuves-list"><l
 i><div class="gski-epreuve-date">Le samedi 23 décembre 2017</div><ul class=
 "gski-epreuve-liste-infos"><li>Codex épreuve FMVM0031</li><li>Mass Start (D
 epart ligne)</li><li>Catégorie(s) : U14 (Garçons)</li></ul></li><li><div cl
 ass="gski-epreuve-date">Le samedi 23 décembre 2017</div><ul class="gski-epr
 euve-liste-infos"><li>Codex épreuve FMVM0032</li><li>Mass Start (Depart lig
 ne)</li><li>Catégorie(s) : U16 (Garçons)</li></ul></li><li><div class="gski
 -epreuve-date">Le samedi 23 décembre 2017</div><ul class="gski-epreuve-list
 e-infos"><li>Codex épreuve FMVF0031</li><li>Mass Start (Depart ligne)</li><
 li>Catégorie(s) : U14 (Filles)</li></ul></li><li><div class="gski-epreuve-d
 ate">Le samedi 23 décembre 2017</div><ul class="gski-epreuve-liste-infos"><
 li>Codex épreuve FMVM0033</li><li>Mass Start (Depart ligne)</li><li>Catégor
 ie(s) : U18/U20 (Hommes)</li></ul></li><li><div class="gski-epreuve-date">L
 e samedi 23 décembre 2017</div><ul class="gski-epreuve-liste-infos"><li>Cod
 ex épreuve FMVF0032</li><li>Mass Start (Depart ligne)</li><li>Catégorie(s) 
 : U16 (Filles)</li></ul></li><li><div class="gski-epreuve-date">Le samedi 2
 3 décembre 2017</div><ul class="gski-epreuve-liste-infos"><li>Codex épreuve
  FMVM0034</li><li>Mass Start (Depart ligne)</li><li>Catégorie(s) : Senior (
 Hommes)</li></ul></li><li><div class="gski-epreuve-date">Le samedi 23 décem
 bre 2017</div><ul class="gski-epreuve-liste-infos"><li>Codex épreuve FMVF00
 33</li><li>Mass Start (Depart ligne)</li><li>Catégorie(s) : U18 a SEN (Dame
 s)</li></ul></li><li><div class="gski-epreuve-date">Le samedi 23 décembre 2
 017</div><ul class="gski-epreuve-liste-infos"><li>Codex épreuve FMVM0035</l
 i><li>Mass Start (Depart ligne)</li><li>Catégorie(s) : Senior (Hommes)</li>
 </ul></li></ul></div><div class="gskiepreuves-links"><ul><li><a href="https
 ://skivosges.net/index.php?option=com_jevents&task=icalevent.detail&evid=86
 4&Itemid=6283">Voir les informations dans l'agenda...</a></li><li><a href="
 https://skivosges.net/index.php?option=com_gskiepreuves&view=afficheresulta
 ts&format_option=tous&filter[search]=FMVT0030&filter[date_debut]=23-12-2017
 &filter[date_fin]=23-12-2017&code_activite=FOND&Itemid=6283">Vers les résul
 tats...</a></li></ul></div></div"><!-- #/gskiepreuve fin du dode généré par
  le plugin jevents pour GskiEpreuves. . Ne pas modifier cette ligne, ni tou
 t le contenu précedant.  #/gskiepreuve --> <a href="https://skivosges.net/a
 genda/export-synchronisation/detailevenement/869/-/grand-prix-de-la-bresse-
 big-mat-atomic-n-3-credit-mutuel-n-2?tmpl=component">Cet évènement a été im
 porté depuis :https://skivosges.net/agenda/export-synchronisation/detaileve
 nement/869/-/grand-prix-de-la-bresse-big-mat-atomic-n-3-credit-mutuel-n-2?t
 mpl=component</a>DTSTAMP:20260420T183812
DTSTART;TZID=Europe/Paris;VALUE=DATE:20171223
DTEND;TZID=Europe/Paris;VALUE=DATE:20171224
SEQUENCE:0
TRANSP:OPAQUE
END:VEVENT
END:VCALENDAR