BEGIN:VCALENDAR
VERSION:2.0
PRODID:-//jEvents 2.0 for Joomla//EN
CALSCALE:GREGORIAN
METHOD:PUBLISH
BEGIN:VTIMEZONE
TZID:Europe/Paris
BEGIN:STANDARD
DTSTART:20161216T000000
RDATE:20170326T030000
TZOFFSETFROM:+0200
TZOFFSETTO:+0100
TZNAME:Europe/Paris CET
END:STANDARD
BEGIN:STANDARD
DTSTART:20171029T020000
RDATE:20180325T030000
TZOFFSETFROM:+0200
TZOFFSETTO:+0100
TZNAME:Europe/Paris CET
END:STANDARD
BEGIN:STANDARD
DTSTART:20181028T020000
RDATE:20190331T030000
TZOFFSETFROM:+0200
TZOFFSETTO:+0100
TZNAME:Europe/Paris CET
END:STANDARD
BEGIN:STANDARD
DTSTART:20191027T020000
RDATE:20200329T030000
TZOFFSETFROM:+0200
TZOFFSETTO:+0100
TZNAME:Europe/Paris CET
END:STANDARD
BEGIN:STANDARD
DTSTART:20201025T020000
RDATE:20210328T030000
TZOFFSETFROM:+0200
TZOFFSETTO:+0100
TZNAME:Europe/Paris CET
END:STANDARD
BEGIN:STANDARD
DTSTART:20211031T020000
RDATE:20220327T030000
TZOFFSETFROM:+0200
TZOFFSETTO:+0100
TZNAME:Europe/Paris CET
END:STANDARD
BEGIN:STANDARD
DTSTART:20221030T020000
RDATE:20230326T030000
TZOFFSETFROM:+0200
TZOFFSETTO:+0100
TZNAME:Europe/Paris CET
END:STANDARD
BEGIN:STANDARD
DTSTART:20231029T020000
RDATE:20240331T030000
TZOFFSETFROM:+0200
TZOFFSETTO:+0100
TZNAME:Europe/Paris CET
END:STANDARD
BEGIN:STANDARD
DTSTART:20241027T020000
RDATE:20250330T030000
TZOFFSETFROM:+0200
TZOFFSETTO:+0100
TZNAME:Europe/Paris CET
END:STANDARD
BEGIN:STANDARD
DTSTART:20251026T020000
RDATE:20260329T030000
TZOFFSETFROM:+0200
TZOFFSETTO:+0100
TZNAME:Europe/Paris CET
END:STANDARD
BEGIN:STANDARD
DTSTART:20261025T020000
RDATE:20270328T030000
TZOFFSETFROM:+0200
TZOFFSETTO:+0100
TZNAME:Europe/Paris CET
END:STANDARD
BEGIN:DAYLIGHT
DTSTART:20170326T030000
RDATE:20171029T020000
TZOFFSETFROM:+0100
TZOFFSETTO:+0200
TZNAME:Europe/Paris CEST
END:DAYLIGHT
BEGIN:DAYLIGHT
DTSTART:20180325T030000
RDATE:20181028T020000
TZOFFSETFROM:+0100
TZOFFSETTO:+0200
TZNAME:Europe/Paris CEST
END:DAYLIGHT
BEGIN:DAYLIGHT
DTSTART:20190331T030000
RDATE:20191027T020000
TZOFFSETFROM:+0100
TZOFFSETTO:+0200
TZNAME:Europe/Paris CEST
END:DAYLIGHT
BEGIN:DAYLIGHT
DTSTART:20200329T030000
RDATE:20201025T020000
TZOFFSETFROM:+0100
TZOFFSETTO:+0200
TZNAME:Europe/Paris CEST
END:DAYLIGHT
BEGIN:DAYLIGHT
DTSTART:20210328T030000
RDATE:20211031T020000
TZOFFSETFROM:+0100
TZOFFSETTO:+0200
TZNAME:Europe/Paris CEST
END:DAYLIGHT
BEGIN:DAYLIGHT
DTSTART:20220327T030000
RDATE:20221030T020000
TZOFFSETFROM:+0100
TZOFFSETTO:+0200
TZNAME:Europe/Paris CEST
END:DAYLIGHT
BEGIN:DAYLIGHT
DTSTART:20230326T030000
RDATE:20231029T020000
TZOFFSETFROM:+0100
TZOFFSETTO:+0200
TZNAME:Europe/Paris CEST
END:DAYLIGHT
BEGIN:DAYLIGHT
DTSTART:20240331T030000
RDATE:20241027T020000
TZOFFSETFROM:+0100
TZOFFSETTO:+0200
TZNAME:Europe/Paris CEST
END:DAYLIGHT
BEGIN:DAYLIGHT
DTSTART:20250330T030000
RDATE:20251026T020000
TZOFFSETFROM:+0100
TZOFFSETTO:+0200
TZNAME:Europe/Paris CEST
END:DAYLIGHT
BEGIN:DAYLIGHT
DTSTART:20260329T030000
RDATE:20261025T020000
TZOFFSETFROM:+0100
TZOFFSETTO:+0200
TZNAME:Europe/Paris CEST
END:DAYLIGHT
END:VTIMEZONE
BEGIN:VEVENT
UID:09deca6e38934075f1cdf2cb7ba30ca9
CATEGORIES:Compétition Ski Alpin
CREATED:20171121T093310
SUMMARY:Open Adulte  Coupe de L'ESF
URL;VALUE=URI:https://skivosges.net/agenda/export-synchronisation/detailevenement/870/-/o
 pen-adulte-coupe-de-lesf?tmpl=component
DESCRIPTION:<!-- #gskiepreuve code généré par le plugin jevents pour GskiEpreuves. Ne p
 as modifier cette ligne, ni tout le contenu suivant  #gskiepreuve --><div c
 lass="gski-evenement_infos"><div class="gski-evenement-nom">Open Adulte  Co
 upe de L'ESF</div><div class="gski-evenement-report"></div><ul class="gski-
 evenement-liste-infos"><li>Codex évenement AMVT0040</li><li>Station : LAC B
 LANC</li><li>Piste : Stade</li><li>Organisateur : 14251 SKI CLUB LE BONHOMM
 E</li><li>Courriel : <!-- Cette adresse électronique est protégée contre le
 s robots spammeurs. --><span class="cloaked_email ep_64eaf2f5"><span data-e
 p-b="&#46;&#102;&#114;" data-ep-a="&#99;&#104;&#114;&#105;st"><span data-ep
 -a="&#105;a&#110;&#46;&#99;&#104;" data-ep-b="&#111;r&#97;n&#103;&#101;"><s
 pan data-ep-a="&#97;f&#105;&#111;&#108;&#97;" data-ep-b="v&#105;&#99;hc&#64
 ;"></span></span></span></span><script>RegularLabs.EmailProtector.unCloak("
 ep_64eaf2f5");</script></li><li>Téléphone : 0689793839</li><li><span class=
 "gski-evenement-obs">Délégué Technique : NUSSBAUM GERARD</span></li></ul><d
 iv class="gski-evenement-infos-2"><div class="gski-evenement-info-inscripti
 ons"><div class="gski-evenement-inscriptions-periodes">Période d'inscriptio
 n à l'evènement du dimanche 10 décembre 2017 à 00:00 au vendredi 15 décembr
 e 2017 à 20:30 <span class="gski-evenement-inscriptions-impossibles">(Inscr
 iptions impossibles).</span><div class="gski-evenement-inscriptions-types-t
 itres">Inscriptions ouvertes aux detenteurs des titres Fédéraux valides sui
 vants : Licenciés Compétiteurs</div></div></div><div class="gski-evenement-
 epreuves"><div class="gski-evenement-epreuves-titres">Epreuves :</div><ul c
 lass="gski-evenement-epreuves-list"><li><div class="gski-epreuve-date">Le d
 imanche 17 décembre 2017</div><ul class="gski-epreuve-liste-infos"><li>Code
 x épreuve AMVF0041</li><li>Slalom Geant</li><li>Catégorie(s) : U16 (Filles)
 </li></ul></li><li><div class="gski-epreuve-date">Le dimanche 17 décembre 2
 017</div><ul class="gski-epreuve-liste-infos"><li>Codex épreuve AMVM0041</l
 i><li>Slalom Geant</li><li>Catégorie(s) : U16 (Garçons)</li></ul></li><li><
 div class="gski-epreuve-date">Le dimanche 17 décembre 2017</div><ul class="
 gski-epreuve-liste-infos"><li>Codex épreuve AMVF0042</li><li>Slalom Geant</
 li><li>Catégorie(s) : U18 a Masters (Dames)</li></ul></li><li><div class="g
 ski-epreuve-date">Le dimanche 17 décembre 2017</div><ul class="gski-epreuve
 -liste-infos"><li>Codex épreuve AMVM0042</li><li>Slalom Geant</li><li>Catég
 orie(s) : U18 a Masters (Hommes)</li></ul></li></ul></div><div class="gskie
 preuves-links"><ul><li><a href="/index.php?option=com_jevents&task=icaleven
 t.detail&evid=865&Itemid=6283">Voir les informations dans l'agenda...</a></
 li><li><a href="/index.php?option=com_gskiepreuves&view=afficheresultats&fo
 rmat_option=tous&filter[search]=AMVT0040&filter[date_debut]=17-12-2017&filt
 er[date_fin]=17-12-2017&code_activite=ALP&Itemid=6283">Vers les résultats..
 .</a></li></ul></div></div"><!-- #/gskiepreuve fin du dode généré par le pl
 ugin jevents pour GskiEpreuves. . Ne pas modifier cette ligne, ni tout le c
 ontenu précedant.  #/gskiepreuve --> <a href="https://skivosges.net/agenda/
 export-synchronisation/detailevenement/870/-/open-adulte-coupe-de-lesf?tmpl
 =component">Cet évènement a été importé depuis :https://skivosges.net/agend
 a/export-synchronisation/detailevenement/870/-/open-adulte-coupe-de-lesf?tm
 pl=component</a>
X-ALT-DESC;FMTTYPE=text/html:<!-- #gskiepreuve code généré par le plugin jevents pour GskiEpreuves. Ne p
 as modifier cette ligne, ni tout le contenu suivant  #gskiepreuve --><div c
 lass="gski-evenement_infos"><div class="gski-evenement-nom">Open Adulte  Co
 upe de L'ESF</div><div class="gski-evenement-report"></div><ul class="gski-
 evenement-liste-infos"><li>Codex évenement AMVT0040</li><li>Station : LAC B
 LANC</li><li>Piste : Stade</li><li>Organisateur : 14251 SKI CLUB LE BONHOMM
 E</li><li>Courriel : <!-- Cette adresse électronique est protégée contre le
 s robots spammeurs. --><span class="cloaked_email ep_64eaf2f5"><span data-e
 p-b="&#46;&#102;&#114;" data-ep-a="&#99;&#104;&#114;&#105;st"><span data-ep
 -a="&#105;a&#110;&#46;&#99;&#104;" data-ep-b="&#111;r&#97;n&#103;&#101;"><s
 pan data-ep-a="&#97;f&#105;&#111;&#108;&#97;" data-ep-b="v&#105;&#99;hc&#64
 ;"></span></span></span></span><script>RegularLabs.EmailProtector.unCloak("
 ep_64eaf2f5");</script></li><li>Téléphone : 0689793839</li><li><span class=
 "gski-evenement-obs">Délégué Technique : NUSSBAUM GERARD</span></li></ul><d
 iv class="gski-evenement-infos-2"><div class="gski-evenement-info-inscripti
 ons"><div class="gski-evenement-inscriptions-periodes">Période d'inscriptio
 n à l'evènement du dimanche 10 décembre 2017 à 00:00 au vendredi 15 décembr
 e 2017 à 20:30 <span class="gski-evenement-inscriptions-impossibles">(Inscr
 iptions impossibles).</span><div class="gski-evenement-inscriptions-types-t
 itres">Inscriptions ouvertes aux detenteurs des titres Fédéraux valides sui
 vants : Licenciés Compétiteurs</div></div></div><div class="gski-evenement-
 epreuves"><div class="gski-evenement-epreuves-titres">Epreuves :</div><ul c
 lass="gski-evenement-epreuves-list"><li><div class="gski-epreuve-date">Le d
 imanche 17 décembre 2017</div><ul class="gski-epreuve-liste-infos"><li>Code
 x épreuve AMVF0041</li><li>Slalom Geant</li><li>Catégorie(s) : U16 (Filles)
 </li></ul></li><li><div class="gski-epreuve-date">Le dimanche 17 décembre 2
 017</div><ul class="gski-epreuve-liste-infos"><li>Codex épreuve AMVM0041</l
 i><li>Slalom Geant</li><li>Catégorie(s) : U16 (Garçons)</li></ul></li><li><
 div class="gski-epreuve-date">Le dimanche 17 décembre 2017</div><ul class="
 gski-epreuve-liste-infos"><li>Codex épreuve AMVF0042</li><li>Slalom Geant</
 li><li>Catégorie(s) : U18 a Masters (Dames)</li></ul></li><li><div class="g
 ski-epreuve-date">Le dimanche 17 décembre 2017</div><ul class="gski-epreuve
 -liste-infos"><li>Codex épreuve AMVM0042</li><li>Slalom Geant</li><li>Catég
 orie(s) : U18 a Masters (Hommes)</li></ul></li></ul></div><div class="gskie
 preuves-links"><ul><li><a href="https://skivosges.net/index.php?option=com_
 jevents&task=icalevent.detail&evid=865&Itemid=6283">Voir les informations d
 ans l'agenda...</a></li><li><a href="https://skivosges.net/index.php?option
 =com_gskiepreuves&view=afficheresultats&format_option=tous&filter[search]=A
 MVT0040&filter[date_debut]=17-12-2017&filter[date_fin]=17-12-2017&code_acti
 vite=ALP&Itemid=6283">Vers les résultats...</a></li></ul></div></div"><!-- 
 #/gskiepreuve fin du dode généré par le plugin jevents pour GskiEpreuves. .
  Ne pas modifier cette ligne, ni tout le contenu précedant.  #/gskiepreuve 
 --> <a href="https://skivosges.net/agenda/export-synchronisation/detaileven
 ement/870/-/open-adulte-coupe-de-lesf?tmpl=component">Cet évènement a été i
 mporté depuis :https://skivosges.net/agenda/export-synchronisation/detailev
 enement/870/-/open-adulte-coupe-de-lesf?tmpl=component</a>DTSTAMP:20260420T221511
DTSTART;TZID=Europe/Paris;VALUE=DATE:20171217
DTEND;TZID=Europe/Paris;VALUE=DATE:20171218
SEQUENCE:0
TRANSP:OPAQUE
END:VEVENT
END:VCALENDAR